BEGIN:VCALENDAR
VERSION:2.0
PRODID:-//De Schalm - ECPv6.15.18//NONSGML v1.0//EN
CALSCALE:GREGORIAN
METHOD:PUBLISH
X-WR-CALNAME:De Schalm
X-ORIGINAL-URL:https://schalmdemeern.nl
X-WR-CALDESC:Evenementen voor De Schalm
REFRESH-INTERVAL;VALUE=DURATION:PT1H
X-Robots-Tag:noindex
X-PUBLISHED-TTL:PT1H
BEGIN:VTIMEZONE
TZID:UTC
BEGIN:STANDARD
TZOFFSETFROM:+0000
TZOFFSETTO:+0000
TZNAME:UTC
DTSTART:20250101T000000
END:STANDARD
END:VTIMEZONE
BEGIN:VEVENT
DTSTART;TZID=UTC:20260509T090000
DTEND;TZID=UTC:20260509T160000
DTSTAMP:20260421T191852
CREATED:20260228T200405Z
LAST-MODIFIED:20260330T124030Z
UID:10004991-1778317200-1778342400@schalmdemeern.nl
SUMMARY:HCC! TrainSim🛤️🚆
DESCRIPTION:HCC!trainsim – Home
URL:https://schalmdemeern.nl/event/hcc-trainsim%f0%9f%9b%a4%ef%b8%8f%f0%9f%9a%86/2026-05-09/
LOCATION:zaal 2 en 3
END:VEVENT
BEGIN:VEVENT
DTSTART;TZID=UTC:20260530T090000
DTEND;TZID=UTC:20260530T160000
DTSTAMP:20260421T191852
CREATED:20260228T200405Z
LAST-MODIFIED:20260330T124030Z
UID:10004992-1780131600-1780156800@schalmdemeern.nl
SUMMARY:HCC! TrainSim🛤️🚆
DESCRIPTION:HCC!trainsim – Home
URL:https://schalmdemeern.nl/event/hcc-trainsim%f0%9f%9b%a4%ef%b8%8f%f0%9f%9a%86/2026-05-30/
LOCATION:zaal 2 en 3
END:VEVENT
END:VCALENDAR