BEGIN:VCALENDAR
VERSION:2.0
PRODID:-//De Schalm - ECPv6.15.18//NONSGML v1.0//EN
CALSCALE:GREGORIAN
METHOD:PUBLISH
X-WR-CALNAME:De Schalm
X-ORIGINAL-URL:https://schalmdemeern.nl
X-WR-CALDESC:Evenementen voor De Schalm
REFRESH-INTERVAL;VALUE=DURATION:PT1H
X-Robots-Tag:noindex
X-PUBLISHED-TTL:PT1H
BEGIN:VTIMEZONE
TZID:UTC
BEGIN:STANDARD
TZOFFSETFROM:+0000
TZOFFSETTO:+0000
TZNAME:UTC
DTSTART:20240101T000000
END:STANDARD
END:VTIMEZONE
BEGIN:VEVENT
DTSTART;TZID=UTC:20251014T193000
DTEND;TZID=UTC:20251014T230000
DTSTAMP:20260422T183355
CREATED:20250924T185126Z
LAST-MODIFIED:20250924T185126Z
UID:10000016-1760470200-1760482800@schalmdemeern.nl
SUMMARY:Biljartavond De Vier Banden
DESCRIPTION:Biljartvereniging De Vier Banden is gevestigd in buurthuis De Schalm aan de Oranjelaan 10 in De Meern. \nDinsdagavond is onze clubavond\, we spelen dan de clubcompetitie. Dit houdt in dat wij binnen de vereniging tegen elkaar spelen op basis van ons moyenne. \nNaast de jaarlijkse clubcompetitie kent de club ook nog enkele andere toernooien. Wij hebben toernooien die toegankelijk zijn voor iedereen maar ook toernooien die alleen zijn voor (oud-)leden. \nWij hebben nog plaats voor enkele leden. Dus heeft u interesse kom dan eens langs. Het mag duidelijk zijn dat de biljartsport is bedoeld voor JONG en OUD\, dus ook jongeren zijn welkom.
URL:https://schalmdemeern.nl/event/biljartavond-de-vier-banden-2/
LOCATION:Biljartzaal
CATEGORIES:Bijeenkomst
END:VEVENT
BEGIN:VEVENT
DTSTART;TZID=UTC:20251007T193000
DTEND;TZID=UTC:20251007T230000
DTSTAMP:20260422T183355
CREATED:20250924T184950Z
LAST-MODIFIED:20250924T184950Z
UID:10000015-1759865400-1759878000@schalmdemeern.nl
SUMMARY:Biljartavond De Vier Banden
DESCRIPTION:Biljartvereniging De Vier Banden is gevestigd in buurthuis De Schalm aan de Oranjelaan 10 in De Meern. \nDinsdagavond is onze clubavond\, we spelen dan de clubcompetitie. Dit houdt in dat wij binnen de vereniging tegen elkaar spelen op basis van ons moyenne. \nNaast de jaarlijkse clubcompetitie kent de club ook nog enkele andere toernooien. Wij hebben toernooien die toegankelijk zijn voor iedereen maar ook toernooien die alleen zijn voor (oud-)leden. \nWij hebben nog plaats voor enkele leden. Dus heeft u interesse kom dan eens langs. Het mag duidelijk zijn dat de biljartsport is bedoeld voor JONG en OUD\, dus ook jongeren zijn welkom.
URL:https://schalmdemeern.nl/event/biljartavond-de-vier-banden/
LOCATION:Biljartzaal
CATEGORIES:Bijeenkomst
ORGANIZER;CN="De Schalm":MAILTO:info@schalmdemeern.nl
END:VEVENT
END:VCALENDAR