BEGIN:VCALENDAR
VERSION:2.0
PRODID:-//De Schalm - ECPv6.15.18//NONSGML v1.0//EN
CALSCALE:GREGORIAN
METHOD:PUBLISH
X-WR-CALNAME:De Schalm
X-ORIGINAL-URL:https://schalmdemeern.nl
X-WR-CALDESC:Evenementen voor De Schalm
REFRESH-INTERVAL;VALUE=DURATION:PT1H
X-Robots-Tag:noindex
X-PUBLISHED-TTL:PT1H
BEGIN:VTIMEZONE
TZID:UTC
BEGIN:STANDARD
TZOFFSETFROM:+0000
TZOFFSETTO:+0000
TZNAME:UTC
DTSTART:20250101T000000
END:STANDARD
END:VTIMEZONE
BEGIN:VEVENT
DTSTART;TZID=UTC:20260508T153000
DTEND;TZID=UTC:20260508T163000
DTSTAMP:20260426T042514
CREATED:20260109T152834Z
LAST-MODIFIED:20260109T154223Z
UID:10001278-1778254200-1778257800@schalmdemeern.nl
SUMMARY:🤩KIDS DISCO!🤩 VAN 15:30 - 16:30 UUR
DESCRIPTION:
URL:https://schalmdemeern.nl/event/%f0%9f%a4%a9kids-disco%f0%9f%a4%a9-van-1530-1630-uur/2026-05-08/
LOCATION:Theater zaal
ATTACH;FMTTYPE=image/jpeg:https://schalmdemeern.nl/wp-content/uploads/2026/01/Kids-Disco-jaaroverzicht-2026.jpg
ORGANIZER;CN="De Schalm":MAILTO:info@schalmdemeern.nl
END:VEVENT
END:VCALENDAR