BEGIN:VCALENDAR
VERSION:2.0
PRODID:-//De Schalm - ECPv6.15.18//NONSGML v1.0//EN
CALSCALE:GREGORIAN
METHOD:PUBLISH
X-WR-CALNAME:De Schalm
X-ORIGINAL-URL:https://schalmdemeern.nl
X-WR-CALDESC:Evenementen voor De Schalm
REFRESH-INTERVAL;VALUE=DURATION:PT1H
X-Robots-Tag:noindex
X-PUBLISHED-TTL:PT1H
BEGIN:VTIMEZONE
TZID:UTC
BEGIN:STANDARD
TZOFFSETFROM:+0000
TZOFFSETTO:+0000
TZNAME:UTC
DTSTART:20250101T000000
END:STANDARD
END:VTIMEZONE
BEGIN:VEVENT
DTSTART;TZID=UTC:20260424T100000
DTEND;TZID=UTC:20260424T140000
DTSTAMP:20260422T001743
CREATED:20251230T131152Z
LAST-MODIFIED:20260309T131703Z
UID:10000760-1777024800-1777039200@schalmdemeern.nl
SUMMARY:Haak & Brei Café
DESCRIPTION:
URL:https://schalmdemeern.nl/event/haak-brei-cafe/2026-04-24/
LOCATION:Barzaal
ORGANIZER;CN="De Schalm":MAILTO:info@schalmdemeern.nl
END:VEVENT
BEGIN:VEVENT
DTSTART;TZID=UTC:20260501T100000
DTEND;TZID=UTC:20260501T140000
DTSTAMP:20260422T001743
CREATED:20251230T131152Z
LAST-MODIFIED:20260309T131703Z
UID:10000761-1777629600-1777644000@schalmdemeern.nl
SUMMARY:Haak & Brei Café
DESCRIPTION:
URL:https://schalmdemeern.nl/event/haak-brei-cafe/2026-05-01/
LOCATION:Barzaal
ORGANIZER;CN="De Schalm":MAILTO:info@schalmdemeern.nl
END:VEVENT
BEGIN:VEVENT
DTSTART;TZID=UTC:20260508T100000
DTEND;TZID=UTC:20260508T140000
DTSTAMP:20260422T001743
CREATED:20251230T131152Z
LAST-MODIFIED:20260309T131703Z
UID:10000762-1778234400-1778248800@schalmdemeern.nl
SUMMARY:Haak & Brei Café
DESCRIPTION:
URL:https://schalmdemeern.nl/event/haak-brei-cafe/2026-05-08/
LOCATION:Barzaal
ORGANIZER;CN="De Schalm":MAILTO:info@schalmdemeern.nl
END:VEVENT
BEGIN:VEVENT
DTSTART;TZID=UTC:20260515T100000
DTEND;TZID=UTC:20260515T140000
DTSTAMP:20260422T001743
CREATED:20251230T131152Z
LAST-MODIFIED:20260309T131703Z
UID:10000763-1778839200-1778853600@schalmdemeern.nl
SUMMARY:Haak & Brei Café
DESCRIPTION:
URL:https://schalmdemeern.nl/event/haak-brei-cafe/2026-05-15/
LOCATION:Barzaal
ORGANIZER;CN="De Schalm":MAILTO:info@schalmdemeern.nl
END:VEVENT
BEGIN:VEVENT
DTSTART;TZID=UTC:20260522T100000
DTEND;TZID=UTC:20260522T140000
DTSTAMP:20260422T001743
CREATED:20251230T131152Z
LAST-MODIFIED:20260309T131703Z
UID:10000764-1779444000-1779458400@schalmdemeern.nl
SUMMARY:Haak & Brei Café
DESCRIPTION:
URL:https://schalmdemeern.nl/event/haak-brei-cafe/2026-05-22/
LOCATION:Barzaal
ORGANIZER;CN="De Schalm":MAILTO:info@schalmdemeern.nl
END:VEVENT
BEGIN:VEVENT
DTSTART;TZID=UTC:20260529T100000
DTEND;TZID=UTC:20260529T140000
DTSTAMP:20260422T001743
CREATED:20251230T131152Z
LAST-MODIFIED:20260309T131703Z
UID:10000765-1780048800-1780063200@schalmdemeern.nl
SUMMARY:Haak & Brei Café
DESCRIPTION:
URL:https://schalmdemeern.nl/event/haak-brei-cafe/2026-05-29/
LOCATION:Barzaal
ORGANIZER;CN="De Schalm":MAILTO:info@schalmdemeern.nl
END:VEVENT
BEGIN:VEVENT
DTSTART;TZID=UTC:20260605T100000
DTEND;TZID=UTC:20260605T140000
DTSTAMP:20260422T001743
CREATED:20251230T131152Z
LAST-MODIFIED:20260309T131703Z
UID:10000766-1780653600-1780668000@schalmdemeern.nl
SUMMARY:Haak & Brei Café
DESCRIPTION:
URL:https://schalmdemeern.nl/event/haak-brei-cafe/2026-06-05/
LOCATION:Barzaal
ORGANIZER;CN="De Schalm":MAILTO:info@schalmdemeern.nl
END:VEVENT
BEGIN:VEVENT
DTSTART;TZID=UTC:20260612T100000
DTEND;TZID=UTC:20260612T140000
DTSTAMP:20260422T001743
CREATED:20251230T131152Z
LAST-MODIFIED:20260309T131703Z
UID:10000767-1781258400-1781272800@schalmdemeern.nl
SUMMARY:Haak & Brei Café
DESCRIPTION:
URL:https://schalmdemeern.nl/event/haak-brei-cafe/2026-06-12/
LOCATION:Barzaal
ORGANIZER;CN="De Schalm":MAILTO:info@schalmdemeern.nl
END:VEVENT
BEGIN:VEVENT
DTSTART;TZID=UTC:20260619T100000
DTEND;TZID=UTC:20260619T140000
DTSTAMP:20260422T001743
CREATED:20251230T131152Z
LAST-MODIFIED:20260309T131703Z
UID:10000768-1781863200-1781877600@schalmdemeern.nl
SUMMARY:Haak & Brei Café
DESCRIPTION:
URL:https://schalmdemeern.nl/event/haak-brei-cafe/2026-06-19/
LOCATION:Barzaal
ORGANIZER;CN="De Schalm":MAILTO:info@schalmdemeern.nl
END:VEVENT
BEGIN:VEVENT
DTSTART;TZID=UTC:20260626T100000
DTEND;TZID=UTC:20260626T140000
DTSTAMP:20260422T001743
CREATED:20251230T131152Z
LAST-MODIFIED:20260309T131703Z
UID:10000769-1782468000-1782482400@schalmdemeern.nl
SUMMARY:Haak & Brei Café
DESCRIPTION:
URL:https://schalmdemeern.nl/event/haak-brei-cafe/2026-06-26/
LOCATION:Barzaal
ORGANIZER;CN="De Schalm":MAILTO:info@schalmdemeern.nl
END:VEVENT
BEGIN:VEVENT
DTSTART;TZID=UTC:20260703T100000
DTEND;TZID=UTC:20260703T140000
DTSTAMP:20260422T001743
CREATED:20251230T131152Z
LAST-MODIFIED:20260309T131703Z
UID:10000770-1783072800-1783087200@schalmdemeern.nl
SUMMARY:Haak & Brei Café
DESCRIPTION:
URL:https://schalmdemeern.nl/event/haak-brei-cafe/2026-07-03/
LOCATION:Barzaal
ORGANIZER;CN="De Schalm":MAILTO:info@schalmdemeern.nl
END:VEVENT
BEGIN:VEVENT
DTSTART;TZID=UTC:20260710T100000
DTEND;TZID=UTC:20260710T140000
DTSTAMP:20260422T001743
CREATED:20251230T131152Z
LAST-MODIFIED:20260309T131703Z
UID:10000771-1783677600-1783692000@schalmdemeern.nl
SUMMARY:Haak & Brei Café
DESCRIPTION:
URL:https://schalmdemeern.nl/event/haak-brei-cafe/2026-07-10/
LOCATION:Barzaal
ORGANIZER;CN="De Schalm":MAILTO:info@schalmdemeern.nl
END:VEVENT
BEGIN:VEVENT
DTSTART;TZID=UTC:20260717T100000
DTEND;TZID=UTC:20260717T140000
DTSTAMP:20260422T001743
CREATED:20251230T131152Z
LAST-MODIFIED:20260309T131703Z
UID:10000772-1784282400-1784296800@schalmdemeern.nl
SUMMARY:Haak & Brei Café
DESCRIPTION:
URL:https://schalmdemeern.nl/event/haak-brei-cafe/2026-07-17/
LOCATION:Barzaal
ORGANIZER;CN="De Schalm":MAILTO:info@schalmdemeern.nl
END:VEVENT
BEGIN:VEVENT
DTSTART;TZID=UTC:20260724T100000
DTEND;TZID=UTC:20260724T140000
DTSTAMP:20260422T001743
CREATED:20251230T131152Z
LAST-MODIFIED:20260309T131703Z
UID:10000773-1784887200-1784901600@schalmdemeern.nl
SUMMARY:Haak & Brei Café
DESCRIPTION:
URL:https://schalmdemeern.nl/event/haak-brei-cafe/2026-07-24/
LOCATION:Barzaal
ORGANIZER;CN="De Schalm":MAILTO:info@schalmdemeern.nl
END:VEVENT
BEGIN:VEVENT
DTSTART;TZID=UTC:20260731T100000
DTEND;TZID=UTC:20260731T140000
DTSTAMP:20260422T001743
CREATED:20251230T131152Z
LAST-MODIFIED:20260309T131703Z
UID:10000774-1785492000-1785506400@schalmdemeern.nl
SUMMARY:Haak & Brei Café
DESCRIPTION:
URL:https://schalmdemeern.nl/event/haak-brei-cafe/2026-07-31/
LOCATION:Barzaal
ORGANIZER;CN="De Schalm":MAILTO:info@schalmdemeern.nl
END:VEVENT
BEGIN:VEVENT
DTSTART;TZID=UTC:20260807T100000
DTEND;TZID=UTC:20260807T140000
DTSTAMP:20260422T001743
CREATED:20251230T131152Z
LAST-MODIFIED:20260309T131703Z
UID:10000775-1786096800-1786111200@schalmdemeern.nl
SUMMARY:Haak & Brei Café
DESCRIPTION:
URL:https://schalmdemeern.nl/event/haak-brei-cafe/2026-08-07/
LOCATION:Barzaal
ORGANIZER;CN="De Schalm":MAILTO:info@schalmdemeern.nl
END:VEVENT
BEGIN:VEVENT
DTSTART;TZID=UTC:20260814T100000
DTEND;TZID=UTC:20260814T140000
DTSTAMP:20260422T001743
CREATED:20251230T131152Z
LAST-MODIFIED:20260309T131703Z
UID:10000776-1786701600-1786716000@schalmdemeern.nl
SUMMARY:Haak & Brei Café
DESCRIPTION:
URL:https://schalmdemeern.nl/event/haak-brei-cafe/2026-08-14/
LOCATION:Barzaal
ORGANIZER;CN="De Schalm":MAILTO:info@schalmdemeern.nl
END:VEVENT
BEGIN:VEVENT
DTSTART;TZID=UTC:20260821T100000
DTEND;TZID=UTC:20260821T140000
DTSTAMP:20260422T001743
CREATED:20251230T131152Z
LAST-MODIFIED:20260309T131703Z
UID:10000777-1787306400-1787320800@schalmdemeern.nl
SUMMARY:Haak & Brei Café
DESCRIPTION:
URL:https://schalmdemeern.nl/event/haak-brei-cafe/2026-08-21/
LOCATION:Barzaal
ORGANIZER;CN="De Schalm":MAILTO:info@schalmdemeern.nl
END:VEVENT
BEGIN:VEVENT
DTSTART;TZID=UTC:20260828T100000
DTEND;TZID=UTC:20260828T140000
DTSTAMP:20260422T001743
CREATED:20251230T131152Z
LAST-MODIFIED:20260309T131703Z
UID:10000778-1787911200-1787925600@schalmdemeern.nl
SUMMARY:Haak & Brei Café
DESCRIPTION:
URL:https://schalmdemeern.nl/event/haak-brei-cafe/2026-08-28/
LOCATION:Barzaal
ORGANIZER;CN="De Schalm":MAILTO:info@schalmdemeern.nl
END:VEVENT
BEGIN:VEVENT
DTSTART;TZID=UTC:20260904T100000
DTEND;TZID=UTC:20260904T140000
DTSTAMP:20260422T001743
CREATED:20251230T131152Z
LAST-MODIFIED:20260309T131703Z
UID:10000779-1788516000-1788530400@schalmdemeern.nl
SUMMARY:Haak & Brei Café
DESCRIPTION:
URL:https://schalmdemeern.nl/event/haak-brei-cafe/2026-09-04/
LOCATION:Barzaal
ORGANIZER;CN="De Schalm":MAILTO:info@schalmdemeern.nl
END:VEVENT
BEGIN:VEVENT
DTSTART;TZID=UTC:20260911T100000
DTEND;TZID=UTC:20260911T140000
DTSTAMP:20260422T001743
CREATED:20251230T131152Z
LAST-MODIFIED:20260309T131703Z
UID:10000780-1789120800-1789135200@schalmdemeern.nl
SUMMARY:Haak & Brei Café
DESCRIPTION:
URL:https://schalmdemeern.nl/event/haak-brei-cafe/2026-09-11/
LOCATION:Barzaal
ORGANIZER;CN="De Schalm":MAILTO:info@schalmdemeern.nl
END:VEVENT
BEGIN:VEVENT
DTSTART;TZID=UTC:20260918T100000
DTEND;TZID=UTC:20260918T140000
DTSTAMP:20260422T001743
CREATED:20251230T131152Z
LAST-MODIFIED:20260309T131703Z
UID:10000781-1789725600-1789740000@schalmdemeern.nl
SUMMARY:Haak & Brei Café
DESCRIPTION:
URL:https://schalmdemeern.nl/event/haak-brei-cafe/2026-09-18/
LOCATION:Barzaal
ORGANIZER;CN="De Schalm":MAILTO:info@schalmdemeern.nl
END:VEVENT
BEGIN:VEVENT
DTSTART;TZID=UTC:20260925T100000
DTEND;TZID=UTC:20260925T140000
DTSTAMP:20260422T001743
CREATED:20251230T131152Z
LAST-MODIFIED:20260309T131703Z
UID:10000782-1790330400-1790344800@schalmdemeern.nl
SUMMARY:Haak & Brei Café
DESCRIPTION:
URL:https://schalmdemeern.nl/event/haak-brei-cafe/2026-09-25/
LOCATION:Barzaal
ORGANIZER;CN="De Schalm":MAILTO:info@schalmdemeern.nl
END:VEVENT
BEGIN:VEVENT
DTSTART;TZID=UTC:20261002T100000
DTEND;TZID=UTC:20261002T140000
DTSTAMP:20260422T001743
CREATED:20251230T131152Z
LAST-MODIFIED:20260309T131703Z
UID:10000783-1790935200-1790949600@schalmdemeern.nl
SUMMARY:Haak & Brei Café
DESCRIPTION:
URL:https://schalmdemeern.nl/event/haak-brei-cafe/2026-10-02/
LOCATION:Barzaal
ORGANIZER;CN="De Schalm":MAILTO:info@schalmdemeern.nl
END:VEVENT
BEGIN:VEVENT
DTSTART;TZID=UTC:20261009T100000
DTEND;TZID=UTC:20261009T140000
DTSTAMP:20260422T001743
CREATED:20251230T131152Z
LAST-MODIFIED:20260309T131703Z
UID:10000784-1791540000-1791554400@schalmdemeern.nl
SUMMARY:Haak & Brei Café
DESCRIPTION:
URL:https://schalmdemeern.nl/event/haak-brei-cafe/2026-10-09/
LOCATION:Barzaal
ORGANIZER;CN="De Schalm":MAILTO:info@schalmdemeern.nl
END:VEVENT
BEGIN:VEVENT
DTSTART;TZID=UTC:20261016T100000
DTEND;TZID=UTC:20261016T140000
DTSTAMP:20260422T001743
CREATED:20251230T131152Z
LAST-MODIFIED:20260309T131703Z
UID:10000785-1792144800-1792159200@schalmdemeern.nl
SUMMARY:Haak & Brei Café
DESCRIPTION:
URL:https://schalmdemeern.nl/event/haak-brei-cafe/2026-10-16/
LOCATION:Barzaal
ORGANIZER;CN="De Schalm":MAILTO:info@schalmdemeern.nl
END:VEVENT
BEGIN:VEVENT
DTSTART;TZID=UTC:20261023T100000
DTEND;TZID=UTC:20261023T140000
DTSTAMP:20260422T001743
CREATED:20251230T131152Z
LAST-MODIFIED:20260309T131703Z
UID:10000786-1792749600-1792764000@schalmdemeern.nl
SUMMARY:Haak & Brei Café
DESCRIPTION:
URL:https://schalmdemeern.nl/event/haak-brei-cafe/2026-10-23/
LOCATION:Barzaal
ORGANIZER;CN="De Schalm":MAILTO:info@schalmdemeern.nl
END:VEVENT
BEGIN:VEVENT
DTSTART;TZID=UTC:20261030T100000
DTEND;TZID=UTC:20261030T140000
DTSTAMP:20260422T001743
CREATED:20251230T131152Z
LAST-MODIFIED:20260309T131703Z
UID:10000787-1793354400-1793368800@schalmdemeern.nl
SUMMARY:Haak & Brei Café
DESCRIPTION:
URL:https://schalmdemeern.nl/event/haak-brei-cafe/2026-10-30/
LOCATION:Barzaal
ORGANIZER;CN="De Schalm":MAILTO:info@schalmdemeern.nl
END:VEVENT
BEGIN:VEVENT
DTSTART;TZID=UTC:20261106T100000
DTEND;TZID=UTC:20261106T140000
DTSTAMP:20260422T001743
CREATED:20251230T131152Z
LAST-MODIFIED:20260309T131703Z
UID:10000788-1793959200-1793973600@schalmdemeern.nl
SUMMARY:Haak & Brei Café
DESCRIPTION:
URL:https://schalmdemeern.nl/event/haak-brei-cafe/2026-11-06/
LOCATION:Barzaal
ORGANIZER;CN="De Schalm":MAILTO:info@schalmdemeern.nl
END:VEVENT
BEGIN:VEVENT
DTSTART;TZID=UTC:20261113T100000
DTEND;TZID=UTC:20261113T140000
DTSTAMP:20260422T001743
CREATED:20251230T131152Z
LAST-MODIFIED:20260309T131703Z
UID:10000789-1794564000-1794578400@schalmdemeern.nl
SUMMARY:Haak & Brei Café
DESCRIPTION:
URL:https://schalmdemeern.nl/event/haak-brei-cafe/2026-11-13/
LOCATION:Barzaal
ORGANIZER;CN="De Schalm":MAILTO:info@schalmdemeern.nl
END:VEVENT
END:VCALENDAR