BEGIN:VCALENDAR
VERSION:2.0
PRODID:-//De Schalm - ECPv6.15.18//NONSGML v1.0//EN
CALSCALE:GREGORIAN
METHOD:PUBLISH
X-WR-CALNAME:De Schalm
X-ORIGINAL-URL:https://schalmdemeern.nl
X-WR-CALDESC:Evenementen voor De Schalm
REFRESH-INTERVAL;VALUE=DURATION:PT1H
X-Robots-Tag:noindex
X-PUBLISHED-TTL:PT1H
BEGIN:VTIMEZONE
TZID:UTC
BEGIN:STANDARD
TZOFFSETFROM:+0000
TZOFFSETTO:+0000
TZNAME:UTC
DTSTART:20250101T000000
END:STANDARD
END:VTIMEZONE
BEGIN:VEVENT
DTSTART;TZID=UTC:20260428T100000
DTEND;TZID=UTC:20260428T120000
DTSTAMP:20260422T002128
CREATED:20251224T123937Z
LAST-MODIFIED:20251224T123937Z
UID:10000492-1777370400-1777377600@schalmdemeern.nl
SUMMARY:Yoga
DESCRIPTION:
URL:https://schalmdemeern.nl/event/yoga/2026-04-28/
LOCATION:Zaal 3
ORGANIZER;CN="De Schalm":MAILTO:info@schalmdemeern.nl
END:VEVENT
BEGIN:VEVENT
DTSTART;TZID=UTC:20260505T100000
DTEND;TZID=UTC:20260505T120000
DTSTAMP:20260422T002128
CREATED:20251224T123937Z
LAST-MODIFIED:20251224T123937Z
UID:10000493-1777975200-1777982400@schalmdemeern.nl
SUMMARY:Yoga
DESCRIPTION:
URL:https://schalmdemeern.nl/event/yoga/2026-05-05/
LOCATION:Zaal 3
ORGANIZER;CN="De Schalm":MAILTO:info@schalmdemeern.nl
END:VEVENT
BEGIN:VEVENT
DTSTART;TZID=UTC:20260512T100000
DTEND;TZID=UTC:20260512T120000
DTSTAMP:20260422T002128
CREATED:20251224T123937Z
LAST-MODIFIED:20251224T123937Z
UID:10000494-1778580000-1778587200@schalmdemeern.nl
SUMMARY:Yoga
DESCRIPTION:
URL:https://schalmdemeern.nl/event/yoga/2026-05-12/
LOCATION:Zaal 3
ORGANIZER;CN="De Schalm":MAILTO:info@schalmdemeern.nl
END:VEVENT
BEGIN:VEVENT
DTSTART;TZID=UTC:20260519T100000
DTEND;TZID=UTC:20260519T120000
DTSTAMP:20260422T002128
CREATED:20251224T123937Z
LAST-MODIFIED:20251224T123937Z
UID:10000495-1779184800-1779192000@schalmdemeern.nl
SUMMARY:Yoga
DESCRIPTION:
URL:https://schalmdemeern.nl/event/yoga/2026-05-19/
LOCATION:Zaal 3
ORGANIZER;CN="De Schalm":MAILTO:info@schalmdemeern.nl
END:VEVENT
BEGIN:VEVENT
DTSTART;TZID=UTC:20260526T100000
DTEND;TZID=UTC:20260526T120000
DTSTAMP:20260422T002128
CREATED:20251224T123937Z
LAST-MODIFIED:20251224T123937Z
UID:10000496-1779789600-1779796800@schalmdemeern.nl
SUMMARY:Yoga
DESCRIPTION:
URL:https://schalmdemeern.nl/event/yoga/2026-05-26/
LOCATION:Zaal 3
ORGANIZER;CN="De Schalm":MAILTO:info@schalmdemeern.nl
END:VEVENT
BEGIN:VEVENT
DTSTART;TZID=UTC:20260602T100000
DTEND;TZID=UTC:20260602T120000
DTSTAMP:20260422T002128
CREATED:20251224T123937Z
LAST-MODIFIED:20251224T123937Z
UID:10000497-1780394400-1780401600@schalmdemeern.nl
SUMMARY:Yoga
DESCRIPTION:
URL:https://schalmdemeern.nl/event/yoga/2026-06-02/
LOCATION:Zaal 3
ORGANIZER;CN="De Schalm":MAILTO:info@schalmdemeern.nl
END:VEVENT
BEGIN:VEVENT
DTSTART;TZID=UTC:20260609T100000
DTEND;TZID=UTC:20260609T120000
DTSTAMP:20260422T002128
CREATED:20251224T123937Z
LAST-MODIFIED:20251224T123937Z
UID:10000498-1780999200-1781006400@schalmdemeern.nl
SUMMARY:Yoga
DESCRIPTION:
URL:https://schalmdemeern.nl/event/yoga/2026-06-09/
LOCATION:Zaal 3
ORGANIZER;CN="De Schalm":MAILTO:info@schalmdemeern.nl
END:VEVENT
BEGIN:VEVENT
DTSTART;TZID=UTC:20260616T100000
DTEND;TZID=UTC:20260616T120000
DTSTAMP:20260422T002128
CREATED:20251224T123937Z
LAST-MODIFIED:20251224T123937Z
UID:10000499-1781604000-1781611200@schalmdemeern.nl
SUMMARY:Yoga
DESCRIPTION:
URL:https://schalmdemeern.nl/event/yoga/2026-06-16/
LOCATION:Zaal 3
ORGANIZER;CN="De Schalm":MAILTO:info@schalmdemeern.nl
END:VEVENT
BEGIN:VEVENT
DTSTART;TZID=UTC:20260623T100000
DTEND;TZID=UTC:20260623T120000
DTSTAMP:20260422T002128
CREATED:20251224T123937Z
LAST-MODIFIED:20251224T123937Z
UID:10000500-1782208800-1782216000@schalmdemeern.nl
SUMMARY:Yoga
DESCRIPTION:
URL:https://schalmdemeern.nl/event/yoga/2026-06-23/
LOCATION:Zaal 3
ORGANIZER;CN="De Schalm":MAILTO:info@schalmdemeern.nl
END:VEVENT
BEGIN:VEVENT
DTSTART;TZID=UTC:20260630T100000
DTEND;TZID=UTC:20260630T120000
DTSTAMP:20260422T002128
CREATED:20251224T123937Z
LAST-MODIFIED:20251224T123937Z
UID:10000501-1782813600-1782820800@schalmdemeern.nl
SUMMARY:Yoga
DESCRIPTION:
URL:https://schalmdemeern.nl/event/yoga/2026-06-30/
LOCATION:Zaal 3
ORGANIZER;CN="De Schalm":MAILTO:info@schalmdemeern.nl
END:VEVENT
BEGIN:VEVENT
DTSTART;TZID=UTC:20260707T100000
DTEND;TZID=UTC:20260707T120000
DTSTAMP:20260422T002128
CREATED:20251224T123937Z
LAST-MODIFIED:20251224T123937Z
UID:10000502-1783418400-1783425600@schalmdemeern.nl
SUMMARY:Yoga
DESCRIPTION:
URL:https://schalmdemeern.nl/event/yoga/2026-07-07/
LOCATION:Zaal 3
ORGANIZER;CN="De Schalm":MAILTO:info@schalmdemeern.nl
END:VEVENT
BEGIN:VEVENT
DTSTART;TZID=UTC:20260714T100000
DTEND;TZID=UTC:20260714T120000
DTSTAMP:20260422T002128
CREATED:20251224T123937Z
LAST-MODIFIED:20251224T123937Z
UID:10000503-1784023200-1784030400@schalmdemeern.nl
SUMMARY:Yoga
DESCRIPTION:
URL:https://schalmdemeern.nl/event/yoga/2026-07-14/
LOCATION:Zaal 3
ORGANIZER;CN="De Schalm":MAILTO:info@schalmdemeern.nl
END:VEVENT
BEGIN:VEVENT
DTSTART;TZID=UTC:20260721T100000
DTEND;TZID=UTC:20260721T120000
DTSTAMP:20260422T002128
CREATED:20251224T123937Z
LAST-MODIFIED:20251224T123937Z
UID:10000504-1784628000-1784635200@schalmdemeern.nl
SUMMARY:Yoga
DESCRIPTION:
URL:https://schalmdemeern.nl/event/yoga/2026-07-21/
LOCATION:Zaal 3
ORGANIZER;CN="De Schalm":MAILTO:info@schalmdemeern.nl
END:VEVENT
BEGIN:VEVENT
DTSTART;TZID=UTC:20260728T100000
DTEND;TZID=UTC:20260728T120000
DTSTAMP:20260422T002128
CREATED:20251224T123937Z
LAST-MODIFIED:20251224T123937Z
UID:10000505-1785232800-1785240000@schalmdemeern.nl
SUMMARY:Yoga
DESCRIPTION:
URL:https://schalmdemeern.nl/event/yoga/2026-07-28/
LOCATION:Zaal 3
ORGANIZER;CN="De Schalm":MAILTO:info@schalmdemeern.nl
END:VEVENT
BEGIN:VEVENT
DTSTART;TZID=UTC:20260804T100000
DTEND;TZID=UTC:20260804T120000
DTSTAMP:20260422T002128
CREATED:20251224T123937Z
LAST-MODIFIED:20251224T123937Z
UID:10000506-1785837600-1785844800@schalmdemeern.nl
SUMMARY:Yoga
DESCRIPTION:
URL:https://schalmdemeern.nl/event/yoga/2026-08-04/
LOCATION:Zaal 3
ORGANIZER;CN="De Schalm":MAILTO:info@schalmdemeern.nl
END:VEVENT
BEGIN:VEVENT
DTSTART;TZID=UTC:20260811T100000
DTEND;TZID=UTC:20260811T120000
DTSTAMP:20260422T002128
CREATED:20251224T123937Z
LAST-MODIFIED:20251224T123937Z
UID:10000507-1786442400-1786449600@schalmdemeern.nl
SUMMARY:Yoga
DESCRIPTION:
URL:https://schalmdemeern.nl/event/yoga/2026-08-11/
LOCATION:Zaal 3
ORGANIZER;CN="De Schalm":MAILTO:info@schalmdemeern.nl
END:VEVENT
BEGIN:VEVENT
DTSTART;TZID=UTC:20260818T100000
DTEND;TZID=UTC:20260818T120000
DTSTAMP:20260422T002128
CREATED:20251224T123937Z
LAST-MODIFIED:20251224T123937Z
UID:10000508-1787047200-1787054400@schalmdemeern.nl
SUMMARY:Yoga
DESCRIPTION:
URL:https://schalmdemeern.nl/event/yoga/2026-08-18/
LOCATION:Zaal 3
ORGANIZER;CN="De Schalm":MAILTO:info@schalmdemeern.nl
END:VEVENT
BEGIN:VEVENT
DTSTART;TZID=UTC:20260825T100000
DTEND;TZID=UTC:20260825T120000
DTSTAMP:20260422T002128
CREATED:20251224T123937Z
LAST-MODIFIED:20251224T123937Z
UID:10000509-1787652000-1787659200@schalmdemeern.nl
SUMMARY:Yoga
DESCRIPTION:
URL:https://schalmdemeern.nl/event/yoga/2026-08-25/
LOCATION:Zaal 3
ORGANIZER;CN="De Schalm":MAILTO:info@schalmdemeern.nl
END:VEVENT
BEGIN:VEVENT
DTSTART;TZID=UTC:20260901T100000
DTEND;TZID=UTC:20260901T120000
DTSTAMP:20260422T002128
CREATED:20251224T123937Z
LAST-MODIFIED:20251224T123937Z
UID:10000510-1788256800-1788264000@schalmdemeern.nl
SUMMARY:Yoga
DESCRIPTION:
URL:https://schalmdemeern.nl/event/yoga/2026-09-01/
LOCATION:Zaal 3
ORGANIZER;CN="De Schalm":MAILTO:info@schalmdemeern.nl
END:VEVENT
BEGIN:VEVENT
DTSTART;TZID=UTC:20260908T100000
DTEND;TZID=UTC:20260908T120000
DTSTAMP:20260422T002128
CREATED:20251224T123937Z
LAST-MODIFIED:20251224T123937Z
UID:10000511-1788861600-1788868800@schalmdemeern.nl
SUMMARY:Yoga
DESCRIPTION:
URL:https://schalmdemeern.nl/event/yoga/2026-09-08/
LOCATION:Zaal 3
ORGANIZER;CN="De Schalm":MAILTO:info@schalmdemeern.nl
END:VEVENT
BEGIN:VEVENT
DTSTART;TZID=UTC:20260915T100000
DTEND;TZID=UTC:20260915T120000
DTSTAMP:20260422T002128
CREATED:20251224T123937Z
LAST-MODIFIED:20251224T123937Z
UID:10000512-1789466400-1789473600@schalmdemeern.nl
SUMMARY:Yoga
DESCRIPTION:
URL:https://schalmdemeern.nl/event/yoga/2026-09-15/
LOCATION:Zaal 3
ORGANIZER;CN="De Schalm":MAILTO:info@schalmdemeern.nl
END:VEVENT
BEGIN:VEVENT
DTSTART;TZID=UTC:20260922T100000
DTEND;TZID=UTC:20260922T120000
DTSTAMP:20260422T002128
CREATED:20251224T123937Z
LAST-MODIFIED:20251224T123937Z
UID:10000513-1790071200-1790078400@schalmdemeern.nl
SUMMARY:Yoga
DESCRIPTION:
URL:https://schalmdemeern.nl/event/yoga/2026-09-22/
LOCATION:Zaal 3
ORGANIZER;CN="De Schalm":MAILTO:info@schalmdemeern.nl
END:VEVENT
BEGIN:VEVENT
DTSTART;TZID=UTC:20260929T100000
DTEND;TZID=UTC:20260929T120000
DTSTAMP:20260422T002128
CREATED:20251224T123937Z
LAST-MODIFIED:20251224T123937Z
UID:10000514-1790676000-1790683200@schalmdemeern.nl
SUMMARY:Yoga
DESCRIPTION:
URL:https://schalmdemeern.nl/event/yoga/2026-09-29/
LOCATION:Zaal 3
ORGANIZER;CN="De Schalm":MAILTO:info@schalmdemeern.nl
END:VEVENT
BEGIN:VEVENT
DTSTART;TZID=UTC:20261006T100000
DTEND;TZID=UTC:20261006T120000
DTSTAMP:20260422T002128
CREATED:20251224T123937Z
LAST-MODIFIED:20251224T123937Z
UID:10000515-1791280800-1791288000@schalmdemeern.nl
SUMMARY:Yoga
DESCRIPTION:
URL:https://schalmdemeern.nl/event/yoga/2026-10-06/
LOCATION:Zaal 3
ORGANIZER;CN="De Schalm":MAILTO:info@schalmdemeern.nl
END:VEVENT
BEGIN:VEVENT
DTSTART;TZID=UTC:20261013T100000
DTEND;TZID=UTC:20261013T120000
DTSTAMP:20260422T002128
CREATED:20251224T123937Z
LAST-MODIFIED:20251224T123937Z
UID:10000516-1791885600-1791892800@schalmdemeern.nl
SUMMARY:Yoga
DESCRIPTION:
URL:https://schalmdemeern.nl/event/yoga/2026-10-13/
LOCATION:Zaal 3
ORGANIZER;CN="De Schalm":MAILTO:info@schalmdemeern.nl
END:VEVENT
BEGIN:VEVENT
DTSTART;TZID=UTC:20261020T100000
DTEND;TZID=UTC:20261020T120000
DTSTAMP:20260422T002128
CREATED:20251224T123937Z
LAST-MODIFIED:20251224T123937Z
UID:10000517-1792490400-1792497600@schalmdemeern.nl
SUMMARY:Yoga
DESCRIPTION:
URL:https://schalmdemeern.nl/event/yoga/2026-10-20/
LOCATION:Zaal 3
ORGANIZER;CN="De Schalm":MAILTO:info@schalmdemeern.nl
END:VEVENT
BEGIN:VEVENT
DTSTART;TZID=UTC:20261027T100000
DTEND;TZID=UTC:20261027T120000
DTSTAMP:20260422T002128
CREATED:20251224T123937Z
LAST-MODIFIED:20251224T123937Z
UID:10000518-1793095200-1793102400@schalmdemeern.nl
SUMMARY:Yoga
DESCRIPTION:
URL:https://schalmdemeern.nl/event/yoga/2026-10-27/
LOCATION:Zaal 3
ORGANIZER;CN="De Schalm":MAILTO:info@schalmdemeern.nl
END:VEVENT
BEGIN:VEVENT
DTSTART;TZID=UTC:20261103T100000
DTEND;TZID=UTC:20261103T120000
DTSTAMP:20260422T002128
CREATED:20251224T123937Z
LAST-MODIFIED:20251224T123937Z
UID:10000519-1793700000-1793707200@schalmdemeern.nl
SUMMARY:Yoga
DESCRIPTION:
URL:https://schalmdemeern.nl/event/yoga/2026-11-03/
LOCATION:Zaal 3
ORGANIZER;CN="De Schalm":MAILTO:info@schalmdemeern.nl
END:VEVENT
BEGIN:VEVENT
DTSTART;TZID=UTC:20261110T100000
DTEND;TZID=UTC:20261110T120000
DTSTAMP:20260422T002128
CREATED:20251224T123937Z
LAST-MODIFIED:20251224T123937Z
UID:10000520-1794304800-1794312000@schalmdemeern.nl
SUMMARY:Yoga
DESCRIPTION:
URL:https://schalmdemeern.nl/event/yoga/2026-11-10/
LOCATION:Zaal 3
ORGANIZER;CN="De Schalm":MAILTO:info@schalmdemeern.nl
END:VEVENT
BEGIN:VEVENT
DTSTART;TZID=UTC:20261117T100000
DTEND;TZID=UTC:20261117T120000
DTSTAMP:20260422T002128
CREATED:20251224T123937Z
LAST-MODIFIED:20251224T123937Z
UID:10000521-1794909600-1794916800@schalmdemeern.nl
SUMMARY:Yoga
DESCRIPTION:
URL:https://schalmdemeern.nl/event/yoga/2026-11-17/
LOCATION:Zaal 3
ORGANIZER;CN="De Schalm":MAILTO:info@schalmdemeern.nl
END:VEVENT
END:VCALENDAR