BEGIN:VCALENDAR
VERSION:2.0
PRODID:-//De Schalm - ECPv6.15.18//NONSGML v1.0//EN
CALSCALE:GREGORIAN
METHOD:PUBLISH
X-WR-CALNAME:De Schalm
X-ORIGINAL-URL:https://schalmdemeern.nl
X-WR-CALDESC:Evenementen voor De Schalm
REFRESH-INTERVAL;VALUE=DURATION:PT1H
X-Robots-Tag:noindex
X-PUBLISHED-TTL:PT1H
BEGIN:VTIMEZONE
TZID:UTC
BEGIN:STANDARD
TZOFFSETFROM:+0000
TZOFFSETTO:+0000
TZNAME:UTC
DTSTART:20250101T000000
END:STANDARD
END:VTIMEZONE
BEGIN:VEVENT
DTSTART;TZID=UTC:20260428T123000
DTEND;TZID=UTC:20260428T170000
DTSTAMP:20260422T012430
CREATED:20251224T100516Z
LAST-MODIFIED:20251224T100516Z
UID:10000074-1777379400-1777395600@schalmdemeern.nl
SUMMARY:Doe Café
DESCRIPTION:Klaverjassen. sjoelen en handwerken!
URL:https://schalmdemeern.nl/event/doe-cafe-3/2026-04-28/
LOCATION:Theater zaal
ORGANIZER;CN="De Schalm":MAILTO:info@schalmdemeern.nl
END:VEVENT
BEGIN:VEVENT
DTSTART;TZID=UTC:20260505T123000
DTEND;TZID=UTC:20260505T170000
DTSTAMP:20260422T012430
CREATED:20251224T100516Z
LAST-MODIFIED:20251224T100516Z
UID:10000075-1777984200-1778000400@schalmdemeern.nl
SUMMARY:Doe Café
DESCRIPTION:Klaverjassen. sjoelen en handwerken!
URL:https://schalmdemeern.nl/event/doe-cafe-3/2026-05-05/
LOCATION:Theater zaal
ORGANIZER;CN="De Schalm":MAILTO:info@schalmdemeern.nl
END:VEVENT
BEGIN:VEVENT
DTSTART;TZID=UTC:20260512T123000
DTEND;TZID=UTC:20260512T170000
DTSTAMP:20260422T012430
CREATED:20251224T100516Z
LAST-MODIFIED:20251224T100516Z
UID:10000076-1778589000-1778605200@schalmdemeern.nl
SUMMARY:Doe Café
DESCRIPTION:Klaverjassen. sjoelen en handwerken!
URL:https://schalmdemeern.nl/event/doe-cafe-3/2026-05-12/
LOCATION:Theater zaal
ORGANIZER;CN="De Schalm":MAILTO:info@schalmdemeern.nl
END:VEVENT
BEGIN:VEVENT
DTSTART;TZID=UTC:20260519T123000
DTEND;TZID=UTC:20260519T170000
DTSTAMP:20260422T012430
CREATED:20251224T100516Z
LAST-MODIFIED:20251224T100516Z
UID:10000077-1779193800-1779210000@schalmdemeern.nl
SUMMARY:Doe Café
DESCRIPTION:Klaverjassen. sjoelen en handwerken!
URL:https://schalmdemeern.nl/event/doe-cafe-3/2026-05-19/
LOCATION:Theater zaal
ORGANIZER;CN="De Schalm":MAILTO:info@schalmdemeern.nl
END:VEVENT
BEGIN:VEVENT
DTSTART;TZID=UTC:20260526T123000
DTEND;TZID=UTC:20260526T170000
DTSTAMP:20260422T012430
CREATED:20251224T100516Z
LAST-MODIFIED:20251224T100516Z
UID:10000078-1779798600-1779814800@schalmdemeern.nl
SUMMARY:Doe Café
DESCRIPTION:Klaverjassen. sjoelen en handwerken!
URL:https://schalmdemeern.nl/event/doe-cafe-3/2026-05-26/
LOCATION:Theater zaal
ORGANIZER;CN="De Schalm":MAILTO:info@schalmdemeern.nl
END:VEVENT
BEGIN:VEVENT
DTSTART;TZID=UTC:20260602T123000
DTEND;TZID=UTC:20260602T170000
DTSTAMP:20260422T012430
CREATED:20251224T100516Z
LAST-MODIFIED:20251224T100516Z
UID:10000079-1780403400-1780419600@schalmdemeern.nl
SUMMARY:Doe Café
DESCRIPTION:Klaverjassen. sjoelen en handwerken!
URL:https://schalmdemeern.nl/event/doe-cafe-3/2026-06-02/
LOCATION:Theater zaal
ORGANIZER;CN="De Schalm":MAILTO:info@schalmdemeern.nl
END:VEVENT
BEGIN:VEVENT
DTSTART;TZID=UTC:20260609T123000
DTEND;TZID=UTC:20260609T170000
DTSTAMP:20260422T012430
CREATED:20251224T100516Z
LAST-MODIFIED:20251224T100516Z
UID:10000080-1781008200-1781024400@schalmdemeern.nl
SUMMARY:Doe Café
DESCRIPTION:Klaverjassen. sjoelen en handwerken!
URL:https://schalmdemeern.nl/event/doe-cafe-3/2026-06-09/
LOCATION:Theater zaal
ORGANIZER;CN="De Schalm":MAILTO:info@schalmdemeern.nl
END:VEVENT
BEGIN:VEVENT
DTSTART;TZID=UTC:20260616T123000
DTEND;TZID=UTC:20260616T170000
DTSTAMP:20260422T012430
CREATED:20251224T100516Z
LAST-MODIFIED:20251224T100516Z
UID:10000081-1781613000-1781629200@schalmdemeern.nl
SUMMARY:Doe Café
DESCRIPTION:Klaverjassen. sjoelen en handwerken!
URL:https://schalmdemeern.nl/event/doe-cafe-3/2026-06-16/
LOCATION:Theater zaal
ORGANIZER;CN="De Schalm":MAILTO:info@schalmdemeern.nl
END:VEVENT
BEGIN:VEVENT
DTSTART;TZID=UTC:20260623T123000
DTEND;TZID=UTC:20260623T170000
DTSTAMP:20260422T012430
CREATED:20251224T100516Z
LAST-MODIFIED:20251224T100516Z
UID:10000082-1782217800-1782234000@schalmdemeern.nl
SUMMARY:Doe Café
DESCRIPTION:Klaverjassen. sjoelen en handwerken!
URL:https://schalmdemeern.nl/event/doe-cafe-3/2026-06-23/
LOCATION:Theater zaal
ORGANIZER;CN="De Schalm":MAILTO:info@schalmdemeern.nl
END:VEVENT
BEGIN:VEVENT
DTSTART;TZID=UTC:20260630T123000
DTEND;TZID=UTC:20260630T170000
DTSTAMP:20260422T012430
CREATED:20251224T100516Z
LAST-MODIFIED:20251224T100516Z
UID:10000083-1782822600-1782838800@schalmdemeern.nl
SUMMARY:Doe Café
DESCRIPTION:Klaverjassen. sjoelen en handwerken!
URL:https://schalmdemeern.nl/event/doe-cafe-3/2026-06-30/
LOCATION:Theater zaal
ORGANIZER;CN="De Schalm":MAILTO:info@schalmdemeern.nl
END:VEVENT
BEGIN:VEVENT
DTSTART;TZID=UTC:20260707T123000
DTEND;TZID=UTC:20260707T170000
DTSTAMP:20260422T012430
CREATED:20251224T100516Z
LAST-MODIFIED:20251224T100516Z
UID:10000084-1783427400-1783443600@schalmdemeern.nl
SUMMARY:Doe Café
DESCRIPTION:Klaverjassen. sjoelen en handwerken!
URL:https://schalmdemeern.nl/event/doe-cafe-3/2026-07-07/
LOCATION:Theater zaal
ORGANIZER;CN="De Schalm":MAILTO:info@schalmdemeern.nl
END:VEVENT
BEGIN:VEVENT
DTSTART;TZID=UTC:20260714T123000
DTEND;TZID=UTC:20260714T170000
DTSTAMP:20260422T012430
CREATED:20251224T100516Z
LAST-MODIFIED:20251224T100516Z
UID:10000085-1784032200-1784048400@schalmdemeern.nl
SUMMARY:Doe Café
DESCRIPTION:Klaverjassen. sjoelen en handwerken!
URL:https://schalmdemeern.nl/event/doe-cafe-3/2026-07-14/
LOCATION:Theater zaal
ORGANIZER;CN="De Schalm":MAILTO:info@schalmdemeern.nl
END:VEVENT
END:VCALENDAR