BEGIN:VCALENDAR
VERSION:2.0
PRODID:-//De Schalm - ECPv6.15.18//NONSGML v1.0//EN
CALSCALE:GREGORIAN
METHOD:PUBLISH
X-ORIGINAL-URL:https://schalmdemeern.nl
X-WR-CALDESC:Evenementen voor De Schalm
REFRESH-INTERVAL;VALUE=DURATION:PT1H
X-Robots-Tag:noindex
X-PUBLISHED-TTL:PT1H
BEGIN:VTIMEZONE
TZID:UTC
BEGIN:STANDARD
TZOFFSETFROM:+0000
TZOFFSETTO:+0000
TZNAME:UTC
DTSTART:20240101T000000
END:STANDARD
END:VTIMEZONE
BEGIN:VEVENT
DTSTART;TZID=UTC:20251214T143000
DTEND;TZID=UTC:20251214T170000
DTSTAMP:20260423T061027
CREATED:20251023T110456Z
LAST-MODIFIED:20251112T110749Z
UID:10000032-1765722600-1765731600@schalmdemeern.nl
SUMMARY:Jazzcafé met Jazz4All
DESCRIPTION:Het combo Jazz4All speelt “easy listening” muziek\, die -zoals de naam al aangeeft- een breed publiek aanspreekt. \nGedurende het winterseizoen treden we maandelijks op in het Jazzcafé van De Schalm in De Meern. \nDe optredens vinden plaats met wisselende gastsolisten. \nHet repertoire is mede afhankelijk van de gastsolisten en varieert daardoor van swingende jazz-nummers tot meeslepende latin-jazz \, Gypsy-jazz en zelfs Franse chansons\, in eigen jazzy bewerkingen.
URL:https://schalmdemeern.nl/event/jazzcafe-met-jazz4all/
LOCATION:Theater zaal
CATEGORIES:Uitvoering
ATTACH;FMTTYPE=image/jpeg:https://schalmdemeern.nl/wp-content/uploads/2025/10/kader-DECEMBER.jpg
ORGANIZER;CN="De Schalm":MAILTO:info@schalmdemeern.nl
END:VEVENT
BEGIN:VEVENT
DTSTART;TZID=UTC:20251108T200000
DTEND;TZID=UTC:20251108T230000
DTSTAMP:20260423T061027
CREATED:20251023T110030Z
LAST-MODIFIED:20251023T110030Z
UID:10000030-1762632000-1762642800@schalmdemeern.nl
SUMMARY:Tovedem Uitvoering en Jubileum
DESCRIPTION:Tovedem viert haar 40-jarig jubileum! \nDit jaar is het 40 jaar geleden dat Tovedem werd opgericht. We vieren dit met een vrolijke jubileumvoorstelling “Dwazen”\, in de regie van Tonneke van der Sluijs. Na de voorstellingen is er een spetterend feest voor iedereen. Van harte welkom! \n  \nKaarten zijn €10 en te koop op Dwazen – Tovedem
URL:https://schalmdemeern.nl/event/tovedem-uitvoering-en-jubileum-2/
LOCATION:Theater zaal
CATEGORIES:Uitvoering
END:VEVENT
BEGIN:VEVENT
DTSTART;TZID=UTC:20251107T200000
DTEND;TZID=UTC:20251107T230000
DTSTAMP:20260423T061027
CREATED:20251023T105933Z
LAST-MODIFIED:20251023T105952Z
UID:10000029-1762545600-1762556400@schalmdemeern.nl
SUMMARY:Tovedem Uitvoering en Jubileum
DESCRIPTION:Tovedem viert haar 40-jarig jubileum! \nDit jaar is het 40 jaar geleden dat Tovedem werd opgericht. We vieren dit met een vrolijke jubileumvoorstelling “Dwazen”\, in de regie van Tonneke van der Sluijs. Na de voorstellingen is er een spetterend feest voor iedereen. Van harte welkom! \n  \nKaarten zijn €10 en te koop op Dwazen – Tovedem
URL:https://schalmdemeern.nl/event/tovedem-uitvoering-en-jubileum/
LOCATION:Theater zaal
CATEGORIES:Uitvoering
END:VEVENT
END:VCALENDAR