BEGIN:VCALENDAR
VERSION:2.0
PRODID:-//De Schalm - ECPv6.15.18//NONSGML v1.0//EN
CALSCALE:GREGORIAN
METHOD:PUBLISH
X-ORIGINAL-URL:https://schalmdemeern.nl
X-WR-CALDESC:Evenementen voor De Schalm
REFRESH-INTERVAL;VALUE=DURATION:PT1H
X-Robots-Tag:noindex
X-PUBLISHED-TTL:PT1H
BEGIN:VTIMEZONE
TZID:UTC
BEGIN:STANDARD
TZOFFSETFROM:+0000
TZOFFSETTO:+0000
TZNAME:UTC
DTSTART:20240101T000000
END:STANDARD
END:VTIMEZONE
BEGIN:VEVENT
DTSTART;TZID=UTC:20251114T193000
DTEND;TZID=UTC:20251114T223000
DTSTAMP:20260422T230543
CREATED:20251023T114408Z
LAST-MODIFIED:20251023T114408Z
UID:10000044-1763148600-1763159400@schalmdemeern.nl
SUMMARY:Teenage Vibe
DESCRIPTION:Teenage Vibe de leukste disco voor kinderen van 9 t/m 13 jaar! \nKom dansen op de fijnste beats! \nEen discopas laten maken is verplicht. Deze kost eenmalig €2\,50 en hiervoor moet een pasfoto worden meegenomen. Deze kan alleen gemaakt worden op de discoavond zelf. \nEntree €3
URL:https://schalmdemeern.nl/event/teenage-vibe/
LOCATION:Theater zaal
CATEGORIES:Disco
ORGANIZER;CN="De Schalm":MAILTO:info@schalmdemeern.nl
END:VEVENT
BEGIN:VEVENT
DTSTART;TZID=UTC:20251114T153000
DTEND;TZID=UTC:20251114T163000
DTSTAMP:20260422T230543
CREATED:20250520T123955Z
LAST-MODIFIED:20251023T114016Z
UID:10000002-1763134200-1763137800@schalmdemeern.nl
SUMMARY:Kinder disco
DESCRIPTION:De Kinderdisco is er weer! \nDe leukste disco voor kinderen van 4 t/m 8 jaar. \nHet is de bedoeling dat de ouders meedansen! \nEntree €2\,00 \n 
URL:https://schalmdemeern.nl/event/kinder-disco/
LOCATION:Theater zaal
CATEGORIES:Disco
ORGANIZER;CN="De Schalm":MAILTO:info@schalmdemeern.nl
END:VEVENT
BEGIN:VEVENT
DTSTART;TZID=UTC:20250522T180000
DTEND;TZID=UTC:20250522T210000
DTSTAMP:20260422T230543
CREATED:20250520T121823Z
LAST-MODIFIED:20250520T130347Z
UID:10000001-1747936800-1747947600@schalmdemeern.nl
SUMMARY:Crazy disco
DESCRIPTION:Elke maand ….
URL:https://schalmdemeern.nl/event/crazy-disco/
LOCATION:Theater zaal
CATEGORIES:Disco
ORGANIZER;CN="De Schalm":MAILTO:info@schalmdemeern.nl
END:VEVENT
END:VCALENDAR