BEGIN:VCALENDAR
VERSION:2.0
PRODID:-//De Schalm - ECPv6.15.18//NONSGML v1.0//EN
CALSCALE:GREGORIAN
METHOD:PUBLISH
X-WR-CALNAME:De Schalm
X-ORIGINAL-URL:https://schalmdemeern.nl
X-WR-CALDESC:Evenementen voor De Schalm
REFRESH-INTERVAL;VALUE=DURATION:PT1H
X-Robots-Tag:noindex
X-PUBLISHED-TTL:PT1H
BEGIN:VTIMEZONE
TZID:UTC
BEGIN:STANDARD
TZOFFSETFROM:+0000
TZOFFSETTO:+0000
TZNAME:UTC
DTSTART:20240101T000000
END:STANDARD
END:VTIMEZONE
BEGIN:VEVENT
DTSTART;TZID=UTC:20251004T093000
DTEND;TZID=UTC:20251004T113000
DTSTAMP:20260423T005841
CREATED:20250924T181721Z
LAST-MODIFIED:20250924T181721Z
UID:10000007-1759570200-1759577400@schalmdemeern.nl
SUMMARY:Kleding beurs De Schalm
DESCRIPTION:4 oktober is de Kledingbeurds weer in de Schalm! \nDe kleding ligt op maat; we verkopen maten 80 t/m 176 en S. Ook sportkleding en schoenen. Op elk kledingstuk staat een sticker met de prijs en de maat. \nEn we hebben natuurlijk een podium vol bordspellen\, puzzels\, boeken\, creatieve spullen\, verkleedkleding\, poppen\, lego\, playmobil etc. \nNeem een bigshopper en contant geld mee. \nJassen en tassen geef je af bij de bewaakte garderobe. Deze mogen niet naar binnen. \nEr komt 10% bovenop de aankoopprijs\, dit gaat naar het Goede Doel. \nKinderen vanaf 10 jaar zijn welkom om onder begeleiding mee te shoppen. \nVanaf 11:00 uur kunnen ook jongere kinderen mee. \nJe hebt een klantnummer nodig om te verkopen. \nEr zijn klantnummers beschikbaar vanaf 17 september 19:00 uur via: \nkledingbeurs.deschalm@hotmail.com
URL:https://schalmdemeern.nl/event/kleding-beurs-de-schalm/
LOCATION:Theater zaal
CATEGORIES:Bijeenkomst
ORGANIZER;CN="De Schalm":MAILTO:info@schalmdemeern.nl
END:VEVENT
BEGIN:VEVENT
DTSTART;TZID=UTC:20250531T200000
DTEND;TZID=UTC:20250531T233000
DTSTAMP:20260423T005841
CREATED:20250522T112052Z
LAST-MODIFIED:20250522T112052Z
UID:10000003-1748721600-1748734200@schalmdemeern.nl
SUMMARY:Bingo
DESCRIPTION:Maandelijkse Bingo bij de Schalm!
URL:https://schalmdemeern.nl/event/bingo/
LOCATION:Theater zaal
CATEGORIES:Bijeenkomst
ORGANIZER;CN="De Schalm":MAILTO:info@schalmdemeern.nl
END:VEVENT
BEGIN:VEVENT
DTSTART;TZID=UTC:20250523T200000
DTEND;TZID=UTC:20250523T233000
DTSTAMP:20260423T005841
CREATED:20250522T181500Z
LAST-MODIFIED:20250522T181500Z
UID:10000004-1748030400-1748043000@schalmdemeern.nl
SUMMARY:Bestuursvergadering
DESCRIPTION:Tekstfdgdfgsdfgsdf
URL:https://schalmdemeern.nl/event/bestuursvergadering/
LOCATION:Theater zaal
CATEGORIES:Bijeenkomst
ORGANIZER;CN="De Schalm":MAILTO:info@schalmdemeern.nl
END:VEVENT
END:VCALENDAR