BEGIN:VCALENDAR
VERSION:2.0
PRODID:-//De Schalm - ECPv6.15.18//NONSGML v1.0//EN
CALSCALE:GREGORIAN
METHOD:PUBLISH
X-ORIGINAL-URL:https://schalmdemeern.nl
X-WR-CALDESC:Evenementen voor De Schalm
REFRESH-INTERVAL;VALUE=DURATION:PT1H
X-Robots-Tag:noindex
X-PUBLISHED-TTL:PT1H
BEGIN:VTIMEZONE
TZID:UTC
BEGIN:STANDARD
TZOFFSETFROM:+0000
TZOFFSETTO:+0000
TZNAME:UTC
DTSTART:20240101T000000
END:STANDARD
END:VTIMEZONE
BEGIN:VEVENT
DTSTART;TZID=UTC:20251124T193000
DTEND;TZID=UTC:20251124T230000
DTSTAMP:20260423T193538
CREATED:20251023T111131Z
LAST-MODIFIED:20251118T113604Z
UID:10000033-1764012600-1764025200@schalmdemeern.nl
SUMMARY:Schaakavond van Schaakvereniging Trio
DESCRIPTION:Welkom bij schaakvereniging Trio\nDe schaakvereniging TRIO uit De Meern / Leidsche Rijn speelt elke maandag vanaf 19:30 in de Schalm in De Meern. \nVoor ieder niveau is er een tegenstander. \nZin om een keer sfeer te proeven? \nMeld je dan aan via schaakverenigingtrio@gmail.com!
URL:https://schalmdemeern.nl/event/schaakavond-van-schaakvereniging-trio-6/
LOCATION:Zaal 3
CATEGORIES:Bijeenkomst
ORGANIZER;CN="Schaakvereniging Trio":MAILTO:schaakverenigingtrio@gmail.com
END:VEVENT
BEGIN:VEVENT
DTSTART;TZID=UTC:20251125T133000
DTEND;TZID=UTC:20251125T160000
DTSTAMP:20260423T193538
CREATED:20251023T103422Z
LAST-MODIFIED:20251118T113512Z
UID:10000023-1764077400-1764086400@schalmdemeern.nl
SUMMARY:Doe Café
DESCRIPTION:Elke dinsdagmiddag kunt u gezellig bij ons klaverjassen\, sjoelen en handwerken!
URL:https://schalmdemeern.nl/event/doe-cafe/
LOCATION:Theater zaal
CATEGORIES:Bijeenkomst
ORGANIZER;CN="De Schalm":MAILTO:info@schalmdemeern.nl
END:VEVENT
BEGIN:VEVENT
DTSTART;TZID=UTC:20251125T193000
DTEND;TZID=UTC:20251125T230000
DTSTAMP:20260423T193538
CREATED:20251023T111432Z
LAST-MODIFIED:20251112T110351Z
UID:10000037-1764099000-1764111600@schalmdemeern.nl
SUMMARY:Biljartclub De Vier Banden
DESCRIPTION:Biljartvereniging De Vier Banden is gevestigd in buurthuis De Schalm aan de Oranjelaan 10 in De Meern. \nDinsdagavond is onze clubavond\, we spelen dan de clubcompetitie. Dit houdt in dat wij binnen de vereniging tegen elkaar spelen op basis van ons moyenne. \nNaast de jaarlijkse clubcompetitie kent de club ook nog enkele andere toernooien. Wij hebben toernooien die toegankelijk zijn voor iedereen maar ook toernooien die alleen zijn voor (oud-)leden. \nWij hebben nog plaats voor enkele leden. Dus heeft u interesse kom dan eens langs. Het mag duidelijk zijn dat de biljartsport is bedoeld voor JONG en OUD\, dus ook jongeren zijn welkom.
URL:https://schalmdemeern.nl/event/biljartclub-de-vier-banden-2/
LOCATION:Biljartzaal
CATEGORIES:Bijeenkomst
ORGANIZER;CN="De Schalm":MAILTO:info@schalmdemeern.nl
END:VEVENT
BEGIN:VEVENT
DTSTART;TZID=UTC:20251126T100000
DTEND;TZID=UTC:20251126T120000
DTSTAMP:20260423T193538
CREATED:20251023T104553Z
LAST-MODIFIED:20251112T110322Z
UID:10000026-1764151200-1764158400@schalmdemeern.nl
SUMMARY:Huiskamer van de Wijk
DESCRIPTION:De Huiskamer is er elke woensdagochtend in De Schalm voor álle buurtbewoners. \nIedereen kan gewoon binnenlopen om een kop koffie te drinken\, maar ook deelnemen aan allerlei activiteiten die vanuit de Huiskamer worden georganiseerd. Zoals biljarten\, wandelclub\, jeu des boules en dergelijke. Een aantal dagdelen per week zijn beroepskrachten aanwezig. Mensen uit de buurt worden gestimuleerd zo veel mogelijk activiteiten zelf te organiseren\, als het nodig is met professionele ondersteuning. Zo wordt het echt hún Huiskamer. Iedere buurtbewoner kan\, binnen zijn of haar eigen mogelijkheden\, op een vanzelfsprekende manier deelnemen!
URL:https://schalmdemeern.nl/event/huiskamer-van-de-wijk/
LOCATION:Barzaal
CATEGORIES:Bijeenkomst
ORGANIZER;CN="De Schalm":MAILTO:info@schalmdemeern.nl
END:VEVENT
BEGIN:VEVENT
DTSTART;TZID=UTC:20251126T100000
DTEND;TZID=UTC:20251126T120000
DTSTAMP:20260423T193538
CREATED:20251023T113353Z
LAST-MODIFIED:20251118T113433Z
UID:10000041-1764151200-1764158400@schalmdemeern.nl
SUMMARY:Droomdekens
DESCRIPTION:Droomdekentjesgroep \nEen aantal jaren geleden begonnen vier mensen met een geleende naaimachine en met veel hulp van Welzaam de Droomdekentjesgroep. Deze groep groeide uit tot twee groepen van 35 enthousiaste dames en heren die iedere week in de huiskamers van De Meern en Vleuterweide bij elkaar komen om droomdekentjes te maken voor Stichting De Regenboogboom.
URL:https://schalmdemeern.nl/event/droomdekens-2/
LOCATION:Zaal 6
CATEGORIES:Bijeenkomst
ORGANIZER;CN="De Schalm":MAILTO:info@schalmdemeern.nl
END:VEVENT
END:VCALENDAR