BEGIN:VCALENDAR
VERSION:2.0
PRODID:-//De Schalm - ECPv6.15.18//NONSGML v1.0//EN
CALSCALE:GREGORIAN
METHOD:PUBLISH
X-ORIGINAL-URL:https://schalmdemeern.nl
X-WR-CALDESC:Evenementen voor De Schalm
REFRESH-INTERVAL;VALUE=DURATION:PT1H
X-Robots-Tag:noindex
X-PUBLISHED-TTL:PT1H
BEGIN:VTIMEZONE
TZID:UTC
BEGIN:STANDARD
TZOFFSETFROM:+0000
TZOFFSETTO:+0000
TZNAME:UTC
DTSTART:20240101T000000
END:STANDARD
END:VTIMEZONE
BEGIN:VEVENT
DTSTART;TZID=UTC:20251126T100000
DTEND;TZID=UTC:20251126T120000
DTSTAMP:20260423T203432
CREATED:20251023T104553Z
LAST-MODIFIED:20251112T110322Z
UID:10000026-1764151200-1764158400@schalmdemeern.nl
SUMMARY:Huiskamer van de Wijk
DESCRIPTION:De Huiskamer is er elke woensdagochtend in De Schalm voor álle buurtbewoners. \nIedereen kan gewoon binnenlopen om een kop koffie te drinken\, maar ook deelnemen aan allerlei activiteiten die vanuit de Huiskamer worden georganiseerd. Zoals biljarten\, wandelclub\, jeu des boules en dergelijke. Een aantal dagdelen per week zijn beroepskrachten aanwezig. Mensen uit de buurt worden gestimuleerd zo veel mogelijk activiteiten zelf te organiseren\, als het nodig is met professionele ondersteuning. Zo wordt het echt hún Huiskamer. Iedere buurtbewoner kan\, binnen zijn of haar eigen mogelijkheden\, op een vanzelfsprekende manier deelnemen!
URL:https://schalmdemeern.nl/event/huiskamer-van-de-wijk/
LOCATION:Barzaal
CATEGORIES:Bijeenkomst
ORGANIZER;CN="De Schalm":MAILTO:info@schalmdemeern.nl
END:VEVENT
BEGIN:VEVENT
DTSTART;TZID=UTC:20251126T100000
DTEND;TZID=UTC:20251126T120000
DTSTAMP:20260423T203432
CREATED:20251023T113353Z
LAST-MODIFIED:20251118T113433Z
UID:10000041-1764151200-1764158400@schalmdemeern.nl
SUMMARY:Droomdekens
DESCRIPTION:Droomdekentjesgroep \nEen aantal jaren geleden begonnen vier mensen met een geleende naaimachine en met veel hulp van Welzaam de Droomdekentjesgroep. Deze groep groeide uit tot twee groepen van 35 enthousiaste dames en heren die iedere week in de huiskamers van De Meern en Vleuterweide bij elkaar komen om droomdekentjes te maken voor Stichting De Regenboogboom.
URL:https://schalmdemeern.nl/event/droomdekens-2/
LOCATION:Zaal 6
CATEGORIES:Bijeenkomst
ORGANIZER;CN="De Schalm":MAILTO:info@schalmdemeern.nl
END:VEVENT
END:VCALENDAR