BEGIN:VCALENDAR
VERSION:2.0
PRODID:-//De Schalm - ECPv6.15.18//NONSGML v1.0//EN
CALSCALE:GREGORIAN
METHOD:PUBLISH
X-ORIGINAL-URL:https://schalmdemeern.nl
X-WR-CALDESC:Evenementen voor De Schalm
REFRESH-INTERVAL;VALUE=DURATION:PT1H
X-Robots-Tag:noindex
X-PUBLISHED-TTL:PT1H
BEGIN:VTIMEZONE
TZID:UTC
BEGIN:STANDARD
TZOFFSETFROM:+0000
TZOFFSETTO:+0000
TZNAME:UTC
DTSTART:20240101T000000
END:STANDARD
END:VTIMEZONE
BEGIN:VEVENT
DTSTART;TZID=UTC:20251104T100000
DTEND;TZID=UTC:20251104T120000
DTSTAMP:20260424T160657
CREATED:20251023T102957Z
LAST-MODIFIED:20251023T103543Z
UID:10000022-1762250400-1762257600@schalmdemeern.nl
SUMMARY:Yoga voor senioren
DESCRIPTION:Welke gezellige dame heeft zin in yoga voor senioren? \nWe werken met ontspannende en versterkende oefeningen die toegankelijk zijn voor iedereen. Het is ook mogelijk om vanaf de stoel te oefenen\, iedereen werkt naar eigen mogelijkheden. \n  \nVia de gevoelde ervaring “uit je hoofd” en in je lijf. Na de les drinken we samen koffie.
URL:https://schalmdemeern.nl/event/yoga-voor-senioren/
LOCATION:Zaal 3
CATEGORIES:Bijeenkomst
ORGANIZER;CN="De Schalm":MAILTO:info@schalmdemeern.nl
END:VEVENT
BEGIN:VEVENT
DTSTART;TZID=UTC:20251104T193000
DTEND;TZID=UTC:20251104T230000
DTSTAMP:20260424T160657
CREATED:20251023T104251Z
LAST-MODIFIED:20251023T104316Z
UID:10000025-1762284600-1762297200@schalmdemeern.nl
SUMMARY:Biljartclub De Vier Banden
DESCRIPTION:Biljartvereniging De Vier Banden is gevestigd in buurthuis De Schalm aan de Oranjelaan 10 in De Meern. \nDinsdagavond is onze clubavond\, we spelen dan de clubcompetitie. Dit houdt in dat wij binnen de vereniging tegen elkaar spelen op basis van ons moyenne. \nNaast de jaarlijkse clubcompetitie kent de club ook nog enkele andere toernooien. Wij hebben toernooien die toegankelijk zijn voor iedereen maar ook toernooien die alleen zijn voor (oud-)leden. \nWij hebben nog plaats voor enkele leden. Dus heeft u interesse kom dan eens langs. Het mag duidelijk zijn dat de biljartsport is bedoeld voor JONG en OUD\, dus ook jongeren zijn welkom.
URL:https://schalmdemeern.nl/event/biljartclub-de-vier-banden/
LOCATION:Biljartzaal
CATEGORIES:Bijeenkomst
ORGANIZER;CN="De Schalm":MAILTO:info@schalmdemeern.nl
END:VEVENT
END:VCALENDAR