BEGIN:VCALENDAR
VERSION:2.0
PRODID:-//De Schalm - ECPv6.15.18//NONSGML v1.0//EN
CALSCALE:GREGORIAN
METHOD:PUBLISH
X-WR-CALNAME:De Schalm
X-ORIGINAL-URL:https://schalmdemeern.nl
X-WR-CALDESC:Evenementen voor De Schalm
REFRESH-INTERVAL;VALUE=DURATION:PT1H
X-Robots-Tag:noindex
X-PUBLISHED-TTL:PT1H
BEGIN:VTIMEZONE
TZID:UTC
BEGIN:STANDARD
TZOFFSETFROM:+0000
TZOFFSETTO:+0000
TZNAME:UTC
DTSTART:20250101T000000
END:STANDARD
END:VTIMEZONE
BEGIN:VEVENT
DTSTART;TZID=UTC:20260422T090000
DTEND;TZID=UTC:20260422T130000
DTSTAMP:20260422T163331
CREATED:20260316T135436Z
LAST-MODIFIED:20260316T135745Z
UID:10004918-1776848400-1776862800@schalmdemeern.nl
SUMMARY:🖌️🎨Schilderen🎨🖌️ (besloten groep)
DESCRIPTION:
URL:https://schalmdemeern.nl/event/%f0%9f%96%8c%ef%b8%8f%f0%9f%8e%a8schilderen%f0%9f%8e%a8%f0%9f%96%8c%ef%b8%8f-besloten-groep/2026-04-22/
LOCATION:Zaal 3
ORGANIZER;CN="de Schalm":MAILTO:info@schalmdemeern.nl
END:VEVENT
BEGIN:VEVENT
DTSTART;TZID=UTC:20260422T100000
DTEND;TZID=UTC:20260422T120000
DTSTAMP:20260422T163331
CREATED:20260105T120323Z
LAST-MODIFIED:20260105T120323Z
UID:10001020-1776852000-1776859200@schalmdemeern.nl
SUMMARY:Huiskamer van de Wijk
DESCRIPTION:Neem je buren of vrienden mee en kom gezellig langs voor een potje rummikub\, kaarten of een ander spelletje.
URL:https://schalmdemeern.nl/event/huiskamer-van-de-wijk-3/2026-04-22/
LOCATION:Barzaal
ATTACH;FMTTYPE=image/jpeg:https://schalmdemeern.nl/wp-content/uploads/2026/01/huiskamer-van-de-wijk.jpg
ORGANIZER;CN="De Schalm":MAILTO:info@schalmdemeern.nl
END:VEVENT
BEGIN:VEVENT
DTSTART;TZID=UTC:20260422T100000
DTEND;TZID=UTC:20260422T120000
DTSTAMP:20260422T163331
CREATED:20260202T102138Z
LAST-MODIFIED:20260202T134314Z
UID:10002858-1776852000-1776859200@schalmdemeern.nl
SUMMARY:🧵🪡🧶Droomdekens🧶🪡🧵
DESCRIPTION:Droomdekens (quilts) maken voor de Regenboog Boom Stichting in Soest. \nDe dekens zijn voor kinderen en jongvolwassenen die vaak ongeneselijk ziek zijn en veel in het ziekenhuis liggen. \nWij zoeken altijd mensen die goed met de naaimachine om kunnen gaan. Gedoneerde materialen zijn aanwezig evenals naaimachines. \nContact: Ria van Kasteel ( m.c.vankasteel@hetnet.nl ) \n 
URL:https://schalmdemeern.nl/event/%f0%9f%a7%b5%f0%9f%aa%a1%f0%9f%a7%b6droomdekens%f0%9f%a7%b6%f0%9f%aa%a1%f0%9f%a7%b5/2026-04-22/
LOCATION:Zaal 6
ORGANIZER;CN="De Schalm":MAILTO:info@schalmdemeern.nl
END:VEVENT
BEGIN:VEVENT
DTSTART;TZID=UTC:20260422T130000
DTEND;TZID=UTC:20260422T170000
DTSTAMP:20260422T163331
CREATED:20260316T093052Z
LAST-MODIFIED:20260316T093052Z
UID:10004620-1776862800-1776877200@schalmdemeern.nl
SUMMARY:🎨🖌️Schilderen (besloten groep) 🖌️🎨
DESCRIPTION:
URL:https://schalmdemeern.nl/event/%f0%9f%8e%a8%f0%9f%96%8c%ef%b8%8fschilderen-besloten-groep-%f0%9f%96%8c%ef%b8%8f%f0%9f%8e%a8/2026-04-22/
LOCATION:Zaal 3
END:VEVENT
BEGIN:VEVENT
DTSTART;TZID=UTC:20260422T140000
DTEND;TZID=UTC:20260422T170000
DTSTAMP:20260422T163331
CREATED:20260331T200327Z
LAST-MODIFIED:20260331T200327Z
UID:10004058-1776866400-1776877200@schalmdemeern.nl
SUMMARY:Bingo voor volwassenen
DESCRIPTION:
URL:https://schalmdemeern.nl/event/bingo-voor-volwassenen-2/
LOCATION:Zaal 5
ATTACH;FMTTYPE=image/jpeg:https://schalmdemeern.nl/wp-content/uploads/2026/03/voorjaars-bingo-april.jpg
ORGANIZER;CN="De Schalm":MAILTO:info@schalmdemeern.nl
END:VEVENT
BEGIN:VEVENT
DTSTART;TZID=UTC:20260422T143000
DTEND;TZID=UTC:20260422T153000
DTSTAMP:20260422T163331
CREATED:20260123T192641Z
LAST-MODIFIED:20260228T142823Z
UID:10001291-1776868200-1776871800@schalmdemeern.nl
SUMMARY:Kinderyoga 🧘🏽‍♀️🧘🏽‍♂️
DESCRIPTION:
URL:https://schalmdemeern.nl/event/kinderyoga-%f0%9f%a7%98%f0%9f%8f%bd%e2%99%80%ef%b8%8f%f0%9f%a7%98%f0%9f%8f%bd%e2%99%82%ef%b8%8f/2026-04-22/
ATTACH;FMTTYPE=image/jpeg:https://schalmdemeern.nl/wp-content/uploads/2026/01/kinderyoga-2026-1.jpg
END:VEVENT
BEGIN:VEVENT
DTSTART;TZID=UTC:20260422T190000
DTEND;TZID=UTC:20260422T220000
DTSTAMP:20260422T163331
CREATED:20260131T142329Z
LAST-MODIFIED:20260202T094320Z
UID:10001552-1776884400-1776895200@schalmdemeern.nl
SUMMARY:Shantykoor Windstilte
DESCRIPTION:Het koor zingt wind\, zeil en golven bij elkaar. Vrolijkheid en muziek\, een mooie combinatie. Nieuwe leden zijn welkom! \nwww.windstilte.nl \nContact: secretaris Ton de Bondt\, tel. 030-2888966 of 06-37307408 \n 
URL:https://schalmdemeern.nl/event/shantykoor-windstilte-3/2026-04-22/
LOCATION:Zaal 3
ORGANIZER;CN="De Schalm":MAILTO:info@schalmdemeern.nl
END:VEVENT
END:VCALENDAR