BEGIN:VCALENDAR
VERSION:2.0
PRODID:-//De Schalm - ECPv6.15.18//NONSGML v1.0//EN
CALSCALE:GREGORIAN
METHOD:PUBLISH
X-WR-CALNAME:De Schalm
X-ORIGINAL-URL:https://schalmdemeern.nl
X-WR-CALDESC:Evenementen voor De Schalm
REFRESH-INTERVAL;VALUE=DURATION:PT1H
X-Robots-Tag:noindex
X-PUBLISHED-TTL:PT1H
BEGIN:VTIMEZONE
TZID:UTC
BEGIN:STANDARD
TZOFFSETFROM:+0000
TZOFFSETTO:+0000
TZNAME:UTC
DTSTART:20250101T000000
END:STANDARD
END:VTIMEZONE
BEGIN:VEVENT
DTSTART;TZID=UTC:20260421T100000
DTEND;TZID=UTC:20260421T120000
DTSTAMP:20260422T001641
CREATED:20251224T123937Z
LAST-MODIFIED:20251224T123937Z
UID:10000491-1776765600-1776772800@schalmdemeern.nl
SUMMARY:Yoga
DESCRIPTION:
URL:https://schalmdemeern.nl/event/yoga/2026-04-21/
LOCATION:Zaal 3
ORGANIZER;CN="De Schalm":MAILTO:info@schalmdemeern.nl
END:VEVENT
BEGIN:VEVENT
DTSTART;TZID=UTC:20260421T123000
DTEND;TZID=UTC:20260421T170000
DTSTAMP:20260422T001641
CREATED:20251224T100516Z
LAST-MODIFIED:20251224T100516Z
UID:10000073-1776774600-1776790800@schalmdemeern.nl
SUMMARY:Doe Café
DESCRIPTION:Klaverjassen. sjoelen en handwerken!
URL:https://schalmdemeern.nl/event/doe-cafe-3/2026-04-21/
LOCATION:Theater zaal
ORGANIZER;CN="De Schalm":MAILTO:info@schalmdemeern.nl
END:VEVENT
BEGIN:VEVENT
DTSTART;TZID=UTC:20260421T190000
DTEND;TZID=UTC:20260421T230000
DTSTAMP:20260422T001641
CREATED:20260131T143845Z
LAST-MODIFIED:20260131T143845Z
UID:10002336-1776798000-1776812400@schalmdemeern.nl
SUMMARY:Ka Ka en Co
DESCRIPTION:
URL:https://schalmdemeern.nl/event/ka-ka-en-co/2026-04-21/
LOCATION:zaal 8
ORGANIZER;CN="De Schalm":MAILTO:info@schalmdemeern.nl
END:VEVENT
BEGIN:VEVENT
DTSTART;TZID=UTC:20260421T190000
DTEND;TZID=UTC:20260421T230000
DTSTAMP:20260422T001641
CREATED:20260316T092540Z
LAST-MODIFIED:20260410T190952Z
UID:10005030-1776798000-1776812400@schalmdemeern.nl
SUMMARY:Postfris'68
DESCRIPTION:
URL:https://schalmdemeern.nl/event/postfris68/2026-04-21/
LOCATION:zaal 5 en 6
END:VEVENT
BEGIN:VEVENT
DTSTART;TZID=UTC:20260421T193000
DTEND;TZID=UTC:20260421T233000
DTSTAMP:20260422T001641
CREATED:20260131T143628Z
LAST-MODIFIED:20260131T143628Z
UID:10002075-1776799800-1776814200@schalmdemeern.nl
SUMMARY:Biljart Club De 4 Banden
DESCRIPTION:
URL:https://schalmdemeern.nl/event/biljart-club-de-4-banden/2026-04-21/
LOCATION:zaal 7
ORGANIZER;CN="De Schalm":MAILTO:info@schalmdemeern.nl
END:VEVENT
END:VCALENDAR