BEGIN:VCALENDAR
VERSION:2.0
PRODID:-//De Schalm - ECPv6.15.18//NONSGML v1.0//EN
CALSCALE:GREGORIAN
METHOD:PUBLISH
X-WR-CALNAME:De Schalm
X-ORIGINAL-URL:https://schalmdemeern.nl
X-WR-CALDESC:Evenementen voor De Schalm
REFRESH-INTERVAL;VALUE=DURATION:PT1H
X-Robots-Tag:noindex
X-PUBLISHED-TTL:PT1H
BEGIN:VTIMEZONE
TZID:UTC
BEGIN:STANDARD
TZOFFSETFROM:+0000
TZOFFSETTO:+0000
TZNAME:UTC
DTSTART:20270101T000000
END:STANDARD
END:VTIMEZONE
BEGIN:VEVENT
DTSTART;TZID=UTC:20280222T190000
DTEND;TZID=UTC:20280222T230000
DTSTAMP:20260423T095733
CREATED:20260131T143845Z
LAST-MODIFIED:20260131T143845Z
UID:10002432-1834858800-1834873200@schalmdemeern.nl
SUMMARY:Ka Ka en Co
DESCRIPTION:
URL:https://schalmdemeern.nl/event/ka-ka-en-co/2028-02-22/
LOCATION:zaal 8
ORGANIZER;CN="De Schalm":MAILTO:info@schalmdemeern.nl
END:VEVENT
BEGIN:VEVENT
DTSTART;TZID=UTC:20280229T190000
DTEND;TZID=UTC:20280229T230000
DTSTAMP:20260423T095733
CREATED:20260131T143845Z
LAST-MODIFIED:20260131T143845Z
UID:10002433-1835463600-1835478000@schalmdemeern.nl
SUMMARY:Ka Ka en Co
DESCRIPTION:
URL:https://schalmdemeern.nl/event/ka-ka-en-co/2028-02-29/
LOCATION:zaal 8
ORGANIZER;CN="De Schalm":MAILTO:info@schalmdemeern.nl
END:VEVENT
BEGIN:VEVENT
DTSTART;TZID=UTC:20280307T190000
DTEND;TZID=UTC:20280307T230000
DTSTAMP:20260423T095733
CREATED:20260131T143845Z
LAST-MODIFIED:20260131T143845Z
UID:10002434-1836068400-1836082800@schalmdemeern.nl
SUMMARY:Ka Ka en Co
DESCRIPTION:
URL:https://schalmdemeern.nl/event/ka-ka-en-co/2028-03-07/
LOCATION:zaal 8
ORGANIZER;CN="De Schalm":MAILTO:info@schalmdemeern.nl
END:VEVENT
BEGIN:VEVENT
DTSTART;TZID=UTC:20280314T190000
DTEND;TZID=UTC:20280314T230000
DTSTAMP:20260423T095733
CREATED:20260131T143845Z
LAST-MODIFIED:20260131T143845Z
UID:10002435-1836673200-1836687600@schalmdemeern.nl
SUMMARY:Ka Ka en Co
DESCRIPTION:
URL:https://schalmdemeern.nl/event/ka-ka-en-co/2028-03-14/
LOCATION:zaal 8
ORGANIZER;CN="De Schalm":MAILTO:info@schalmdemeern.nl
END:VEVENT
BEGIN:VEVENT
DTSTART;TZID=UTC:20280321T190000
DTEND;TZID=UTC:20280321T230000
DTSTAMP:20260423T095733
CREATED:20260131T143845Z
LAST-MODIFIED:20260131T143845Z
UID:10002436-1837278000-1837292400@schalmdemeern.nl
SUMMARY:Ka Ka en Co
DESCRIPTION:
URL:https://schalmdemeern.nl/event/ka-ka-en-co/2028-03-21/
LOCATION:zaal 8
ORGANIZER;CN="De Schalm":MAILTO:info@schalmdemeern.nl
END:VEVENT
BEGIN:VEVENT
DTSTART;TZID=UTC:20280328T190000
DTEND;TZID=UTC:20280328T230000
DTSTAMP:20260423T095733
CREATED:20260131T143845Z
LAST-MODIFIED:20260131T143845Z
UID:10002437-1837882800-1837897200@schalmdemeern.nl
SUMMARY:Ka Ka en Co
DESCRIPTION:
URL:https://schalmdemeern.nl/event/ka-ka-en-co/2028-03-28/
LOCATION:zaal 8
ORGANIZER;CN="De Schalm":MAILTO:info@schalmdemeern.nl
END:VEVENT
BEGIN:VEVENT
DTSTART;TZID=UTC:20280404T190000
DTEND;TZID=UTC:20280404T230000
DTSTAMP:20260423T095733
CREATED:20260131T143845Z
LAST-MODIFIED:20260131T143845Z
UID:10002438-1838487600-1838502000@schalmdemeern.nl
SUMMARY:Ka Ka en Co
DESCRIPTION:
URL:https://schalmdemeern.nl/event/ka-ka-en-co/2028-04-04/
LOCATION:zaal 8
ORGANIZER;CN="De Schalm":MAILTO:info@schalmdemeern.nl
END:VEVENT
BEGIN:VEVENT
DTSTART;TZID=UTC:20280411T190000
DTEND;TZID=UTC:20280411T230000
DTSTAMP:20260423T095733
CREATED:20260131T143845Z
LAST-MODIFIED:20260131T143845Z
UID:10002439-1839092400-1839106800@schalmdemeern.nl
SUMMARY:Ka Ka en Co
DESCRIPTION:
URL:https://schalmdemeern.nl/event/ka-ka-en-co/2028-04-11/
LOCATION:zaal 8
ORGANIZER;CN="De Schalm":MAILTO:info@schalmdemeern.nl
END:VEVENT
BEGIN:VEVENT
DTSTART;TZID=UTC:20280418T190000
DTEND;TZID=UTC:20280418T230000
DTSTAMP:20260423T095733
CREATED:20260131T143845Z
LAST-MODIFIED:20260131T143845Z
UID:10002440-1839697200-1839711600@schalmdemeern.nl
SUMMARY:Ka Ka en Co
DESCRIPTION:
URL:https://schalmdemeern.nl/event/ka-ka-en-co/2028-04-18/
LOCATION:zaal 8
ORGANIZER;CN="De Schalm":MAILTO:info@schalmdemeern.nl
END:VEVENT
BEGIN:VEVENT
DTSTART;TZID=UTC:20280425T190000
DTEND;TZID=UTC:20280425T230000
DTSTAMP:20260423T095733
CREATED:20260131T143845Z
LAST-MODIFIED:20260131T143845Z
UID:10002441-1840302000-1840316400@schalmdemeern.nl
SUMMARY:Ka Ka en Co
DESCRIPTION:
URL:https://schalmdemeern.nl/event/ka-ka-en-co/2028-04-25/
LOCATION:zaal 8
ORGANIZER;CN="De Schalm":MAILTO:info@schalmdemeern.nl
END:VEVENT
BEGIN:VEVENT
DTSTART;TZID=UTC:20280502T190000
DTEND;TZID=UTC:20280502T230000
DTSTAMP:20260423T095733
CREATED:20260131T143845Z
LAST-MODIFIED:20260131T143845Z
UID:10002442-1840906800-1840921200@schalmdemeern.nl
SUMMARY:Ka Ka en Co
DESCRIPTION:
URL:https://schalmdemeern.nl/event/ka-ka-en-co/2028-05-02/
LOCATION:zaal 8
ORGANIZER;CN="De Schalm":MAILTO:info@schalmdemeern.nl
END:VEVENT
BEGIN:VEVENT
DTSTART;TZID=UTC:20280509T190000
DTEND;TZID=UTC:20280509T230000
DTSTAMP:20260423T095733
CREATED:20260131T143845Z
LAST-MODIFIED:20260131T143845Z
UID:10002443-1841511600-1841526000@schalmdemeern.nl
SUMMARY:Ka Ka en Co
DESCRIPTION:
URL:https://schalmdemeern.nl/event/ka-ka-en-co/2028-05-09/
LOCATION:zaal 8
ORGANIZER;CN="De Schalm":MAILTO:info@schalmdemeern.nl
END:VEVENT
BEGIN:VEVENT
DTSTART;TZID=UTC:20280516T190000
DTEND;TZID=UTC:20280516T230000
DTSTAMP:20260423T095733
CREATED:20260131T143845Z
LAST-MODIFIED:20260131T143845Z
UID:10002444-1842116400-1842130800@schalmdemeern.nl
SUMMARY:Ka Ka en Co
DESCRIPTION:
URL:https://schalmdemeern.nl/event/ka-ka-en-co/2028-05-16/
LOCATION:zaal 8
ORGANIZER;CN="De Schalm":MAILTO:info@schalmdemeern.nl
END:VEVENT
BEGIN:VEVENT
DTSTART;TZID=UTC:20280523T190000
DTEND;TZID=UTC:20280523T230000
DTSTAMP:20260423T095733
CREATED:20260131T143845Z
LAST-MODIFIED:20260131T143845Z
UID:10002445-1842721200-1842735600@schalmdemeern.nl
SUMMARY:Ka Ka en Co
DESCRIPTION:
URL:https://schalmdemeern.nl/event/ka-ka-en-co/2028-05-23/
LOCATION:zaal 8
ORGANIZER;CN="De Schalm":MAILTO:info@schalmdemeern.nl
END:VEVENT
BEGIN:VEVENT
DTSTART;TZID=UTC:20280530T190000
DTEND;TZID=UTC:20280530T230000
DTSTAMP:20260423T095733
CREATED:20260131T143845Z
LAST-MODIFIED:20260131T143845Z
UID:10002446-1843326000-1843340400@schalmdemeern.nl
SUMMARY:Ka Ka en Co
DESCRIPTION:
URL:https://schalmdemeern.nl/event/ka-ka-en-co/2028-05-30/
LOCATION:zaal 8
ORGANIZER;CN="De Schalm":MAILTO:info@schalmdemeern.nl
END:VEVENT
BEGIN:VEVENT
DTSTART;TZID=UTC:20280606T190000
DTEND;TZID=UTC:20280606T230000
DTSTAMP:20260423T095733
CREATED:20260131T143845Z
LAST-MODIFIED:20260131T143845Z
UID:10002447-1843930800-1843945200@schalmdemeern.nl
SUMMARY:Ka Ka en Co
DESCRIPTION:
URL:https://schalmdemeern.nl/event/ka-ka-en-co/2028-06-06/
LOCATION:zaal 8
ORGANIZER;CN="De Schalm":MAILTO:info@schalmdemeern.nl
END:VEVENT
BEGIN:VEVENT
DTSTART;TZID=UTC:20280613T190000
DTEND;TZID=UTC:20280613T230000
DTSTAMP:20260423T095733
CREATED:20260131T143845Z
LAST-MODIFIED:20260131T143845Z
UID:10002448-1844535600-1844550000@schalmdemeern.nl
SUMMARY:Ka Ka en Co
DESCRIPTION:
URL:https://schalmdemeern.nl/event/ka-ka-en-co/2028-06-13/
LOCATION:zaal 8
ORGANIZER;CN="De Schalm":MAILTO:info@schalmdemeern.nl
END:VEVENT
BEGIN:VEVENT
DTSTART;TZID=UTC:20280620T190000
DTEND;TZID=UTC:20280620T230000
DTSTAMP:20260423T095733
CREATED:20260131T143845Z
LAST-MODIFIED:20260131T143845Z
UID:10002449-1845140400-1845154800@schalmdemeern.nl
SUMMARY:Ka Ka en Co
DESCRIPTION:
URL:https://schalmdemeern.nl/event/ka-ka-en-co/2028-06-20/
LOCATION:zaal 8
ORGANIZER;CN="De Schalm":MAILTO:info@schalmdemeern.nl
END:VEVENT
BEGIN:VEVENT
DTSTART;TZID=UTC:20280627T190000
DTEND;TZID=UTC:20280627T230000
DTSTAMP:20260423T095733
CREATED:20260131T143845Z
LAST-MODIFIED:20260131T143845Z
UID:10002450-1845745200-1845759600@schalmdemeern.nl
SUMMARY:Ka Ka en Co
DESCRIPTION:
URL:https://schalmdemeern.nl/event/ka-ka-en-co/2028-06-27/
LOCATION:zaal 8
ORGANIZER;CN="De Schalm":MAILTO:info@schalmdemeern.nl
END:VEVENT
BEGIN:VEVENT
DTSTART;TZID=UTC:20280704T190000
DTEND;TZID=UTC:20280704T230000
DTSTAMP:20260423T095733
CREATED:20260131T143845Z
LAST-MODIFIED:20260131T143845Z
UID:10002451-1846350000-1846364400@schalmdemeern.nl
SUMMARY:Ka Ka en Co
DESCRIPTION:
URL:https://schalmdemeern.nl/event/ka-ka-en-co/2028-07-04/
LOCATION:zaal 8
ORGANIZER;CN="De Schalm":MAILTO:info@schalmdemeern.nl
END:VEVENT
BEGIN:VEVENT
DTSTART;TZID=UTC:20280711T190000
DTEND;TZID=UTC:20280711T230000
DTSTAMP:20260423T095733
CREATED:20260131T143845Z
LAST-MODIFIED:20260131T143845Z
UID:10002452-1846954800-1846969200@schalmdemeern.nl
SUMMARY:Ka Ka en Co
DESCRIPTION:
URL:https://schalmdemeern.nl/event/ka-ka-en-co/2028-07-11/
LOCATION:zaal 8
ORGANIZER;CN="De Schalm":MAILTO:info@schalmdemeern.nl
END:VEVENT
BEGIN:VEVENT
DTSTART;TZID=UTC:20280718T190000
DTEND;TZID=UTC:20280718T230000
DTSTAMP:20260423T095733
CREATED:20260131T143845Z
LAST-MODIFIED:20260131T143845Z
UID:10002453-1847559600-1847574000@schalmdemeern.nl
SUMMARY:Ka Ka en Co
DESCRIPTION:
URL:https://schalmdemeern.nl/event/ka-ka-en-co/2028-07-18/
LOCATION:zaal 8
ORGANIZER;CN="De Schalm":MAILTO:info@schalmdemeern.nl
END:VEVENT
BEGIN:VEVENT
DTSTART;TZID=UTC:20280725T190000
DTEND;TZID=UTC:20280725T230000
DTSTAMP:20260423T095733
CREATED:20260131T143845Z
LAST-MODIFIED:20260131T143845Z
UID:10002454-1848164400-1848178800@schalmdemeern.nl
SUMMARY:Ka Ka en Co
DESCRIPTION:
URL:https://schalmdemeern.nl/event/ka-ka-en-co/2028-07-25/
LOCATION:zaal 8
ORGANIZER;CN="De Schalm":MAILTO:info@schalmdemeern.nl
END:VEVENT
BEGIN:VEVENT
DTSTART;TZID=UTC:20280801T190000
DTEND;TZID=UTC:20280801T230000
DTSTAMP:20260423T095733
CREATED:20260131T143845Z
LAST-MODIFIED:20260131T143845Z
UID:10002455-1848769200-1848783600@schalmdemeern.nl
SUMMARY:Ka Ka en Co
DESCRIPTION:
URL:https://schalmdemeern.nl/event/ka-ka-en-co/2028-08-01/
LOCATION:zaal 8
ORGANIZER;CN="De Schalm":MAILTO:info@schalmdemeern.nl
END:VEVENT
BEGIN:VEVENT
DTSTART;TZID=UTC:20280808T190000
DTEND;TZID=UTC:20280808T230000
DTSTAMP:20260423T095733
CREATED:20260131T143845Z
LAST-MODIFIED:20260131T143845Z
UID:10002456-1849374000-1849388400@schalmdemeern.nl
SUMMARY:Ka Ka en Co
DESCRIPTION:
URL:https://schalmdemeern.nl/event/ka-ka-en-co/2028-08-08/
LOCATION:zaal 8
ORGANIZER;CN="De Schalm":MAILTO:info@schalmdemeern.nl
END:VEVENT
BEGIN:VEVENT
DTSTART;TZID=UTC:20280815T190000
DTEND;TZID=UTC:20280815T230000
DTSTAMP:20260423T095733
CREATED:20260131T143845Z
LAST-MODIFIED:20260131T143845Z
UID:10002457-1849978800-1849993200@schalmdemeern.nl
SUMMARY:Ka Ka en Co
DESCRIPTION:
URL:https://schalmdemeern.nl/event/ka-ka-en-co/2028-08-15/
LOCATION:zaal 8
ORGANIZER;CN="De Schalm":MAILTO:info@schalmdemeern.nl
END:VEVENT
BEGIN:VEVENT
DTSTART;TZID=UTC:20280822T190000
DTEND;TZID=UTC:20280822T230000
DTSTAMP:20260423T095733
CREATED:20260131T143845Z
LAST-MODIFIED:20260131T143845Z
UID:10002458-1850583600-1850598000@schalmdemeern.nl
SUMMARY:Ka Ka en Co
DESCRIPTION:
URL:https://schalmdemeern.nl/event/ka-ka-en-co/2028-08-22/
LOCATION:zaal 8
ORGANIZER;CN="De Schalm":MAILTO:info@schalmdemeern.nl
END:VEVENT
BEGIN:VEVENT
DTSTART;TZID=UTC:20280829T190000
DTEND;TZID=UTC:20280829T230000
DTSTAMP:20260423T095733
CREATED:20260131T143845Z
LAST-MODIFIED:20260131T143845Z
UID:10002459-1851188400-1851202800@schalmdemeern.nl
SUMMARY:Ka Ka en Co
DESCRIPTION:
URL:https://schalmdemeern.nl/event/ka-ka-en-co/2028-08-29/
LOCATION:zaal 8
ORGANIZER;CN="De Schalm":MAILTO:info@schalmdemeern.nl
END:VEVENT
BEGIN:VEVENT
DTSTART;TZID=UTC:20280905T190000
DTEND;TZID=UTC:20280905T230000
DTSTAMP:20260423T095733
CREATED:20260131T143845Z
LAST-MODIFIED:20260131T143845Z
UID:10002460-1851793200-1851807600@schalmdemeern.nl
SUMMARY:Ka Ka en Co
DESCRIPTION:
URL:https://schalmdemeern.nl/event/ka-ka-en-co/2028-09-05/
LOCATION:zaal 8
ORGANIZER;CN="De Schalm":MAILTO:info@schalmdemeern.nl
END:VEVENT
BEGIN:VEVENT
DTSTART;TZID=UTC:20280912T190000
DTEND;TZID=UTC:20280912T230000
DTSTAMP:20260423T095733
CREATED:20260131T143845Z
LAST-MODIFIED:20260131T143845Z
UID:10002461-1852398000-1852412400@schalmdemeern.nl
SUMMARY:Ka Ka en Co
DESCRIPTION:
URL:https://schalmdemeern.nl/event/ka-ka-en-co/2028-09-12/
LOCATION:zaal 8
ORGANIZER;CN="De Schalm":MAILTO:info@schalmdemeern.nl
END:VEVENT
END:VCALENDAR