BEGIN:VCALENDAR
VERSION:2.0
PRODID:-//De Schalm - ECPv6.15.18//NONSGML v1.0//EN
CALSCALE:GREGORIAN
METHOD:PUBLISH
X-ORIGINAL-URL:https://schalmdemeern.nl
X-WR-CALDESC:Evenementen voor De Schalm
REFRESH-INTERVAL;VALUE=DURATION:PT1H
X-Robots-Tag:noindex
X-PUBLISHED-TTL:PT1H
BEGIN:VTIMEZONE
TZID:UTC
BEGIN:STANDARD
TZOFFSETFROM:+0000
TZOFFSETTO:+0000
TZNAME:UTC
DTSTART:20250101T000000
END:STANDARD
END:VTIMEZONE
BEGIN:VEVENT
DTSTART;TZID=UTC:20261006T190000
DTEND;TZID=UTC:20261006T230000
DTSTAMP:20260422T043734
CREATED:20260131T143845Z
LAST-MODIFIED:20260131T143845Z
UID:10002360-1791313200-1791327600@schalmdemeern.nl
SUMMARY:Ka Ka en Co
DESCRIPTION:
URL:https://schalmdemeern.nl/event/ka-ka-en-co/2026-10-06/
LOCATION:zaal 8
ORGANIZER;CN="De Schalm":MAILTO:info@schalmdemeern.nl
END:VEVENT
BEGIN:VEVENT
DTSTART;TZID=UTC:20261013T190000
DTEND;TZID=UTC:20261013T230000
DTSTAMP:20260422T043734
CREATED:20260131T143845Z
LAST-MODIFIED:20260131T143845Z
UID:10002361-1791918000-1791932400@schalmdemeern.nl
SUMMARY:Ka Ka en Co
DESCRIPTION:
URL:https://schalmdemeern.nl/event/ka-ka-en-co/2026-10-13/
LOCATION:zaal 8
ORGANIZER;CN="De Schalm":MAILTO:info@schalmdemeern.nl
END:VEVENT
BEGIN:VEVENT
DTSTART;TZID=UTC:20261020T190000
DTEND;TZID=UTC:20261020T230000
DTSTAMP:20260422T043734
CREATED:20260131T143845Z
LAST-MODIFIED:20260131T143845Z
UID:10002362-1792522800-1792537200@schalmdemeern.nl
SUMMARY:Ka Ka en Co
DESCRIPTION:
URL:https://schalmdemeern.nl/event/ka-ka-en-co/2026-10-20/
LOCATION:zaal 8
ORGANIZER;CN="De Schalm":MAILTO:info@schalmdemeern.nl
END:VEVENT
BEGIN:VEVENT
DTSTART;TZID=UTC:20261027T190000
DTEND;TZID=UTC:20261027T230000
DTSTAMP:20260422T043734
CREATED:20260131T143845Z
LAST-MODIFIED:20260131T143845Z
UID:10002363-1793127600-1793142000@schalmdemeern.nl
SUMMARY:Ka Ka en Co
DESCRIPTION:
URL:https://schalmdemeern.nl/event/ka-ka-en-co/2026-10-27/
LOCATION:zaal 8
ORGANIZER;CN="De Schalm":MAILTO:info@schalmdemeern.nl
END:VEVENT
BEGIN:VEVENT
DTSTART;TZID=UTC:20261103T190000
DTEND;TZID=UTC:20261103T230000
DTSTAMP:20260422T043734
CREATED:20260131T143845Z
LAST-MODIFIED:20260131T143845Z
UID:10002364-1793732400-1793746800@schalmdemeern.nl
SUMMARY:Ka Ka en Co
DESCRIPTION:
URL:https://schalmdemeern.nl/event/ka-ka-en-co/2026-11-03/
LOCATION:zaal 8
ORGANIZER;CN="De Schalm":MAILTO:info@schalmdemeern.nl
END:VEVENT
BEGIN:VEVENT
DTSTART;TZID=UTC:20261110T190000
DTEND;TZID=UTC:20261110T230000
DTSTAMP:20260422T043734
CREATED:20260131T143845Z
LAST-MODIFIED:20260131T143845Z
UID:10002365-1794337200-1794351600@schalmdemeern.nl
SUMMARY:Ka Ka en Co
DESCRIPTION:
URL:https://schalmdemeern.nl/event/ka-ka-en-co/2026-11-10/
LOCATION:zaal 8
ORGANIZER;CN="De Schalm":MAILTO:info@schalmdemeern.nl
END:VEVENT
BEGIN:VEVENT
DTSTART;TZID=UTC:20261117T190000
DTEND;TZID=UTC:20261117T230000
DTSTAMP:20260422T043734
CREATED:20260131T143845Z
LAST-MODIFIED:20260131T143845Z
UID:10002366-1794942000-1794956400@schalmdemeern.nl
SUMMARY:Ka Ka en Co
DESCRIPTION:
URL:https://schalmdemeern.nl/event/ka-ka-en-co/2026-11-17/
LOCATION:zaal 8
ORGANIZER;CN="De Schalm":MAILTO:info@schalmdemeern.nl
END:VEVENT
BEGIN:VEVENT
DTSTART;TZID=UTC:20261124T190000
DTEND;TZID=UTC:20261124T230000
DTSTAMP:20260422T043734
CREATED:20260131T143845Z
LAST-MODIFIED:20260131T143845Z
UID:10002367-1795546800-1795561200@schalmdemeern.nl
SUMMARY:Ka Ka en Co
DESCRIPTION:
URL:https://schalmdemeern.nl/event/ka-ka-en-co/2026-11-24/
LOCATION:zaal 8
ORGANIZER;CN="De Schalm":MAILTO:info@schalmdemeern.nl
END:VEVENT
BEGIN:VEVENT
DTSTART;TZID=UTC:20261201T190000
DTEND;TZID=UTC:20261201T230000
DTSTAMP:20260422T043734
CREATED:20260131T143845Z
LAST-MODIFIED:20260131T143845Z
UID:10002368-1796151600-1796166000@schalmdemeern.nl
SUMMARY:Ka Ka en Co
DESCRIPTION:
URL:https://schalmdemeern.nl/event/ka-ka-en-co/2026-12-01/
LOCATION:zaal 8
ORGANIZER;CN="De Schalm":MAILTO:info@schalmdemeern.nl
END:VEVENT
BEGIN:VEVENT
DTSTART;TZID=UTC:20261208T190000
DTEND;TZID=UTC:20261208T230000
DTSTAMP:20260422T043734
CREATED:20260131T143845Z
LAST-MODIFIED:20260131T143845Z
UID:10002369-1796756400-1796770800@schalmdemeern.nl
SUMMARY:Ka Ka en Co
DESCRIPTION:
URL:https://schalmdemeern.nl/event/ka-ka-en-co/2026-12-08/
LOCATION:zaal 8
ORGANIZER;CN="De Schalm":MAILTO:info@schalmdemeern.nl
END:VEVENT
BEGIN:VEVENT
DTSTART;TZID=UTC:20261215T190000
DTEND;TZID=UTC:20261215T230000
DTSTAMP:20260422T043734
CREATED:20260131T143845Z
LAST-MODIFIED:20260131T143845Z
UID:10002370-1797361200-1797375600@schalmdemeern.nl
SUMMARY:Ka Ka en Co
DESCRIPTION:
URL:https://schalmdemeern.nl/event/ka-ka-en-co/2026-12-15/
LOCATION:zaal 8
ORGANIZER;CN="De Schalm":MAILTO:info@schalmdemeern.nl
END:VEVENT
BEGIN:VEVENT
DTSTART;TZID=UTC:20261222T190000
DTEND;TZID=UTC:20261222T230000
DTSTAMP:20260422T043734
CREATED:20260131T143845Z
LAST-MODIFIED:20260131T143845Z
UID:10002371-1797966000-1797980400@schalmdemeern.nl
SUMMARY:Ka Ka en Co
DESCRIPTION:
URL:https://schalmdemeern.nl/event/ka-ka-en-co/2026-12-22/
LOCATION:zaal 8
ORGANIZER;CN="De Schalm":MAILTO:info@schalmdemeern.nl
END:VEVENT
BEGIN:VEVENT
DTSTART;TZID=UTC:20261229T190000
DTEND;TZID=UTC:20261229T230000
DTSTAMP:20260422T043734
CREATED:20260131T143845Z
LAST-MODIFIED:20260131T143845Z
UID:10002372-1798570800-1798585200@schalmdemeern.nl
SUMMARY:Ka Ka en Co
DESCRIPTION:
URL:https://schalmdemeern.nl/event/ka-ka-en-co/2026-12-29/
LOCATION:zaal 8
ORGANIZER;CN="De Schalm":MAILTO:info@schalmdemeern.nl
END:VEVENT
BEGIN:VEVENT
DTSTART;TZID=UTC:20270105T190000
DTEND;TZID=UTC:20270105T230000
DTSTAMP:20260422T043734
CREATED:20260131T143845Z
LAST-MODIFIED:20260131T143845Z
UID:10002373-1799175600-1799190000@schalmdemeern.nl
SUMMARY:Ka Ka en Co
DESCRIPTION:
URL:https://schalmdemeern.nl/event/ka-ka-en-co/2027-01-05/
LOCATION:zaal 8
ORGANIZER;CN="De Schalm":MAILTO:info@schalmdemeern.nl
END:VEVENT
BEGIN:VEVENT
DTSTART;TZID=UTC:20270112T190000
DTEND;TZID=UTC:20270112T230000
DTSTAMP:20260422T043734
CREATED:20260131T143845Z
LAST-MODIFIED:20260131T143845Z
UID:10002374-1799780400-1799794800@schalmdemeern.nl
SUMMARY:Ka Ka en Co
DESCRIPTION:
URL:https://schalmdemeern.nl/event/ka-ka-en-co/2027-01-12/
LOCATION:zaal 8
ORGANIZER;CN="De Schalm":MAILTO:info@schalmdemeern.nl
END:VEVENT
BEGIN:VEVENT
DTSTART;TZID=UTC:20270119T190000
DTEND;TZID=UTC:20270119T230000
DTSTAMP:20260422T043734
CREATED:20260131T143845Z
LAST-MODIFIED:20260131T143845Z
UID:10002375-1800385200-1800399600@schalmdemeern.nl
SUMMARY:Ka Ka en Co
DESCRIPTION:
URL:https://schalmdemeern.nl/event/ka-ka-en-co/2027-01-19/
LOCATION:zaal 8
ORGANIZER;CN="De Schalm":MAILTO:info@schalmdemeern.nl
END:VEVENT
BEGIN:VEVENT
DTSTART;TZID=UTC:20270126T190000
DTEND;TZID=UTC:20270126T230000
DTSTAMP:20260422T043734
CREATED:20260131T143845Z
LAST-MODIFIED:20260131T143845Z
UID:10002376-1800990000-1801004400@schalmdemeern.nl
SUMMARY:Ka Ka en Co
DESCRIPTION:
URL:https://schalmdemeern.nl/event/ka-ka-en-co/2027-01-26/
LOCATION:zaal 8
ORGANIZER;CN="De Schalm":MAILTO:info@schalmdemeern.nl
END:VEVENT
BEGIN:VEVENT
DTSTART;TZID=UTC:20270202T190000
DTEND;TZID=UTC:20270202T230000
DTSTAMP:20260422T043734
CREATED:20260131T143845Z
LAST-MODIFIED:20260131T143845Z
UID:10002377-1801594800-1801609200@schalmdemeern.nl
SUMMARY:Ka Ka en Co
DESCRIPTION:
URL:https://schalmdemeern.nl/event/ka-ka-en-co/2027-02-02/
LOCATION:zaal 8
ORGANIZER;CN="De Schalm":MAILTO:info@schalmdemeern.nl
END:VEVENT
BEGIN:VEVENT
DTSTART;TZID=UTC:20270209T190000
DTEND;TZID=UTC:20270209T230000
DTSTAMP:20260422T043734
CREATED:20260131T143845Z
LAST-MODIFIED:20260131T143845Z
UID:10002378-1802199600-1802214000@schalmdemeern.nl
SUMMARY:Ka Ka en Co
DESCRIPTION:
URL:https://schalmdemeern.nl/event/ka-ka-en-co/2027-02-09/
LOCATION:zaal 8
ORGANIZER;CN="De Schalm":MAILTO:info@schalmdemeern.nl
END:VEVENT
BEGIN:VEVENT
DTSTART;TZID=UTC:20270216T190000
DTEND;TZID=UTC:20270216T230000
DTSTAMP:20260422T043734
CREATED:20260131T143845Z
LAST-MODIFIED:20260131T143845Z
UID:10002379-1802804400-1802818800@schalmdemeern.nl
SUMMARY:Ka Ka en Co
DESCRIPTION:
URL:https://schalmdemeern.nl/event/ka-ka-en-co/2027-02-16/
LOCATION:zaal 8
ORGANIZER;CN="De Schalm":MAILTO:info@schalmdemeern.nl
END:VEVENT
BEGIN:VEVENT
DTSTART;TZID=UTC:20270223T190000
DTEND;TZID=UTC:20270223T230000
DTSTAMP:20260422T043734
CREATED:20260131T143845Z
LAST-MODIFIED:20260131T143845Z
UID:10002380-1803409200-1803423600@schalmdemeern.nl
SUMMARY:Ka Ka en Co
DESCRIPTION:
URL:https://schalmdemeern.nl/event/ka-ka-en-co/2027-02-23/
LOCATION:zaal 8
ORGANIZER;CN="De Schalm":MAILTO:info@schalmdemeern.nl
END:VEVENT
BEGIN:VEVENT
DTSTART;TZID=UTC:20270302T190000
DTEND;TZID=UTC:20270302T230000
DTSTAMP:20260422T043734
CREATED:20260131T143845Z
LAST-MODIFIED:20260131T143845Z
UID:10002381-1804014000-1804028400@schalmdemeern.nl
SUMMARY:Ka Ka en Co
DESCRIPTION:
URL:https://schalmdemeern.nl/event/ka-ka-en-co/2027-03-02/
LOCATION:zaal 8
ORGANIZER;CN="De Schalm":MAILTO:info@schalmdemeern.nl
END:VEVENT
BEGIN:VEVENT
DTSTART;TZID=UTC:20270309T190000
DTEND;TZID=UTC:20270309T230000
DTSTAMP:20260422T043734
CREATED:20260131T143845Z
LAST-MODIFIED:20260131T143845Z
UID:10002382-1804618800-1804633200@schalmdemeern.nl
SUMMARY:Ka Ka en Co
DESCRIPTION:
URL:https://schalmdemeern.nl/event/ka-ka-en-co/2027-03-09/
LOCATION:zaal 8
ORGANIZER;CN="De Schalm":MAILTO:info@schalmdemeern.nl
END:VEVENT
BEGIN:VEVENT
DTSTART;TZID=UTC:20270316T190000
DTEND;TZID=UTC:20270316T230000
DTSTAMP:20260422T043734
CREATED:20260131T143845Z
LAST-MODIFIED:20260131T143845Z
UID:10002383-1805223600-1805238000@schalmdemeern.nl
SUMMARY:Ka Ka en Co
DESCRIPTION:
URL:https://schalmdemeern.nl/event/ka-ka-en-co/2027-03-16/
LOCATION:zaal 8
ORGANIZER;CN="De Schalm":MAILTO:info@schalmdemeern.nl
END:VEVENT
BEGIN:VEVENT
DTSTART;TZID=UTC:20270323T190000
DTEND;TZID=UTC:20270323T230000
DTSTAMP:20260422T043734
CREATED:20260131T143845Z
LAST-MODIFIED:20260131T143845Z
UID:10002384-1805828400-1805842800@schalmdemeern.nl
SUMMARY:Ka Ka en Co
DESCRIPTION:
URL:https://schalmdemeern.nl/event/ka-ka-en-co/2027-03-23/
LOCATION:zaal 8
ORGANIZER;CN="De Schalm":MAILTO:info@schalmdemeern.nl
END:VEVENT
BEGIN:VEVENT
DTSTART;TZID=UTC:20270330T190000
DTEND;TZID=UTC:20270330T230000
DTSTAMP:20260422T043734
CREATED:20260131T143845Z
LAST-MODIFIED:20260131T143845Z
UID:10002385-1806433200-1806447600@schalmdemeern.nl
SUMMARY:Ka Ka en Co
DESCRIPTION:
URL:https://schalmdemeern.nl/event/ka-ka-en-co/2027-03-30/
LOCATION:zaal 8
ORGANIZER;CN="De Schalm":MAILTO:info@schalmdemeern.nl
END:VEVENT
BEGIN:VEVENT
DTSTART;TZID=UTC:20270406T190000
DTEND;TZID=UTC:20270406T230000
DTSTAMP:20260422T043734
CREATED:20260131T143845Z
LAST-MODIFIED:20260131T143845Z
UID:10002386-1807038000-1807052400@schalmdemeern.nl
SUMMARY:Ka Ka en Co
DESCRIPTION:
URL:https://schalmdemeern.nl/event/ka-ka-en-co/2027-04-06/
LOCATION:zaal 8
ORGANIZER;CN="De Schalm":MAILTO:info@schalmdemeern.nl
END:VEVENT
BEGIN:VEVENT
DTSTART;TZID=UTC:20270413T190000
DTEND;TZID=UTC:20270413T230000
DTSTAMP:20260422T043734
CREATED:20260131T143845Z
LAST-MODIFIED:20260131T143845Z
UID:10002387-1807642800-1807657200@schalmdemeern.nl
SUMMARY:Ka Ka en Co
DESCRIPTION:
URL:https://schalmdemeern.nl/event/ka-ka-en-co/2027-04-13/
LOCATION:zaal 8
ORGANIZER;CN="De Schalm":MAILTO:info@schalmdemeern.nl
END:VEVENT
BEGIN:VEVENT
DTSTART;TZID=UTC:20270420T190000
DTEND;TZID=UTC:20270420T230000
DTSTAMP:20260422T043734
CREATED:20260131T143845Z
LAST-MODIFIED:20260131T143845Z
UID:10002388-1808247600-1808262000@schalmdemeern.nl
SUMMARY:Ka Ka en Co
DESCRIPTION:
URL:https://schalmdemeern.nl/event/ka-ka-en-co/2027-04-20/
LOCATION:zaal 8
ORGANIZER;CN="De Schalm":MAILTO:info@schalmdemeern.nl
END:VEVENT
BEGIN:VEVENT
DTSTART;TZID=UTC:20270427T190000
DTEND;TZID=UTC:20270427T230000
DTSTAMP:20260422T043734
CREATED:20260131T143845Z
LAST-MODIFIED:20260131T143845Z
UID:10002389-1808852400-1808866800@schalmdemeern.nl
SUMMARY:Ka Ka en Co
DESCRIPTION:
URL:https://schalmdemeern.nl/event/ka-ka-en-co/2027-04-27/
LOCATION:zaal 8
ORGANIZER;CN="De Schalm":MAILTO:info@schalmdemeern.nl
END:VEVENT
END:VCALENDAR