BEGIN:VCALENDAR
VERSION:2.0
PRODID:-//De Schalm - ECPv6.15.18//NONSGML v1.0//EN
CALSCALE:GREGORIAN
METHOD:PUBLISH
X-WR-CALNAME:De Schalm
X-ORIGINAL-URL:https://schalmdemeern.nl
X-WR-CALDESC:Evenementen voor De Schalm
REFRESH-INTERVAL;VALUE=DURATION:PT1H
X-Robots-Tag:noindex
X-PUBLISHED-TTL:PT1H
BEGIN:VTIMEZONE
TZID:UTC
BEGIN:STANDARD
TZOFFSETFROM:+0000
TZOFFSETTO:+0000
TZNAME:UTC
DTSTART:20250101T000000
END:STANDARD
END:VTIMEZONE
BEGIN:VEVENT
DTSTART;TZID=UTC:20260218T190000
DTEND;TZID=UTC:20260218T220000
DTSTAMP:20260422T091535
CREATED:20260202T095421Z
LAST-MODIFIED:20260202T095421Z
UID:10002588-1771441200-1771452000@schalmdemeern.nl
SUMMARY:🎭Cloos🎭 (repeteren)
DESCRIPTION:Cloos is de jongerengroepering van Tovedem en bestaat uit minimaal 5 en maximaal 10 leden. Als je op 1 september 17 jaar bent mag je lid worden van Cloos. \nLid worden – Tovedem
URL:https://schalmdemeern.nl/event/%f0%9f%8e%adcloos%f0%9f%8e%ad-repeteren/2026-02-18/
LOCATION:zaal 8
ORGANIZER;CN="De Schalm":MAILTO:info@schalmdemeern.nl
END:VEVENT
BEGIN:VEVENT
DTSTART;TZID=UTC:20260217T190000
DTEND;TZID=UTC:20260217T230000
DTSTAMP:20260422T091535
CREATED:20260131T143845Z
LAST-MODIFIED:20260131T143845Z
UID:10002327-1771354800-1771369200@schalmdemeern.nl
SUMMARY:Ka Ka en Co
DESCRIPTION:
URL:https://schalmdemeern.nl/event/ka-ka-en-co/2026-02-17/
LOCATION:zaal 8
ORGANIZER;CN="De Schalm":MAILTO:info@schalmdemeern.nl
END:VEVENT
BEGIN:VEVENT
DTSTART;TZID=UTC:20260211T190000
DTEND;TZID=UTC:20260211T220000
DTSTAMP:20260422T091535
CREATED:20260202T095421Z
LAST-MODIFIED:20260202T095421Z
UID:10002587-1770836400-1770847200@schalmdemeern.nl
SUMMARY:🎭Cloos🎭 (repeteren)
DESCRIPTION:Cloos is de jongerengroepering van Tovedem en bestaat uit minimaal 5 en maximaal 10 leden. Als je op 1 september 17 jaar bent mag je lid worden van Cloos. \nLid worden – Tovedem
URL:https://schalmdemeern.nl/event/%f0%9f%8e%adcloos%f0%9f%8e%ad-repeteren/2026-02-11/
LOCATION:zaal 8
ORGANIZER;CN="De Schalm":MAILTO:info@schalmdemeern.nl
END:VEVENT
BEGIN:VEVENT
DTSTART;TZID=UTC:20260210T190000
DTEND;TZID=UTC:20260210T230000
DTSTAMP:20260422T091535
CREATED:20260131T143845Z
LAST-MODIFIED:20260131T143845Z
UID:10002326-1770750000-1770764400@schalmdemeern.nl
SUMMARY:Ka Ka en Co
DESCRIPTION:
URL:https://schalmdemeern.nl/event/ka-ka-en-co/2026-02-10/
LOCATION:zaal 8
ORGANIZER;CN="De Schalm":MAILTO:info@schalmdemeern.nl
END:VEVENT
BEGIN:VEVENT
DTSTART;TZID=UTC:20260204T190000
DTEND;TZID=UTC:20260204T220000
DTSTAMP:20260422T091535
CREATED:20260202T095421Z
LAST-MODIFIED:20260202T095421Z
UID:10002586-1770231600-1770242400@schalmdemeern.nl
SUMMARY:🎭Cloos🎭 (repeteren)
DESCRIPTION:Cloos is de jongerengroepering van Tovedem en bestaat uit minimaal 5 en maximaal 10 leden. Als je op 1 september 17 jaar bent mag je lid worden van Cloos. \nLid worden – Tovedem
URL:https://schalmdemeern.nl/event/%f0%9f%8e%adcloos%f0%9f%8e%ad-repeteren/2026-02-04/
LOCATION:zaal 8
ORGANIZER;CN="De Schalm":MAILTO:info@schalmdemeern.nl
END:VEVENT
BEGIN:VEVENT
DTSTART;TZID=UTC:20260203T190000
DTEND;TZID=UTC:20260203T230000
DTSTAMP:20260422T091535
CREATED:20260131T143845Z
LAST-MODIFIED:20260131T143845Z
UID:10002325-1770145200-1770159600@schalmdemeern.nl
SUMMARY:Ka Ka en Co
DESCRIPTION:
URL:https://schalmdemeern.nl/event/ka-ka-en-co/2026-02-03/
LOCATION:zaal 8
ORGANIZER;CN="De Schalm":MAILTO:info@schalmdemeern.nl
END:VEVENT
END:VCALENDAR