BEGIN:VCALENDAR
VERSION:2.0
PRODID:-//De Schalm - ECPv6.15.18//NONSGML v1.0//EN
CALSCALE:GREGORIAN
METHOD:PUBLISH
X-ORIGINAL-URL:https://schalmdemeern.nl
X-WR-CALDESC:Evenementen voor De Schalm
REFRESH-INTERVAL;VALUE=DURATION:PT1H
X-Robots-Tag:noindex
X-PUBLISHED-TTL:PT1H
BEGIN:VTIMEZONE
TZID:UTC
BEGIN:STANDARD
TZOFFSETFROM:+0000
TZOFFSETTO:+0000
TZNAME:UTC
DTSTART:20280101T000000
END:STANDARD
END:VTIMEZONE
BEGIN:VEVENT
DTSTART;TZID=UTC:20290123T190000
DTEND;TZID=UTC:20290123T230000
DTSTAMP:20260424T182653
CREATED:20260131T143845Z
LAST-MODIFIED:20260131T143845Z
UID:10002480-1863889200-1863903600@schalmdemeern.nl
SUMMARY:Ka Ka en Co
DESCRIPTION:
URL:https://schalmdemeern.nl/event/ka-ka-en-co/2029-01-23/
LOCATION:zaal 8
ORGANIZER;CN="De Schalm":MAILTO:info@schalmdemeern.nl
END:VEVENT
BEGIN:VEVENT
DTSTART;TZID=UTC:20290130T190000
DTEND;TZID=UTC:20290130T230000
DTSTAMP:20260424T182653
CREATED:20260131T143845Z
LAST-MODIFIED:20260131T143845Z
UID:10002481-1864494000-1864508400@schalmdemeern.nl
SUMMARY:Ka Ka en Co
DESCRIPTION:
URL:https://schalmdemeern.nl/event/ka-ka-en-co/2029-01-30/
LOCATION:zaal 8
ORGANIZER;CN="De Schalm":MAILTO:info@schalmdemeern.nl
END:VEVENT
BEGIN:VEVENT
DTSTART;TZID=UTC:20290206T190000
DTEND;TZID=UTC:20290206T230000
DTSTAMP:20260424T182653
CREATED:20260131T143845Z
LAST-MODIFIED:20260131T143845Z
UID:10002482-1865098800-1865113200@schalmdemeern.nl
SUMMARY:Ka Ka en Co
DESCRIPTION:
URL:https://schalmdemeern.nl/event/ka-ka-en-co/2029-02-06/
LOCATION:zaal 8
ORGANIZER;CN="De Schalm":MAILTO:info@schalmdemeern.nl
END:VEVENT
BEGIN:VEVENT
DTSTART;TZID=UTC:20290213T190000
DTEND;TZID=UTC:20290213T230000
DTSTAMP:20260424T182653
CREATED:20260131T143845Z
LAST-MODIFIED:20260131T143845Z
UID:10002483-1865703600-1865718000@schalmdemeern.nl
SUMMARY:Ka Ka en Co
DESCRIPTION:
URL:https://schalmdemeern.nl/event/ka-ka-en-co/2029-02-13/
LOCATION:zaal 8
ORGANIZER;CN="De Schalm":MAILTO:info@schalmdemeern.nl
END:VEVENT
BEGIN:VEVENT
DTSTART;TZID=UTC:20290220T190000
DTEND;TZID=UTC:20290220T230000
DTSTAMP:20260424T182653
CREATED:20260131T143845Z
LAST-MODIFIED:20260131T143845Z
UID:10002484-1866308400-1866322800@schalmdemeern.nl
SUMMARY:Ka Ka en Co
DESCRIPTION:
URL:https://schalmdemeern.nl/event/ka-ka-en-co/2029-02-20/
LOCATION:zaal 8
ORGANIZER;CN="De Schalm":MAILTO:info@schalmdemeern.nl
END:VEVENT
BEGIN:VEVENT
DTSTART;TZID=UTC:20290227T190000
DTEND;TZID=UTC:20290227T230000
DTSTAMP:20260424T182653
CREATED:20260131T143845Z
LAST-MODIFIED:20260131T143845Z
UID:10002485-1866913200-1866927600@schalmdemeern.nl
SUMMARY:Ka Ka en Co
DESCRIPTION:
URL:https://schalmdemeern.nl/event/ka-ka-en-co/2029-02-27/
LOCATION:zaal 8
ORGANIZER;CN="De Schalm":MAILTO:info@schalmdemeern.nl
END:VEVENT
BEGIN:VEVENT
DTSTART;TZID=UTC:20290306T190000
DTEND;TZID=UTC:20290306T230000
DTSTAMP:20260424T182653
CREATED:20260131T143845Z
LAST-MODIFIED:20260131T143845Z
UID:10002486-1867518000-1867532400@schalmdemeern.nl
SUMMARY:Ka Ka en Co
DESCRIPTION:
URL:https://schalmdemeern.nl/event/ka-ka-en-co/2029-03-06/
LOCATION:zaal 8
ORGANIZER;CN="De Schalm":MAILTO:info@schalmdemeern.nl
END:VEVENT
BEGIN:VEVENT
DTSTART;TZID=UTC:20290313T190000
DTEND;TZID=UTC:20290313T230000
DTSTAMP:20260424T182653
CREATED:20260131T143845Z
LAST-MODIFIED:20260131T143845Z
UID:10002487-1868122800-1868137200@schalmdemeern.nl
SUMMARY:Ka Ka en Co
DESCRIPTION:
URL:https://schalmdemeern.nl/event/ka-ka-en-co/2029-03-13/
LOCATION:zaal 8
ORGANIZER;CN="De Schalm":MAILTO:info@schalmdemeern.nl
END:VEVENT
BEGIN:VEVENT
DTSTART;TZID=UTC:20290320T190000
DTEND;TZID=UTC:20290320T230000
DTSTAMP:20260424T182653
CREATED:20260131T143845Z
LAST-MODIFIED:20260131T143845Z
UID:10002488-1868727600-1868742000@schalmdemeern.nl
SUMMARY:Ka Ka en Co
DESCRIPTION:
URL:https://schalmdemeern.nl/event/ka-ka-en-co/2029-03-20/
LOCATION:zaal 8
ORGANIZER;CN="De Schalm":MAILTO:info@schalmdemeern.nl
END:VEVENT
BEGIN:VEVENT
DTSTART;TZID=UTC:20290327T190000
DTEND;TZID=UTC:20290327T230000
DTSTAMP:20260424T182653
CREATED:20260131T143845Z
LAST-MODIFIED:20260131T143845Z
UID:10002489-1869332400-1869346800@schalmdemeern.nl
SUMMARY:Ka Ka en Co
DESCRIPTION:
URL:https://schalmdemeern.nl/event/ka-ka-en-co/2029-03-27/
LOCATION:zaal 8
ORGANIZER;CN="De Schalm":MAILTO:info@schalmdemeern.nl
END:VEVENT
BEGIN:VEVENT
DTSTART;TZID=UTC:20290403T190000
DTEND;TZID=UTC:20290403T230000
DTSTAMP:20260424T182653
CREATED:20260131T143845Z
LAST-MODIFIED:20260131T143845Z
UID:10002490-1869937200-1869951600@schalmdemeern.nl
SUMMARY:Ka Ka en Co
DESCRIPTION:
URL:https://schalmdemeern.nl/event/ka-ka-en-co/2029-04-03/
LOCATION:zaal 8
ORGANIZER;CN="De Schalm":MAILTO:info@schalmdemeern.nl
END:VEVENT
BEGIN:VEVENT
DTSTART;TZID=UTC:20290410T190000
DTEND;TZID=UTC:20290410T230000
DTSTAMP:20260424T182653
CREATED:20260131T143845Z
LAST-MODIFIED:20260131T143845Z
UID:10002491-1870542000-1870556400@schalmdemeern.nl
SUMMARY:Ka Ka en Co
DESCRIPTION:
URL:https://schalmdemeern.nl/event/ka-ka-en-co/2029-04-10/
LOCATION:zaal 8
ORGANIZER;CN="De Schalm":MAILTO:info@schalmdemeern.nl
END:VEVENT
BEGIN:VEVENT
DTSTART;TZID=UTC:20290417T190000
DTEND;TZID=UTC:20290417T230000
DTSTAMP:20260424T182653
CREATED:20260131T143845Z
LAST-MODIFIED:20260131T143845Z
UID:10002492-1871146800-1871161200@schalmdemeern.nl
SUMMARY:Ka Ka en Co
DESCRIPTION:
URL:https://schalmdemeern.nl/event/ka-ka-en-co/2029-04-17/
LOCATION:zaal 8
ORGANIZER;CN="De Schalm":MAILTO:info@schalmdemeern.nl
END:VEVENT
BEGIN:VEVENT
DTSTART;TZID=UTC:20290424T190000
DTEND;TZID=UTC:20290424T230000
DTSTAMP:20260424T182653
CREATED:20260131T143845Z
LAST-MODIFIED:20260131T143845Z
UID:10002493-1871751600-1871766000@schalmdemeern.nl
SUMMARY:Ka Ka en Co
DESCRIPTION:
URL:https://schalmdemeern.nl/event/ka-ka-en-co/2029-04-24/
LOCATION:zaal 8
ORGANIZER;CN="De Schalm":MAILTO:info@schalmdemeern.nl
END:VEVENT
BEGIN:VEVENT
DTSTART;TZID=UTC:20290501T190000
DTEND;TZID=UTC:20290501T230000
DTSTAMP:20260424T182653
CREATED:20260131T143845Z
LAST-MODIFIED:20260131T143845Z
UID:10002494-1872356400-1872370800@schalmdemeern.nl
SUMMARY:Ka Ka en Co
DESCRIPTION:
URL:https://schalmdemeern.nl/event/ka-ka-en-co/2029-05-01/
LOCATION:zaal 8
ORGANIZER;CN="De Schalm":MAILTO:info@schalmdemeern.nl
END:VEVENT
BEGIN:VEVENT
DTSTART;TZID=UTC:20290508T190000
DTEND;TZID=UTC:20290508T230000
DTSTAMP:20260424T182653
CREATED:20260131T143845Z
LAST-MODIFIED:20260131T143845Z
UID:10002495-1872961200-1872975600@schalmdemeern.nl
SUMMARY:Ka Ka en Co
DESCRIPTION:
URL:https://schalmdemeern.nl/event/ka-ka-en-co/2029-05-08/
LOCATION:zaal 8
ORGANIZER;CN="De Schalm":MAILTO:info@schalmdemeern.nl
END:VEVENT
BEGIN:VEVENT
DTSTART;TZID=UTC:20290515T190000
DTEND;TZID=UTC:20290515T230000
DTSTAMP:20260424T182653
CREATED:20260131T143845Z
LAST-MODIFIED:20260131T143845Z
UID:10002496-1873566000-1873580400@schalmdemeern.nl
SUMMARY:Ka Ka en Co
DESCRIPTION:
URL:https://schalmdemeern.nl/event/ka-ka-en-co/2029-05-15/
LOCATION:zaal 8
ORGANIZER;CN="De Schalm":MAILTO:info@schalmdemeern.nl
END:VEVENT
BEGIN:VEVENT
DTSTART;TZID=UTC:20290522T190000
DTEND;TZID=UTC:20290522T230000
DTSTAMP:20260424T182653
CREATED:20260131T143845Z
LAST-MODIFIED:20260131T143845Z
UID:10002497-1874170800-1874185200@schalmdemeern.nl
SUMMARY:Ka Ka en Co
DESCRIPTION:
URL:https://schalmdemeern.nl/event/ka-ka-en-co/2029-05-22/
LOCATION:zaal 8
ORGANIZER;CN="De Schalm":MAILTO:info@schalmdemeern.nl
END:VEVENT
BEGIN:VEVENT
DTSTART;TZID=UTC:20290529T190000
DTEND;TZID=UTC:20290529T230000
DTSTAMP:20260424T182653
CREATED:20260131T143845Z
LAST-MODIFIED:20260131T143845Z
UID:10002498-1874775600-1874790000@schalmdemeern.nl
SUMMARY:Ka Ka en Co
DESCRIPTION:
URL:https://schalmdemeern.nl/event/ka-ka-en-co/2029-05-29/
LOCATION:zaal 8
ORGANIZER;CN="De Schalm":MAILTO:info@schalmdemeern.nl
END:VEVENT
BEGIN:VEVENT
DTSTART;TZID=UTC:20290605T190000
DTEND;TZID=UTC:20290605T230000
DTSTAMP:20260424T182653
CREATED:20260131T143845Z
LAST-MODIFIED:20260131T143845Z
UID:10002499-1875380400-1875394800@schalmdemeern.nl
SUMMARY:Ka Ka en Co
DESCRIPTION:
URL:https://schalmdemeern.nl/event/ka-ka-en-co/2029-06-05/
LOCATION:zaal 8
ORGANIZER;CN="De Schalm":MAILTO:info@schalmdemeern.nl
END:VEVENT
BEGIN:VEVENT
DTSTART;TZID=UTC:20290612T190000
DTEND;TZID=UTC:20290612T230000
DTSTAMP:20260424T182653
CREATED:20260131T143845Z
LAST-MODIFIED:20260131T143845Z
UID:10002500-1875985200-1875999600@schalmdemeern.nl
SUMMARY:Ka Ka en Co
DESCRIPTION:
URL:https://schalmdemeern.nl/event/ka-ka-en-co/2029-06-12/
LOCATION:zaal 8
ORGANIZER;CN="De Schalm":MAILTO:info@schalmdemeern.nl
END:VEVENT
BEGIN:VEVENT
DTSTART;TZID=UTC:20290619T190000
DTEND;TZID=UTC:20290619T230000
DTSTAMP:20260424T182653
CREATED:20260131T143845Z
LAST-MODIFIED:20260131T143845Z
UID:10002501-1876590000-1876604400@schalmdemeern.nl
SUMMARY:Ka Ka en Co
DESCRIPTION:
URL:https://schalmdemeern.nl/event/ka-ka-en-co/2029-06-19/
LOCATION:zaal 8
ORGANIZER;CN="De Schalm":MAILTO:info@schalmdemeern.nl
END:VEVENT
BEGIN:VEVENT
DTSTART;TZID=UTC:20290626T190000
DTEND;TZID=UTC:20290626T230000
DTSTAMP:20260424T182653
CREATED:20260131T143845Z
LAST-MODIFIED:20260131T143845Z
UID:10002502-1877194800-1877209200@schalmdemeern.nl
SUMMARY:Ka Ka en Co
DESCRIPTION:
URL:https://schalmdemeern.nl/event/ka-ka-en-co/2029-06-26/
LOCATION:zaal 8
ORGANIZER;CN="De Schalm":MAILTO:info@schalmdemeern.nl
END:VEVENT
BEGIN:VEVENT
DTSTART;TZID=UTC:20290703T190000
DTEND;TZID=UTC:20290703T230000
DTSTAMP:20260424T182653
CREATED:20260131T143845Z
LAST-MODIFIED:20260131T143845Z
UID:10002503-1877799600-1877814000@schalmdemeern.nl
SUMMARY:Ka Ka en Co
DESCRIPTION:
URL:https://schalmdemeern.nl/event/ka-ka-en-co/2029-07-03/
LOCATION:zaal 8
ORGANIZER;CN="De Schalm":MAILTO:info@schalmdemeern.nl
END:VEVENT
BEGIN:VEVENT
DTSTART;TZID=UTC:20290710T190000
DTEND;TZID=UTC:20290710T230000
DTSTAMP:20260424T182653
CREATED:20260131T143845Z
LAST-MODIFIED:20260131T143845Z
UID:10002504-1878404400-1878418800@schalmdemeern.nl
SUMMARY:Ka Ka en Co
DESCRIPTION:
URL:https://schalmdemeern.nl/event/ka-ka-en-co/2029-07-10/
LOCATION:zaal 8
ORGANIZER;CN="De Schalm":MAILTO:info@schalmdemeern.nl
END:VEVENT
BEGIN:VEVENT
DTSTART;TZID=UTC:20290717T190000
DTEND;TZID=UTC:20290717T230000
DTSTAMP:20260424T182653
CREATED:20260131T143845Z
LAST-MODIFIED:20260131T143845Z
UID:10002505-1879009200-1879023600@schalmdemeern.nl
SUMMARY:Ka Ka en Co
DESCRIPTION:
URL:https://schalmdemeern.nl/event/ka-ka-en-co/2029-07-17/
LOCATION:zaal 8
ORGANIZER;CN="De Schalm":MAILTO:info@schalmdemeern.nl
END:VEVENT
BEGIN:VEVENT
DTSTART;TZID=UTC:20290724T190000
DTEND;TZID=UTC:20290724T230000
DTSTAMP:20260424T182653
CREATED:20260131T143845Z
LAST-MODIFIED:20260131T143845Z
UID:10002506-1879614000-1879628400@schalmdemeern.nl
SUMMARY:Ka Ka en Co
DESCRIPTION:
URL:https://schalmdemeern.nl/event/ka-ka-en-co/2029-07-24/
LOCATION:zaal 8
ORGANIZER;CN="De Schalm":MAILTO:info@schalmdemeern.nl
END:VEVENT
BEGIN:VEVENT
DTSTART;TZID=UTC:20290731T190000
DTEND;TZID=UTC:20290731T230000
DTSTAMP:20260424T182653
CREATED:20260131T143845Z
LAST-MODIFIED:20260131T143845Z
UID:10002507-1880218800-1880233200@schalmdemeern.nl
SUMMARY:Ka Ka en Co
DESCRIPTION:
URL:https://schalmdemeern.nl/event/ka-ka-en-co/2029-07-31/
LOCATION:zaal 8
ORGANIZER;CN="De Schalm":MAILTO:info@schalmdemeern.nl
END:VEVENT
BEGIN:VEVENT
DTSTART;TZID=UTC:20290807T190000
DTEND;TZID=UTC:20290807T230000
DTSTAMP:20260424T182653
CREATED:20260131T143845Z
LAST-MODIFIED:20260131T143845Z
UID:10002508-1880823600-1880838000@schalmdemeern.nl
SUMMARY:Ka Ka en Co
DESCRIPTION:
URL:https://schalmdemeern.nl/event/ka-ka-en-co/2029-08-07/
LOCATION:zaal 8
ORGANIZER;CN="De Schalm":MAILTO:info@schalmdemeern.nl
END:VEVENT
BEGIN:VEVENT
DTSTART;TZID=UTC:20290814T190000
DTEND;TZID=UTC:20290814T230000
DTSTAMP:20260424T182653
CREATED:20260131T143845Z
LAST-MODIFIED:20260131T143845Z
UID:10002509-1881428400-1881442800@schalmdemeern.nl
SUMMARY:Ka Ka en Co
DESCRIPTION:
URL:https://schalmdemeern.nl/event/ka-ka-en-co/2029-08-14/
LOCATION:zaal 8
ORGANIZER;CN="De Schalm":MAILTO:info@schalmdemeern.nl
END:VEVENT
END:VCALENDAR