BEGIN:VCALENDAR
VERSION:2.0
PRODID:-//De Schalm - ECPv6.15.18//NONSGML v1.0//EN
CALSCALE:GREGORIAN
METHOD:PUBLISH
X-ORIGINAL-URL:https://schalmdemeern.nl
X-WR-CALDESC:Evenementen voor De Schalm
REFRESH-INTERVAL;VALUE=DURATION:PT1H
X-Robots-Tag:noindex
X-PUBLISHED-TTL:PT1H
BEGIN:VTIMEZONE
TZID:UTC
BEGIN:STANDARD
TZOFFSETFROM:+0000
TZOFFSETTO:+0000
TZNAME:UTC
DTSTART:20260101T000000
END:STANDARD
END:VTIMEZONE
BEGIN:VEVENT
DTSTART;TZID=UTC:20270622T193000
DTEND;TZID=UTC:20270622T233000
DTSTAMP:20260422T213132
CREATED:20260131T143628Z
LAST-MODIFIED:20260131T143628Z
UID:10002136-1813692600-1813707000@schalmdemeern.nl
SUMMARY:Biljart Club De 4 Banden
DESCRIPTION:
URL:https://schalmdemeern.nl/event/biljart-club-de-4-banden/2027-06-22/
LOCATION:zaal 7
ORGANIZER;CN="De Schalm":MAILTO:info@schalmdemeern.nl
END:VEVENT
BEGIN:VEVENT
DTSTART;TZID=UTC:20270629T193000
DTEND;TZID=UTC:20270629T233000
DTSTAMP:20260422T213132
CREATED:20260131T143628Z
LAST-MODIFIED:20260131T143628Z
UID:10002137-1814297400-1814311800@schalmdemeern.nl
SUMMARY:Biljart Club De 4 Banden
DESCRIPTION:
URL:https://schalmdemeern.nl/event/biljart-club-de-4-banden/2027-06-29/
LOCATION:zaal 7
ORGANIZER;CN="De Schalm":MAILTO:info@schalmdemeern.nl
END:VEVENT
BEGIN:VEVENT
DTSTART;TZID=UTC:20270706T193000
DTEND;TZID=UTC:20270706T233000
DTSTAMP:20260422T213132
CREATED:20260131T143628Z
LAST-MODIFIED:20260131T143628Z
UID:10002138-1814902200-1814916600@schalmdemeern.nl
SUMMARY:Biljart Club De 4 Banden
DESCRIPTION:
URL:https://schalmdemeern.nl/event/biljart-club-de-4-banden/2027-07-06/
LOCATION:zaal 7
ORGANIZER;CN="De Schalm":MAILTO:info@schalmdemeern.nl
END:VEVENT
BEGIN:VEVENT
DTSTART;TZID=UTC:20270713T193000
DTEND;TZID=UTC:20270713T233000
DTSTAMP:20260422T213132
CREATED:20260131T143628Z
LAST-MODIFIED:20260131T143628Z
UID:10002139-1815507000-1815521400@schalmdemeern.nl
SUMMARY:Biljart Club De 4 Banden
DESCRIPTION:
URL:https://schalmdemeern.nl/event/biljart-club-de-4-banden/2027-07-13/
LOCATION:zaal 7
ORGANIZER;CN="De Schalm":MAILTO:info@schalmdemeern.nl
END:VEVENT
BEGIN:VEVENT
DTSTART;TZID=UTC:20270720T193000
DTEND;TZID=UTC:20270720T233000
DTSTAMP:20260422T213132
CREATED:20260131T143628Z
LAST-MODIFIED:20260131T143628Z
UID:10002140-1816111800-1816126200@schalmdemeern.nl
SUMMARY:Biljart Club De 4 Banden
DESCRIPTION:
URL:https://schalmdemeern.nl/event/biljart-club-de-4-banden/2027-07-20/
LOCATION:zaal 7
ORGANIZER;CN="De Schalm":MAILTO:info@schalmdemeern.nl
END:VEVENT
BEGIN:VEVENT
DTSTART;TZID=UTC:20270727T193000
DTEND;TZID=UTC:20270727T233000
DTSTAMP:20260422T213132
CREATED:20260131T143628Z
LAST-MODIFIED:20260131T143628Z
UID:10002141-1816716600-1816731000@schalmdemeern.nl
SUMMARY:Biljart Club De 4 Banden
DESCRIPTION:
URL:https://schalmdemeern.nl/event/biljart-club-de-4-banden/2027-07-27/
LOCATION:zaal 7
ORGANIZER;CN="De Schalm":MAILTO:info@schalmdemeern.nl
END:VEVENT
BEGIN:VEVENT
DTSTART;TZID=UTC:20270803T193000
DTEND;TZID=UTC:20270803T233000
DTSTAMP:20260422T213132
CREATED:20260131T143628Z
LAST-MODIFIED:20260131T143628Z
UID:10002142-1817321400-1817335800@schalmdemeern.nl
SUMMARY:Biljart Club De 4 Banden
DESCRIPTION:
URL:https://schalmdemeern.nl/event/biljart-club-de-4-banden/2027-08-03/
LOCATION:zaal 7
ORGANIZER;CN="De Schalm":MAILTO:info@schalmdemeern.nl
END:VEVENT
BEGIN:VEVENT
DTSTART;TZID=UTC:20270810T193000
DTEND;TZID=UTC:20270810T233000
DTSTAMP:20260422T213132
CREATED:20260131T143628Z
LAST-MODIFIED:20260131T143628Z
UID:10002143-1817926200-1817940600@schalmdemeern.nl
SUMMARY:Biljart Club De 4 Banden
DESCRIPTION:
URL:https://schalmdemeern.nl/event/biljart-club-de-4-banden/2027-08-10/
LOCATION:zaal 7
ORGANIZER;CN="De Schalm":MAILTO:info@schalmdemeern.nl
END:VEVENT
BEGIN:VEVENT
DTSTART;TZID=UTC:20270817T193000
DTEND;TZID=UTC:20270817T233000
DTSTAMP:20260422T213132
CREATED:20260131T143628Z
LAST-MODIFIED:20260131T143628Z
UID:10002144-1818531000-1818545400@schalmdemeern.nl
SUMMARY:Biljart Club De 4 Banden
DESCRIPTION:
URL:https://schalmdemeern.nl/event/biljart-club-de-4-banden/2027-08-17/
LOCATION:zaal 7
ORGANIZER;CN="De Schalm":MAILTO:info@schalmdemeern.nl
END:VEVENT
BEGIN:VEVENT
DTSTART;TZID=UTC:20270824T193000
DTEND;TZID=UTC:20270824T233000
DTSTAMP:20260422T213132
CREATED:20260131T143628Z
LAST-MODIFIED:20260131T143628Z
UID:10002145-1819135800-1819150200@schalmdemeern.nl
SUMMARY:Biljart Club De 4 Banden
DESCRIPTION:
URL:https://schalmdemeern.nl/event/biljart-club-de-4-banden/2027-08-24/
LOCATION:zaal 7
ORGANIZER;CN="De Schalm":MAILTO:info@schalmdemeern.nl
END:VEVENT
BEGIN:VEVENT
DTSTART;TZID=UTC:20270831T193000
DTEND;TZID=UTC:20270831T233000
DTSTAMP:20260422T213132
CREATED:20260131T143628Z
LAST-MODIFIED:20260131T143628Z
UID:10002146-1819740600-1819755000@schalmdemeern.nl
SUMMARY:Biljart Club De 4 Banden
DESCRIPTION:
URL:https://schalmdemeern.nl/event/biljart-club-de-4-banden/2027-08-31/
LOCATION:zaal 7
ORGANIZER;CN="De Schalm":MAILTO:info@schalmdemeern.nl
END:VEVENT
BEGIN:VEVENT
DTSTART;TZID=UTC:20270907T193000
DTEND;TZID=UTC:20270907T233000
DTSTAMP:20260422T213132
CREATED:20260131T143628Z
LAST-MODIFIED:20260131T143628Z
UID:10002147-1820345400-1820359800@schalmdemeern.nl
SUMMARY:Biljart Club De 4 Banden
DESCRIPTION:
URL:https://schalmdemeern.nl/event/biljart-club-de-4-banden/2027-09-07/
LOCATION:zaal 7
ORGANIZER;CN="De Schalm":MAILTO:info@schalmdemeern.nl
END:VEVENT
BEGIN:VEVENT
DTSTART;TZID=UTC:20270914T193000
DTEND;TZID=UTC:20270914T233000
DTSTAMP:20260422T213132
CREATED:20260131T143628Z
LAST-MODIFIED:20260131T143628Z
UID:10002148-1820950200-1820964600@schalmdemeern.nl
SUMMARY:Biljart Club De 4 Banden
DESCRIPTION:
URL:https://schalmdemeern.nl/event/biljart-club-de-4-banden/2027-09-14/
LOCATION:zaal 7
ORGANIZER;CN="De Schalm":MAILTO:info@schalmdemeern.nl
END:VEVENT
BEGIN:VEVENT
DTSTART;TZID=UTC:20270921T193000
DTEND;TZID=UTC:20270921T233000
DTSTAMP:20260422T213132
CREATED:20260131T143628Z
LAST-MODIFIED:20260131T143628Z
UID:10002149-1821555000-1821569400@schalmdemeern.nl
SUMMARY:Biljart Club De 4 Banden
DESCRIPTION:
URL:https://schalmdemeern.nl/event/biljart-club-de-4-banden/2027-09-21/
LOCATION:zaal 7
ORGANIZER;CN="De Schalm":MAILTO:info@schalmdemeern.nl
END:VEVENT
BEGIN:VEVENT
DTSTART;TZID=UTC:20270928T193000
DTEND;TZID=UTC:20270928T233000
DTSTAMP:20260422T213132
CREATED:20260131T143628Z
LAST-MODIFIED:20260131T143628Z
UID:10002150-1822159800-1822174200@schalmdemeern.nl
SUMMARY:Biljart Club De 4 Banden
DESCRIPTION:
URL:https://schalmdemeern.nl/event/biljart-club-de-4-banden/2027-09-28/
LOCATION:zaal 7
ORGANIZER;CN="De Schalm":MAILTO:info@schalmdemeern.nl
END:VEVENT
BEGIN:VEVENT
DTSTART;TZID=UTC:20271005T193000
DTEND;TZID=UTC:20271005T233000
DTSTAMP:20260422T213132
CREATED:20260131T143628Z
LAST-MODIFIED:20260131T143628Z
UID:10002151-1822764600-1822779000@schalmdemeern.nl
SUMMARY:Biljart Club De 4 Banden
DESCRIPTION:
URL:https://schalmdemeern.nl/event/biljart-club-de-4-banden/2027-10-05/
LOCATION:zaal 7
ORGANIZER;CN="De Schalm":MAILTO:info@schalmdemeern.nl
END:VEVENT
BEGIN:VEVENT
DTSTART;TZID=UTC:20271012T193000
DTEND;TZID=UTC:20271012T233000
DTSTAMP:20260422T213132
CREATED:20260131T143628Z
LAST-MODIFIED:20260131T143628Z
UID:10002152-1823369400-1823383800@schalmdemeern.nl
SUMMARY:Biljart Club De 4 Banden
DESCRIPTION:
URL:https://schalmdemeern.nl/event/biljart-club-de-4-banden/2027-10-12/
LOCATION:zaal 7
ORGANIZER;CN="De Schalm":MAILTO:info@schalmdemeern.nl
END:VEVENT
BEGIN:VEVENT
DTSTART;TZID=UTC:20271019T193000
DTEND;TZID=UTC:20271019T233000
DTSTAMP:20260422T213132
CREATED:20260131T143628Z
LAST-MODIFIED:20260131T143628Z
UID:10002153-1823974200-1823988600@schalmdemeern.nl
SUMMARY:Biljart Club De 4 Banden
DESCRIPTION:
URL:https://schalmdemeern.nl/event/biljart-club-de-4-banden/2027-10-19/
LOCATION:zaal 7
ORGANIZER;CN="De Schalm":MAILTO:info@schalmdemeern.nl
END:VEVENT
BEGIN:VEVENT
DTSTART;TZID=UTC:20271026T193000
DTEND;TZID=UTC:20271026T233000
DTSTAMP:20260422T213132
CREATED:20260131T143628Z
LAST-MODIFIED:20260131T143628Z
UID:10002154-1824579000-1824593400@schalmdemeern.nl
SUMMARY:Biljart Club De 4 Banden
DESCRIPTION:
URL:https://schalmdemeern.nl/event/biljart-club-de-4-banden/2027-10-26/
LOCATION:zaal 7
ORGANIZER;CN="De Schalm":MAILTO:info@schalmdemeern.nl
END:VEVENT
BEGIN:VEVENT
DTSTART;TZID=UTC:20271102T193000
DTEND;TZID=UTC:20271102T233000
DTSTAMP:20260422T213132
CREATED:20260131T143628Z
LAST-MODIFIED:20260131T143628Z
UID:10002155-1825183800-1825198200@schalmdemeern.nl
SUMMARY:Biljart Club De 4 Banden
DESCRIPTION:
URL:https://schalmdemeern.nl/event/biljart-club-de-4-banden/2027-11-02/
LOCATION:zaal 7
ORGANIZER;CN="De Schalm":MAILTO:info@schalmdemeern.nl
END:VEVENT
BEGIN:VEVENT
DTSTART;TZID=UTC:20271109T193000
DTEND;TZID=UTC:20271109T233000
DTSTAMP:20260422T213132
CREATED:20260131T143628Z
LAST-MODIFIED:20260131T143628Z
UID:10002156-1825788600-1825803000@schalmdemeern.nl
SUMMARY:Biljart Club De 4 Banden
DESCRIPTION:
URL:https://schalmdemeern.nl/event/biljart-club-de-4-banden/2027-11-09/
LOCATION:zaal 7
ORGANIZER;CN="De Schalm":MAILTO:info@schalmdemeern.nl
END:VEVENT
BEGIN:VEVENT
DTSTART;TZID=UTC:20271116T193000
DTEND;TZID=UTC:20271116T233000
DTSTAMP:20260422T213132
CREATED:20260131T143628Z
LAST-MODIFIED:20260131T143628Z
UID:10002157-1826393400-1826407800@schalmdemeern.nl
SUMMARY:Biljart Club De 4 Banden
DESCRIPTION:
URL:https://schalmdemeern.nl/event/biljart-club-de-4-banden/2027-11-16/
LOCATION:zaal 7
ORGANIZER;CN="De Schalm":MAILTO:info@schalmdemeern.nl
END:VEVENT
BEGIN:VEVENT
DTSTART;TZID=UTC:20271123T193000
DTEND;TZID=UTC:20271123T233000
DTSTAMP:20260422T213132
CREATED:20260131T143628Z
LAST-MODIFIED:20260131T143628Z
UID:10002158-1826998200-1827012600@schalmdemeern.nl
SUMMARY:Biljart Club De 4 Banden
DESCRIPTION:
URL:https://schalmdemeern.nl/event/biljart-club-de-4-banden/2027-11-23/
LOCATION:zaal 7
ORGANIZER;CN="De Schalm":MAILTO:info@schalmdemeern.nl
END:VEVENT
BEGIN:VEVENT
DTSTART;TZID=UTC:20271130T193000
DTEND;TZID=UTC:20271130T233000
DTSTAMP:20260422T213132
CREATED:20260131T143628Z
LAST-MODIFIED:20260131T143628Z
UID:10002159-1827603000-1827617400@schalmdemeern.nl
SUMMARY:Biljart Club De 4 Banden
DESCRIPTION:
URL:https://schalmdemeern.nl/event/biljart-club-de-4-banden/2027-11-30/
LOCATION:zaal 7
ORGANIZER;CN="De Schalm":MAILTO:info@schalmdemeern.nl
END:VEVENT
BEGIN:VEVENT
DTSTART;TZID=UTC:20271207T193000
DTEND;TZID=UTC:20271207T233000
DTSTAMP:20260422T213132
CREATED:20260131T143628Z
LAST-MODIFIED:20260131T143628Z
UID:10002160-1828207800-1828222200@schalmdemeern.nl
SUMMARY:Biljart Club De 4 Banden
DESCRIPTION:
URL:https://schalmdemeern.nl/event/biljart-club-de-4-banden/2027-12-07/
LOCATION:zaal 7
ORGANIZER;CN="De Schalm":MAILTO:info@schalmdemeern.nl
END:VEVENT
BEGIN:VEVENT
DTSTART;TZID=UTC:20271214T193000
DTEND;TZID=UTC:20271214T233000
DTSTAMP:20260422T213132
CREATED:20260131T143628Z
LAST-MODIFIED:20260131T143628Z
UID:10002161-1828812600-1828827000@schalmdemeern.nl
SUMMARY:Biljart Club De 4 Banden
DESCRIPTION:
URL:https://schalmdemeern.nl/event/biljart-club-de-4-banden/2027-12-14/
LOCATION:zaal 7
ORGANIZER;CN="De Schalm":MAILTO:info@schalmdemeern.nl
END:VEVENT
BEGIN:VEVENT
DTSTART;TZID=UTC:20271221T193000
DTEND;TZID=UTC:20271221T233000
DTSTAMP:20260422T213132
CREATED:20260131T143628Z
LAST-MODIFIED:20260131T143628Z
UID:10002162-1829417400-1829431800@schalmdemeern.nl
SUMMARY:Biljart Club De 4 Banden
DESCRIPTION:
URL:https://schalmdemeern.nl/event/biljart-club-de-4-banden/2027-12-21/
LOCATION:zaal 7
ORGANIZER;CN="De Schalm":MAILTO:info@schalmdemeern.nl
END:VEVENT
BEGIN:VEVENT
DTSTART;TZID=UTC:20271228T193000
DTEND;TZID=UTC:20271228T233000
DTSTAMP:20260422T213132
CREATED:20260131T143628Z
LAST-MODIFIED:20260131T143628Z
UID:10002163-1830022200-1830036600@schalmdemeern.nl
SUMMARY:Biljart Club De 4 Banden
DESCRIPTION:
URL:https://schalmdemeern.nl/event/biljart-club-de-4-banden/2027-12-28/
LOCATION:zaal 7
ORGANIZER;CN="De Schalm":MAILTO:info@schalmdemeern.nl
END:VEVENT
BEGIN:VEVENT
DTSTART;TZID=UTC:20280104T193000
DTEND;TZID=UTC:20280104T233000
DTSTAMP:20260422T213132
CREATED:20260131T143628Z
LAST-MODIFIED:20260131T143628Z
UID:10002164-1830627000-1830641400@schalmdemeern.nl
SUMMARY:Biljart Club De 4 Banden
DESCRIPTION:
URL:https://schalmdemeern.nl/event/biljart-club-de-4-banden/2028-01-04/
LOCATION:zaal 7
ORGANIZER;CN="De Schalm":MAILTO:info@schalmdemeern.nl
END:VEVENT
BEGIN:VEVENT
DTSTART;TZID=UTC:20280111T193000
DTEND;TZID=UTC:20280111T233000
DTSTAMP:20260422T213132
CREATED:20260131T143628Z
LAST-MODIFIED:20260131T143628Z
UID:10002165-1831231800-1831246200@schalmdemeern.nl
SUMMARY:Biljart Club De 4 Banden
DESCRIPTION:
URL:https://schalmdemeern.nl/event/biljart-club-de-4-banden/2028-01-11/
LOCATION:zaal 7
ORGANIZER;CN="De Schalm":MAILTO:info@schalmdemeern.nl
END:VEVENT
END:VCALENDAR