BEGIN:VCALENDAR
VERSION:2.0
PRODID:-//De Schalm - ECPv6.15.18//NONSGML v1.0//EN
CALSCALE:GREGORIAN
METHOD:PUBLISH
X-WR-CALNAME:De Schalm
X-ORIGINAL-URL:https://schalmdemeern.nl
X-WR-CALDESC:Evenementen voor De Schalm
REFRESH-INTERVAL;VALUE=DURATION:PT1H
X-Robots-Tag:noindex
X-PUBLISHED-TTL:PT1H
BEGIN:VTIMEZONE
TZID:UTC
BEGIN:STANDARD
TZOFFSETFROM:+0000
TZOFFSETTO:+0000
TZNAME:UTC
DTSTART:20250101T000000
END:STANDARD
END:VTIMEZONE
BEGIN:VEVENT
DTSTART;TZID=UTC:20261013T193000
DTEND;TZID=UTC:20261013T233000
DTSTAMP:20260422T153334
CREATED:20260131T143628Z
LAST-MODIFIED:20260131T143628Z
UID:10002100-1791919800-1791934200@schalmdemeern.nl
SUMMARY:Biljart Club De 4 Banden
DESCRIPTION:
URL:https://schalmdemeern.nl/event/biljart-club-de-4-banden/2026-10-13/
LOCATION:zaal 7
ORGANIZER;CN="De Schalm":MAILTO:info@schalmdemeern.nl
END:VEVENT
BEGIN:VEVENT
DTSTART;TZID=UTC:20261020T193000
DTEND;TZID=UTC:20261020T233000
DTSTAMP:20260422T153334
CREATED:20260131T143628Z
LAST-MODIFIED:20260131T143628Z
UID:10002101-1792524600-1792539000@schalmdemeern.nl
SUMMARY:Biljart Club De 4 Banden
DESCRIPTION:
URL:https://schalmdemeern.nl/event/biljart-club-de-4-banden/2026-10-20/
LOCATION:zaal 7
ORGANIZER;CN="De Schalm":MAILTO:info@schalmdemeern.nl
END:VEVENT
BEGIN:VEVENT
DTSTART;TZID=UTC:20261027T193000
DTEND;TZID=UTC:20261027T233000
DTSTAMP:20260422T153334
CREATED:20260131T143628Z
LAST-MODIFIED:20260131T143628Z
UID:10002102-1793129400-1793143800@schalmdemeern.nl
SUMMARY:Biljart Club De 4 Banden
DESCRIPTION:
URL:https://schalmdemeern.nl/event/biljart-club-de-4-banden/2026-10-27/
LOCATION:zaal 7
ORGANIZER;CN="De Schalm":MAILTO:info@schalmdemeern.nl
END:VEVENT
BEGIN:VEVENT
DTSTART;TZID=UTC:20261103T193000
DTEND;TZID=UTC:20261103T233000
DTSTAMP:20260422T153334
CREATED:20260131T143628Z
LAST-MODIFIED:20260131T143628Z
UID:10002103-1793734200-1793748600@schalmdemeern.nl
SUMMARY:Biljart Club De 4 Banden
DESCRIPTION:
URL:https://schalmdemeern.nl/event/biljart-club-de-4-banden/2026-11-03/
LOCATION:zaal 7
ORGANIZER;CN="De Schalm":MAILTO:info@schalmdemeern.nl
END:VEVENT
BEGIN:VEVENT
DTSTART;TZID=UTC:20261110T193000
DTEND;TZID=UTC:20261110T233000
DTSTAMP:20260422T153334
CREATED:20260131T143628Z
LAST-MODIFIED:20260131T143628Z
UID:10002104-1794339000-1794353400@schalmdemeern.nl
SUMMARY:Biljart Club De 4 Banden
DESCRIPTION:
URL:https://schalmdemeern.nl/event/biljart-club-de-4-banden/2026-11-10/
LOCATION:zaal 7
ORGANIZER;CN="De Schalm":MAILTO:info@schalmdemeern.nl
END:VEVENT
BEGIN:VEVENT
DTSTART;TZID=UTC:20261117T193000
DTEND;TZID=UTC:20261117T233000
DTSTAMP:20260422T153334
CREATED:20260131T143628Z
LAST-MODIFIED:20260131T143628Z
UID:10002105-1794943800-1794958200@schalmdemeern.nl
SUMMARY:Biljart Club De 4 Banden
DESCRIPTION:
URL:https://schalmdemeern.nl/event/biljart-club-de-4-banden/2026-11-17/
LOCATION:zaal 7
ORGANIZER;CN="De Schalm":MAILTO:info@schalmdemeern.nl
END:VEVENT
BEGIN:VEVENT
DTSTART;TZID=UTC:20261124T193000
DTEND;TZID=UTC:20261124T233000
DTSTAMP:20260422T153334
CREATED:20260131T143628Z
LAST-MODIFIED:20260131T143628Z
UID:10002106-1795548600-1795563000@schalmdemeern.nl
SUMMARY:Biljart Club De 4 Banden
DESCRIPTION:
URL:https://schalmdemeern.nl/event/biljart-club-de-4-banden/2026-11-24/
LOCATION:zaal 7
ORGANIZER;CN="De Schalm":MAILTO:info@schalmdemeern.nl
END:VEVENT
BEGIN:VEVENT
DTSTART;TZID=UTC:20261201T193000
DTEND;TZID=UTC:20261201T233000
DTSTAMP:20260422T153334
CREATED:20260131T143628Z
LAST-MODIFIED:20260131T143628Z
UID:10002107-1796153400-1796167800@schalmdemeern.nl
SUMMARY:Biljart Club De 4 Banden
DESCRIPTION:
URL:https://schalmdemeern.nl/event/biljart-club-de-4-banden/2026-12-01/
LOCATION:zaal 7
ORGANIZER;CN="De Schalm":MAILTO:info@schalmdemeern.nl
END:VEVENT
BEGIN:VEVENT
DTSTART;TZID=UTC:20261208T193000
DTEND;TZID=UTC:20261208T233000
DTSTAMP:20260422T153334
CREATED:20260131T143628Z
LAST-MODIFIED:20260131T143628Z
UID:10002108-1796758200-1796772600@schalmdemeern.nl
SUMMARY:Biljart Club De 4 Banden
DESCRIPTION:
URL:https://schalmdemeern.nl/event/biljart-club-de-4-banden/2026-12-08/
LOCATION:zaal 7
ORGANIZER;CN="De Schalm":MAILTO:info@schalmdemeern.nl
END:VEVENT
BEGIN:VEVENT
DTSTART;TZID=UTC:20261215T193000
DTEND;TZID=UTC:20261215T233000
DTSTAMP:20260422T153334
CREATED:20260131T143628Z
LAST-MODIFIED:20260131T143628Z
UID:10002109-1797363000-1797377400@schalmdemeern.nl
SUMMARY:Biljart Club De 4 Banden
DESCRIPTION:
URL:https://schalmdemeern.nl/event/biljart-club-de-4-banden/2026-12-15/
LOCATION:zaal 7
ORGANIZER;CN="De Schalm":MAILTO:info@schalmdemeern.nl
END:VEVENT
BEGIN:VEVENT
DTSTART;TZID=UTC:20261222T193000
DTEND;TZID=UTC:20261222T233000
DTSTAMP:20260422T153334
CREATED:20260131T143628Z
LAST-MODIFIED:20260131T143628Z
UID:10002110-1797967800-1797982200@schalmdemeern.nl
SUMMARY:Biljart Club De 4 Banden
DESCRIPTION:
URL:https://schalmdemeern.nl/event/biljart-club-de-4-banden/2026-12-22/
LOCATION:zaal 7
ORGANIZER;CN="De Schalm":MAILTO:info@schalmdemeern.nl
END:VEVENT
BEGIN:VEVENT
DTSTART;TZID=UTC:20261229T193000
DTEND;TZID=UTC:20261229T233000
DTSTAMP:20260422T153334
CREATED:20260131T143628Z
LAST-MODIFIED:20260131T143628Z
UID:10002111-1798572600-1798587000@schalmdemeern.nl
SUMMARY:Biljart Club De 4 Banden
DESCRIPTION:
URL:https://schalmdemeern.nl/event/biljart-club-de-4-banden/2026-12-29/
LOCATION:zaal 7
ORGANIZER;CN="De Schalm":MAILTO:info@schalmdemeern.nl
END:VEVENT
BEGIN:VEVENT
DTSTART;TZID=UTC:20270105T193000
DTEND;TZID=UTC:20270105T233000
DTSTAMP:20260422T153334
CREATED:20260131T143628Z
LAST-MODIFIED:20260131T143628Z
UID:10002112-1799177400-1799191800@schalmdemeern.nl
SUMMARY:Biljart Club De 4 Banden
DESCRIPTION:
URL:https://schalmdemeern.nl/event/biljart-club-de-4-banden/2027-01-05/
LOCATION:zaal 7
ORGANIZER;CN="De Schalm":MAILTO:info@schalmdemeern.nl
END:VEVENT
BEGIN:VEVENT
DTSTART;TZID=UTC:20270112T193000
DTEND;TZID=UTC:20270112T233000
DTSTAMP:20260422T153334
CREATED:20260131T143628Z
LAST-MODIFIED:20260131T143628Z
UID:10002113-1799782200-1799796600@schalmdemeern.nl
SUMMARY:Biljart Club De 4 Banden
DESCRIPTION:
URL:https://schalmdemeern.nl/event/biljart-club-de-4-banden/2027-01-12/
LOCATION:zaal 7
ORGANIZER;CN="De Schalm":MAILTO:info@schalmdemeern.nl
END:VEVENT
BEGIN:VEVENT
DTSTART;TZID=UTC:20270119T193000
DTEND;TZID=UTC:20270119T233000
DTSTAMP:20260422T153334
CREATED:20260131T143628Z
LAST-MODIFIED:20260131T143628Z
UID:10002114-1800387000-1800401400@schalmdemeern.nl
SUMMARY:Biljart Club De 4 Banden
DESCRIPTION:
URL:https://schalmdemeern.nl/event/biljart-club-de-4-banden/2027-01-19/
LOCATION:zaal 7
ORGANIZER;CN="De Schalm":MAILTO:info@schalmdemeern.nl
END:VEVENT
BEGIN:VEVENT
DTSTART;TZID=UTC:20270126T193000
DTEND;TZID=UTC:20270126T233000
DTSTAMP:20260422T153334
CREATED:20260131T143628Z
LAST-MODIFIED:20260131T143628Z
UID:10002115-1800991800-1801006200@schalmdemeern.nl
SUMMARY:Biljart Club De 4 Banden
DESCRIPTION:
URL:https://schalmdemeern.nl/event/biljart-club-de-4-banden/2027-01-26/
LOCATION:zaal 7
ORGANIZER;CN="De Schalm":MAILTO:info@schalmdemeern.nl
END:VEVENT
BEGIN:VEVENT
DTSTART;TZID=UTC:20270202T193000
DTEND;TZID=UTC:20270202T233000
DTSTAMP:20260422T153334
CREATED:20260131T143628Z
LAST-MODIFIED:20260131T143628Z
UID:10002116-1801596600-1801611000@schalmdemeern.nl
SUMMARY:Biljart Club De 4 Banden
DESCRIPTION:
URL:https://schalmdemeern.nl/event/biljart-club-de-4-banden/2027-02-02/
LOCATION:zaal 7
ORGANIZER;CN="De Schalm":MAILTO:info@schalmdemeern.nl
END:VEVENT
BEGIN:VEVENT
DTSTART;TZID=UTC:20270209T193000
DTEND;TZID=UTC:20270209T233000
DTSTAMP:20260422T153334
CREATED:20260131T143628Z
LAST-MODIFIED:20260131T143628Z
UID:10002117-1802201400-1802215800@schalmdemeern.nl
SUMMARY:Biljart Club De 4 Banden
DESCRIPTION:
URL:https://schalmdemeern.nl/event/biljart-club-de-4-banden/2027-02-09/
LOCATION:zaal 7
ORGANIZER;CN="De Schalm":MAILTO:info@schalmdemeern.nl
END:VEVENT
BEGIN:VEVENT
DTSTART;TZID=UTC:20270216T193000
DTEND;TZID=UTC:20270216T233000
DTSTAMP:20260422T153334
CREATED:20260131T143628Z
LAST-MODIFIED:20260131T143628Z
UID:10002118-1802806200-1802820600@schalmdemeern.nl
SUMMARY:Biljart Club De 4 Banden
DESCRIPTION:
URL:https://schalmdemeern.nl/event/biljart-club-de-4-banden/2027-02-16/
LOCATION:zaal 7
ORGANIZER;CN="De Schalm":MAILTO:info@schalmdemeern.nl
END:VEVENT
BEGIN:VEVENT
DTSTART;TZID=UTC:20270223T193000
DTEND;TZID=UTC:20270223T233000
DTSTAMP:20260422T153334
CREATED:20260131T143628Z
LAST-MODIFIED:20260131T143628Z
UID:10002119-1803411000-1803425400@schalmdemeern.nl
SUMMARY:Biljart Club De 4 Banden
DESCRIPTION:
URL:https://schalmdemeern.nl/event/biljart-club-de-4-banden/2027-02-23/
LOCATION:zaal 7
ORGANIZER;CN="De Schalm":MAILTO:info@schalmdemeern.nl
END:VEVENT
BEGIN:VEVENT
DTSTART;TZID=UTC:20270302T193000
DTEND;TZID=UTC:20270302T233000
DTSTAMP:20260422T153334
CREATED:20260131T143628Z
LAST-MODIFIED:20260131T143628Z
UID:10002120-1804015800-1804030200@schalmdemeern.nl
SUMMARY:Biljart Club De 4 Banden
DESCRIPTION:
URL:https://schalmdemeern.nl/event/biljart-club-de-4-banden/2027-03-02/
LOCATION:zaal 7
ORGANIZER;CN="De Schalm":MAILTO:info@schalmdemeern.nl
END:VEVENT
BEGIN:VEVENT
DTSTART;TZID=UTC:20270309T193000
DTEND;TZID=UTC:20270309T233000
DTSTAMP:20260422T153334
CREATED:20260131T143628Z
LAST-MODIFIED:20260131T143628Z
UID:10002121-1804620600-1804635000@schalmdemeern.nl
SUMMARY:Biljart Club De 4 Banden
DESCRIPTION:
URL:https://schalmdemeern.nl/event/biljart-club-de-4-banden/2027-03-09/
LOCATION:zaal 7
ORGANIZER;CN="De Schalm":MAILTO:info@schalmdemeern.nl
END:VEVENT
BEGIN:VEVENT
DTSTART;TZID=UTC:20270316T193000
DTEND;TZID=UTC:20270316T233000
DTSTAMP:20260422T153334
CREATED:20260131T143628Z
LAST-MODIFIED:20260131T143628Z
UID:10002122-1805225400-1805239800@schalmdemeern.nl
SUMMARY:Biljart Club De 4 Banden
DESCRIPTION:
URL:https://schalmdemeern.nl/event/biljart-club-de-4-banden/2027-03-16/
LOCATION:zaal 7
ORGANIZER;CN="De Schalm":MAILTO:info@schalmdemeern.nl
END:VEVENT
BEGIN:VEVENT
DTSTART;TZID=UTC:20270323T193000
DTEND;TZID=UTC:20270323T233000
DTSTAMP:20260422T153334
CREATED:20260131T143628Z
LAST-MODIFIED:20260131T143628Z
UID:10002123-1805830200-1805844600@schalmdemeern.nl
SUMMARY:Biljart Club De 4 Banden
DESCRIPTION:
URL:https://schalmdemeern.nl/event/biljart-club-de-4-banden/2027-03-23/
LOCATION:zaal 7
ORGANIZER;CN="De Schalm":MAILTO:info@schalmdemeern.nl
END:VEVENT
BEGIN:VEVENT
DTSTART;TZID=UTC:20270330T193000
DTEND;TZID=UTC:20270330T233000
DTSTAMP:20260422T153334
CREATED:20260131T143628Z
LAST-MODIFIED:20260131T143628Z
UID:10002124-1806435000-1806449400@schalmdemeern.nl
SUMMARY:Biljart Club De 4 Banden
DESCRIPTION:
URL:https://schalmdemeern.nl/event/biljart-club-de-4-banden/2027-03-30/
LOCATION:zaal 7
ORGANIZER;CN="De Schalm":MAILTO:info@schalmdemeern.nl
END:VEVENT
BEGIN:VEVENT
DTSTART;TZID=UTC:20270406T193000
DTEND;TZID=UTC:20270406T233000
DTSTAMP:20260422T153334
CREATED:20260131T143628Z
LAST-MODIFIED:20260131T143628Z
UID:10002125-1807039800-1807054200@schalmdemeern.nl
SUMMARY:Biljart Club De 4 Banden
DESCRIPTION:
URL:https://schalmdemeern.nl/event/biljart-club-de-4-banden/2027-04-06/
LOCATION:zaal 7
ORGANIZER;CN="De Schalm":MAILTO:info@schalmdemeern.nl
END:VEVENT
BEGIN:VEVENT
DTSTART;TZID=UTC:20270413T193000
DTEND;TZID=UTC:20270413T233000
DTSTAMP:20260422T153334
CREATED:20260131T143628Z
LAST-MODIFIED:20260131T143628Z
UID:10002126-1807644600-1807659000@schalmdemeern.nl
SUMMARY:Biljart Club De 4 Banden
DESCRIPTION:
URL:https://schalmdemeern.nl/event/biljart-club-de-4-banden/2027-04-13/
LOCATION:zaal 7
ORGANIZER;CN="De Schalm":MAILTO:info@schalmdemeern.nl
END:VEVENT
BEGIN:VEVENT
DTSTART;TZID=UTC:20270420T193000
DTEND;TZID=UTC:20270420T233000
DTSTAMP:20260422T153334
CREATED:20260131T143628Z
LAST-MODIFIED:20260131T143628Z
UID:10002127-1808249400-1808263800@schalmdemeern.nl
SUMMARY:Biljart Club De 4 Banden
DESCRIPTION:
URL:https://schalmdemeern.nl/event/biljart-club-de-4-banden/2027-04-20/
LOCATION:zaal 7
ORGANIZER;CN="De Schalm":MAILTO:info@schalmdemeern.nl
END:VEVENT
BEGIN:VEVENT
DTSTART;TZID=UTC:20270427T193000
DTEND;TZID=UTC:20270427T233000
DTSTAMP:20260422T153334
CREATED:20260131T143628Z
LAST-MODIFIED:20260131T143628Z
UID:10002128-1808854200-1808868600@schalmdemeern.nl
SUMMARY:Biljart Club De 4 Banden
DESCRIPTION:
URL:https://schalmdemeern.nl/event/biljart-club-de-4-banden/2027-04-27/
LOCATION:zaal 7
ORGANIZER;CN="De Schalm":MAILTO:info@schalmdemeern.nl
END:VEVENT
BEGIN:VEVENT
DTSTART;TZID=UTC:20270504T193000
DTEND;TZID=UTC:20270504T233000
DTSTAMP:20260422T153334
CREATED:20260131T143628Z
LAST-MODIFIED:20260131T143628Z
UID:10002129-1809459000-1809473400@schalmdemeern.nl
SUMMARY:Biljart Club De 4 Banden
DESCRIPTION:
URL:https://schalmdemeern.nl/event/biljart-club-de-4-banden/2027-05-04/
LOCATION:zaal 7
ORGANIZER;CN="De Schalm":MAILTO:info@schalmdemeern.nl
END:VEVENT
END:VCALENDAR