BEGIN:VCALENDAR
VERSION:2.0
PRODID:-//De Schalm - ECPv6.15.18//NONSGML v1.0//EN
CALSCALE:GREGORIAN
METHOD:PUBLISH
X-WR-CALNAME:De Schalm
X-ORIGINAL-URL:https://schalmdemeern.nl
X-WR-CALDESC:Evenementen voor De Schalm
REFRESH-INTERVAL;VALUE=DURATION:PT1H
X-Robots-Tag:noindex
X-PUBLISHED-TTL:PT1H
BEGIN:VTIMEZONE
TZID:UTC
BEGIN:STANDARD
TZOFFSETFROM:+0000
TZOFFSETTO:+0000
TZNAME:UTC
DTSTART:20270101T000000
END:STANDARD
END:VTIMEZONE
BEGIN:VEVENT
DTSTART;TZID=UTC:20280815T193000
DTEND;TZID=UTC:20280815T233000
DTSTAMP:20260425T145409
CREATED:20260131T143628Z
LAST-MODIFIED:20260131T143628Z
UID:10002196-1849980600-1849995000@schalmdemeern.nl
SUMMARY:Biljart Club De 4 Banden
DESCRIPTION:
URL:https://schalmdemeern.nl/event/biljart-club-de-4-banden/2028-08-15/
LOCATION:zaal 7
ORGANIZER;CN="De Schalm":MAILTO:info@schalmdemeern.nl
END:VEVENT
BEGIN:VEVENT
DTSTART;TZID=UTC:20280822T193000
DTEND;TZID=UTC:20280822T233000
DTSTAMP:20260425T145409
CREATED:20260131T143628Z
LAST-MODIFIED:20260131T143628Z
UID:10002197-1850585400-1850599800@schalmdemeern.nl
SUMMARY:Biljart Club De 4 Banden
DESCRIPTION:
URL:https://schalmdemeern.nl/event/biljart-club-de-4-banden/2028-08-22/
LOCATION:zaal 7
ORGANIZER;CN="De Schalm":MAILTO:info@schalmdemeern.nl
END:VEVENT
BEGIN:VEVENT
DTSTART;TZID=UTC:20280829T193000
DTEND;TZID=UTC:20280829T233000
DTSTAMP:20260425T145409
CREATED:20260131T143628Z
LAST-MODIFIED:20260131T143628Z
UID:10002198-1851190200-1851204600@schalmdemeern.nl
SUMMARY:Biljart Club De 4 Banden
DESCRIPTION:
URL:https://schalmdemeern.nl/event/biljart-club-de-4-banden/2028-08-29/
LOCATION:zaal 7
ORGANIZER;CN="De Schalm":MAILTO:info@schalmdemeern.nl
END:VEVENT
BEGIN:VEVENT
DTSTART;TZID=UTC:20280905T193000
DTEND;TZID=UTC:20280905T233000
DTSTAMP:20260425T145409
CREATED:20260131T143628Z
LAST-MODIFIED:20260131T143628Z
UID:10002199-1851795000-1851809400@schalmdemeern.nl
SUMMARY:Biljart Club De 4 Banden
DESCRIPTION:
URL:https://schalmdemeern.nl/event/biljart-club-de-4-banden/2028-09-05/
LOCATION:zaal 7
ORGANIZER;CN="De Schalm":MAILTO:info@schalmdemeern.nl
END:VEVENT
BEGIN:VEVENT
DTSTART;TZID=UTC:20280912T193000
DTEND;TZID=UTC:20280912T233000
DTSTAMP:20260425T145409
CREATED:20260131T143628Z
LAST-MODIFIED:20260131T143628Z
UID:10002200-1852399800-1852414200@schalmdemeern.nl
SUMMARY:Biljart Club De 4 Banden
DESCRIPTION:
URL:https://schalmdemeern.nl/event/biljart-club-de-4-banden/2028-09-12/
LOCATION:zaal 7
ORGANIZER;CN="De Schalm":MAILTO:info@schalmdemeern.nl
END:VEVENT
BEGIN:VEVENT
DTSTART;TZID=UTC:20280919T193000
DTEND;TZID=UTC:20280919T233000
DTSTAMP:20260425T145409
CREATED:20260131T143628Z
LAST-MODIFIED:20260131T143628Z
UID:10002201-1853004600-1853019000@schalmdemeern.nl
SUMMARY:Biljart Club De 4 Banden
DESCRIPTION:
URL:https://schalmdemeern.nl/event/biljart-club-de-4-banden/2028-09-19/
LOCATION:zaal 7
ORGANIZER;CN="De Schalm":MAILTO:info@schalmdemeern.nl
END:VEVENT
BEGIN:VEVENT
DTSTART;TZID=UTC:20280926T193000
DTEND;TZID=UTC:20280926T233000
DTSTAMP:20260425T145409
CREATED:20260131T143628Z
LAST-MODIFIED:20260131T143628Z
UID:10002202-1853609400-1853623800@schalmdemeern.nl
SUMMARY:Biljart Club De 4 Banden
DESCRIPTION:
URL:https://schalmdemeern.nl/event/biljart-club-de-4-banden/2028-09-26/
LOCATION:zaal 7
ORGANIZER;CN="De Schalm":MAILTO:info@schalmdemeern.nl
END:VEVENT
BEGIN:VEVENT
DTSTART;TZID=UTC:20281003T193000
DTEND;TZID=UTC:20281003T233000
DTSTAMP:20260425T145409
CREATED:20260131T143628Z
LAST-MODIFIED:20260131T143628Z
UID:10002203-1854214200-1854228600@schalmdemeern.nl
SUMMARY:Biljart Club De 4 Banden
DESCRIPTION:
URL:https://schalmdemeern.nl/event/biljart-club-de-4-banden/2028-10-03/
LOCATION:zaal 7
ORGANIZER;CN="De Schalm":MAILTO:info@schalmdemeern.nl
END:VEVENT
BEGIN:VEVENT
DTSTART;TZID=UTC:20281010T193000
DTEND;TZID=UTC:20281010T233000
DTSTAMP:20260425T145409
CREATED:20260131T143628Z
LAST-MODIFIED:20260131T143628Z
UID:10002204-1854819000-1854833400@schalmdemeern.nl
SUMMARY:Biljart Club De 4 Banden
DESCRIPTION:
URL:https://schalmdemeern.nl/event/biljart-club-de-4-banden/2028-10-10/
LOCATION:zaal 7
ORGANIZER;CN="De Schalm":MAILTO:info@schalmdemeern.nl
END:VEVENT
BEGIN:VEVENT
DTSTART;TZID=UTC:20281017T193000
DTEND;TZID=UTC:20281017T233000
DTSTAMP:20260425T145409
CREATED:20260131T143628Z
LAST-MODIFIED:20260131T143628Z
UID:10002205-1855423800-1855438200@schalmdemeern.nl
SUMMARY:Biljart Club De 4 Banden
DESCRIPTION:
URL:https://schalmdemeern.nl/event/biljart-club-de-4-banden/2028-10-17/
LOCATION:zaal 7
ORGANIZER;CN="De Schalm":MAILTO:info@schalmdemeern.nl
END:VEVENT
BEGIN:VEVENT
DTSTART;TZID=UTC:20281024T193000
DTEND;TZID=UTC:20281024T233000
DTSTAMP:20260425T145409
CREATED:20260131T143628Z
LAST-MODIFIED:20260131T143628Z
UID:10002206-1856028600-1856043000@schalmdemeern.nl
SUMMARY:Biljart Club De 4 Banden
DESCRIPTION:
URL:https://schalmdemeern.nl/event/biljart-club-de-4-banden/2028-10-24/
LOCATION:zaal 7
ORGANIZER;CN="De Schalm":MAILTO:info@schalmdemeern.nl
END:VEVENT
BEGIN:VEVENT
DTSTART;TZID=UTC:20281031T193000
DTEND;TZID=UTC:20281031T233000
DTSTAMP:20260425T145409
CREATED:20260131T143628Z
LAST-MODIFIED:20260131T143628Z
UID:10002207-1856633400-1856647800@schalmdemeern.nl
SUMMARY:Biljart Club De 4 Banden
DESCRIPTION:
URL:https://schalmdemeern.nl/event/biljart-club-de-4-banden/2028-10-31/
LOCATION:zaal 7
ORGANIZER;CN="De Schalm":MAILTO:info@schalmdemeern.nl
END:VEVENT
BEGIN:VEVENT
DTSTART;TZID=UTC:20281107T193000
DTEND;TZID=UTC:20281107T233000
DTSTAMP:20260425T145409
CREATED:20260131T143628Z
LAST-MODIFIED:20260131T143628Z
UID:10002208-1857238200-1857252600@schalmdemeern.nl
SUMMARY:Biljart Club De 4 Banden
DESCRIPTION:
URL:https://schalmdemeern.nl/event/biljart-club-de-4-banden/2028-11-07/
LOCATION:zaal 7
ORGANIZER;CN="De Schalm":MAILTO:info@schalmdemeern.nl
END:VEVENT
BEGIN:VEVENT
DTSTART;TZID=UTC:20281114T193000
DTEND;TZID=UTC:20281114T233000
DTSTAMP:20260425T145409
CREATED:20260131T143628Z
LAST-MODIFIED:20260131T143628Z
UID:10002209-1857843000-1857857400@schalmdemeern.nl
SUMMARY:Biljart Club De 4 Banden
DESCRIPTION:
URL:https://schalmdemeern.nl/event/biljart-club-de-4-banden/2028-11-14/
LOCATION:zaal 7
ORGANIZER;CN="De Schalm":MAILTO:info@schalmdemeern.nl
END:VEVENT
BEGIN:VEVENT
DTSTART;TZID=UTC:20281121T193000
DTEND;TZID=UTC:20281121T233000
DTSTAMP:20260425T145409
CREATED:20260131T143628Z
LAST-MODIFIED:20260131T143628Z
UID:10002210-1858447800-1858462200@schalmdemeern.nl
SUMMARY:Biljart Club De 4 Banden
DESCRIPTION:
URL:https://schalmdemeern.nl/event/biljart-club-de-4-banden/2028-11-21/
LOCATION:zaal 7
ORGANIZER;CN="De Schalm":MAILTO:info@schalmdemeern.nl
END:VEVENT
BEGIN:VEVENT
DTSTART;TZID=UTC:20281128T193000
DTEND;TZID=UTC:20281128T233000
DTSTAMP:20260425T145409
CREATED:20260131T143628Z
LAST-MODIFIED:20260131T143628Z
UID:10002211-1859052600-1859067000@schalmdemeern.nl
SUMMARY:Biljart Club De 4 Banden
DESCRIPTION:
URL:https://schalmdemeern.nl/event/biljart-club-de-4-banden/2028-11-28/
LOCATION:zaal 7
ORGANIZER;CN="De Schalm":MAILTO:info@schalmdemeern.nl
END:VEVENT
BEGIN:VEVENT
DTSTART;TZID=UTC:20281205T193000
DTEND;TZID=UTC:20281205T233000
DTSTAMP:20260425T145409
CREATED:20260131T143628Z
LAST-MODIFIED:20260131T143628Z
UID:10002212-1859657400-1859671800@schalmdemeern.nl
SUMMARY:Biljart Club De 4 Banden
DESCRIPTION:
URL:https://schalmdemeern.nl/event/biljart-club-de-4-banden/2028-12-05/
LOCATION:zaal 7
ORGANIZER;CN="De Schalm":MAILTO:info@schalmdemeern.nl
END:VEVENT
BEGIN:VEVENT
DTSTART;TZID=UTC:20281212T193000
DTEND;TZID=UTC:20281212T233000
DTSTAMP:20260425T145409
CREATED:20260131T143628Z
LAST-MODIFIED:20260131T143628Z
UID:10002213-1860262200-1860276600@schalmdemeern.nl
SUMMARY:Biljart Club De 4 Banden
DESCRIPTION:
URL:https://schalmdemeern.nl/event/biljart-club-de-4-banden/2028-12-12/
LOCATION:zaal 7
ORGANIZER;CN="De Schalm":MAILTO:info@schalmdemeern.nl
END:VEVENT
BEGIN:VEVENT
DTSTART;TZID=UTC:20281219T193000
DTEND;TZID=UTC:20281219T233000
DTSTAMP:20260425T145409
CREATED:20260131T143628Z
LAST-MODIFIED:20260131T143628Z
UID:10002214-1860867000-1860881400@schalmdemeern.nl
SUMMARY:Biljart Club De 4 Banden
DESCRIPTION:
URL:https://schalmdemeern.nl/event/biljart-club-de-4-banden/2028-12-19/
LOCATION:zaal 7
ORGANIZER;CN="De Schalm":MAILTO:info@schalmdemeern.nl
END:VEVENT
BEGIN:VEVENT
DTSTART;TZID=UTC:20281226T193000
DTEND;TZID=UTC:20281226T233000
DTSTAMP:20260425T145409
CREATED:20260131T143628Z
LAST-MODIFIED:20260131T143628Z
UID:10002215-1861471800-1861486200@schalmdemeern.nl
SUMMARY:Biljart Club De 4 Banden
DESCRIPTION:
URL:https://schalmdemeern.nl/event/biljart-club-de-4-banden/2028-12-26/
LOCATION:zaal 7
ORGANIZER;CN="De Schalm":MAILTO:info@schalmdemeern.nl
END:VEVENT
BEGIN:VEVENT
DTSTART;TZID=UTC:20290102T193000
DTEND;TZID=UTC:20290102T233000
DTSTAMP:20260425T145409
CREATED:20260131T143628Z
LAST-MODIFIED:20260131T143628Z
UID:10002216-1862076600-1862091000@schalmdemeern.nl
SUMMARY:Biljart Club De 4 Banden
DESCRIPTION:
URL:https://schalmdemeern.nl/event/biljart-club-de-4-banden/2029-01-02/
LOCATION:zaal 7
ORGANIZER;CN="De Schalm":MAILTO:info@schalmdemeern.nl
END:VEVENT
BEGIN:VEVENT
DTSTART;TZID=UTC:20290109T193000
DTEND;TZID=UTC:20290109T233000
DTSTAMP:20260425T145409
CREATED:20260131T143628Z
LAST-MODIFIED:20260131T143628Z
UID:10002217-1862681400-1862695800@schalmdemeern.nl
SUMMARY:Biljart Club De 4 Banden
DESCRIPTION:
URL:https://schalmdemeern.nl/event/biljart-club-de-4-banden/2029-01-09/
LOCATION:zaal 7
ORGANIZER;CN="De Schalm":MAILTO:info@schalmdemeern.nl
END:VEVENT
BEGIN:VEVENT
DTSTART;TZID=UTC:20290116T193000
DTEND;TZID=UTC:20290116T233000
DTSTAMP:20260425T145409
CREATED:20260131T143628Z
LAST-MODIFIED:20260131T143628Z
UID:10002218-1863286200-1863300600@schalmdemeern.nl
SUMMARY:Biljart Club De 4 Banden
DESCRIPTION:
URL:https://schalmdemeern.nl/event/biljart-club-de-4-banden/2029-01-16/
LOCATION:zaal 7
ORGANIZER;CN="De Schalm":MAILTO:info@schalmdemeern.nl
END:VEVENT
BEGIN:VEVENT
DTSTART;TZID=UTC:20290123T193000
DTEND;TZID=UTC:20290123T233000
DTSTAMP:20260425T145409
CREATED:20260131T143628Z
LAST-MODIFIED:20260131T143628Z
UID:10002219-1863891000-1863905400@schalmdemeern.nl
SUMMARY:Biljart Club De 4 Banden
DESCRIPTION:
URL:https://schalmdemeern.nl/event/biljart-club-de-4-banden/2029-01-23/
LOCATION:zaal 7
ORGANIZER;CN="De Schalm":MAILTO:info@schalmdemeern.nl
END:VEVENT
BEGIN:VEVENT
DTSTART;TZID=UTC:20290130T193000
DTEND;TZID=UTC:20290130T233000
DTSTAMP:20260425T145409
CREATED:20260131T143628Z
LAST-MODIFIED:20260131T143628Z
UID:10002220-1864495800-1864510200@schalmdemeern.nl
SUMMARY:Biljart Club De 4 Banden
DESCRIPTION:
URL:https://schalmdemeern.nl/event/biljart-club-de-4-banden/2029-01-30/
LOCATION:zaal 7
ORGANIZER;CN="De Schalm":MAILTO:info@schalmdemeern.nl
END:VEVENT
BEGIN:VEVENT
DTSTART;TZID=UTC:20290206T193000
DTEND;TZID=UTC:20290206T233000
DTSTAMP:20260425T145409
CREATED:20260131T143628Z
LAST-MODIFIED:20260131T143628Z
UID:10002221-1865100600-1865115000@schalmdemeern.nl
SUMMARY:Biljart Club De 4 Banden
DESCRIPTION:
URL:https://schalmdemeern.nl/event/biljart-club-de-4-banden/2029-02-06/
LOCATION:zaal 7
ORGANIZER;CN="De Schalm":MAILTO:info@schalmdemeern.nl
END:VEVENT
BEGIN:VEVENT
DTSTART;TZID=UTC:20290213T193000
DTEND;TZID=UTC:20290213T233000
DTSTAMP:20260425T145409
CREATED:20260131T143628Z
LAST-MODIFIED:20260131T143628Z
UID:10002222-1865705400-1865719800@schalmdemeern.nl
SUMMARY:Biljart Club De 4 Banden
DESCRIPTION:
URL:https://schalmdemeern.nl/event/biljart-club-de-4-banden/2029-02-13/
LOCATION:zaal 7
ORGANIZER;CN="De Schalm":MAILTO:info@schalmdemeern.nl
END:VEVENT
BEGIN:VEVENT
DTSTART;TZID=UTC:20290220T193000
DTEND;TZID=UTC:20290220T233000
DTSTAMP:20260425T145409
CREATED:20260131T143628Z
LAST-MODIFIED:20260131T143628Z
UID:10002223-1866310200-1866324600@schalmdemeern.nl
SUMMARY:Biljart Club De 4 Banden
DESCRIPTION:
URL:https://schalmdemeern.nl/event/biljart-club-de-4-banden/2029-02-20/
LOCATION:zaal 7
ORGANIZER;CN="De Schalm":MAILTO:info@schalmdemeern.nl
END:VEVENT
BEGIN:VEVENT
DTSTART;TZID=UTC:20290227T193000
DTEND;TZID=UTC:20290227T233000
DTSTAMP:20260425T145409
CREATED:20260131T143628Z
LAST-MODIFIED:20260131T143628Z
UID:10002224-1866915000-1866929400@schalmdemeern.nl
SUMMARY:Biljart Club De 4 Banden
DESCRIPTION:
URL:https://schalmdemeern.nl/event/biljart-club-de-4-banden/2029-02-27/
LOCATION:zaal 7
ORGANIZER;CN="De Schalm":MAILTO:info@schalmdemeern.nl
END:VEVENT
BEGIN:VEVENT
DTSTART;TZID=UTC:20290306T193000
DTEND;TZID=UTC:20290306T233000
DTSTAMP:20260425T145409
CREATED:20260131T143628Z
LAST-MODIFIED:20260131T143628Z
UID:10002225-1867519800-1867534200@schalmdemeern.nl
SUMMARY:Biljart Club De 4 Banden
DESCRIPTION:
URL:https://schalmdemeern.nl/event/biljart-club-de-4-banden/2029-03-06/
LOCATION:zaal 7
ORGANIZER;CN="De Schalm":MAILTO:info@schalmdemeern.nl
END:VEVENT
END:VCALENDAR