BEGIN:VCALENDAR
VERSION:2.0
PRODID:-//De Schalm - ECPv6.15.18//NONSGML v1.0//EN
CALSCALE:GREGORIAN
METHOD:PUBLISH
X-WR-CALNAME:De Schalm
X-ORIGINAL-URL:https://schalmdemeern.nl
X-WR-CALDESC:Evenementen voor De Schalm
REFRESH-INTERVAL;VALUE=DURATION:PT1H
X-Robots-Tag:noindex
X-PUBLISHED-TTL:PT1H
BEGIN:VTIMEZONE
TZID:UTC
BEGIN:STANDARD
TZOFFSETFROM:+0000
TZOFFSETTO:+0000
TZNAME:UTC
DTSTART:20250101T000000
END:STANDARD
END:VTIMEZONE
BEGIN:VEVENT
DTSTART;TZID=UTC:20261117T100000
DTEND;TZID=UTC:20261117T120000
DTSTAMP:20260424T073012
CREATED:20251224T123937Z
LAST-MODIFIED:20251224T123937Z
UID:10000521-1794909600-1794916800@schalmdemeern.nl
SUMMARY:Yoga
DESCRIPTION:
URL:https://schalmdemeern.nl/event/yoga/2026-11-17/
LOCATION:Zaal 3
ORGANIZER;CN="De Schalm":MAILTO:info@schalmdemeern.nl
END:VEVENT
BEGIN:VEVENT
DTSTART;TZID=UTC:20261118T130000
DTEND;TZID=UTC:20261118T170000
DTSTAMP:20260424T073012
CREATED:20260316T093052Z
LAST-MODIFIED:20260316T093052Z
UID:10004650-1795006800-1795021200@schalmdemeern.nl
SUMMARY:🎨🖌️Schilderen (besloten groep) 🖌️🎨
DESCRIPTION:
URL:https://schalmdemeern.nl/event/%f0%9f%8e%a8%f0%9f%96%8c%ef%b8%8fschilderen-besloten-groep-%f0%9f%96%8c%ef%b8%8f%f0%9f%8e%a8/2026-11-18/
LOCATION:Zaal 3
END:VEVENT
BEGIN:VEVENT
DTSTART;TZID=UTC:20261118T190000
DTEND;TZID=UTC:20261118T220000
DTSTAMP:20260424T073012
CREATED:20260131T142329Z
LAST-MODIFIED:20260202T094320Z
UID:10001582-1795028400-1795039200@schalmdemeern.nl
SUMMARY:Shantykoor Windstilte
DESCRIPTION:Het koor zingt wind\, zeil en golven bij elkaar. Vrolijkheid en muziek\, een mooie combinatie. Nieuwe leden zijn welkom! \nwww.windstilte.nl \nContact: secretaris Ton de Bondt\, tel. 030-2888966 of 06-37307408 \n 
URL:https://schalmdemeern.nl/event/shantykoor-windstilte-3/2026-11-18/
LOCATION:Zaal 3
ORGANIZER;CN="De Schalm":MAILTO:info@schalmdemeern.nl
END:VEVENT
BEGIN:VEVENT
DTSTART;TZID=UTC:20261124T100000
DTEND;TZID=UTC:20261124T120000
DTSTAMP:20260424T073012
CREATED:20251224T123937Z
LAST-MODIFIED:20251224T123937Z
UID:10000522-1795514400-1795521600@schalmdemeern.nl
SUMMARY:Yoga
DESCRIPTION:
URL:https://schalmdemeern.nl/event/yoga/2026-11-24/
LOCATION:Zaal 3
ORGANIZER;CN="De Schalm":MAILTO:info@schalmdemeern.nl
END:VEVENT
BEGIN:VEVENT
DTSTART;TZID=UTC:20261125T130000
DTEND;TZID=UTC:20261125T170000
DTSTAMP:20260424T073012
CREATED:20260316T093052Z
LAST-MODIFIED:20260316T093052Z
UID:10004651-1795611600-1795626000@schalmdemeern.nl
SUMMARY:🎨🖌️Schilderen (besloten groep) 🖌️🎨
DESCRIPTION:
URL:https://schalmdemeern.nl/event/%f0%9f%8e%a8%f0%9f%96%8c%ef%b8%8fschilderen-besloten-groep-%f0%9f%96%8c%ef%b8%8f%f0%9f%8e%a8/2026-11-25/
LOCATION:Zaal 3
END:VEVENT
BEGIN:VEVENT
DTSTART;TZID=UTC:20261125T190000
DTEND;TZID=UTC:20261125T220000
DTSTAMP:20260424T073012
CREATED:20260131T142329Z
LAST-MODIFIED:20260202T094320Z
UID:10001583-1795633200-1795644000@schalmdemeern.nl
SUMMARY:Shantykoor Windstilte
DESCRIPTION:Het koor zingt wind\, zeil en golven bij elkaar. Vrolijkheid en muziek\, een mooie combinatie. Nieuwe leden zijn welkom! \nwww.windstilte.nl \nContact: secretaris Ton de Bondt\, tel. 030-2888966 of 06-37307408 \n 
URL:https://schalmdemeern.nl/event/shantykoor-windstilte-3/2026-11-25/
LOCATION:Zaal 3
ORGANIZER;CN="De Schalm":MAILTO:info@schalmdemeern.nl
END:VEVENT
BEGIN:VEVENT
DTSTART;TZID=UTC:20261201T100000
DTEND;TZID=UTC:20261201T120000
DTSTAMP:20260424T073012
CREATED:20251224T123937Z
LAST-MODIFIED:20251224T123937Z
UID:10000523-1796119200-1796126400@schalmdemeern.nl
SUMMARY:Yoga
DESCRIPTION:
URL:https://schalmdemeern.nl/event/yoga/2026-12-01/
LOCATION:Zaal 3
ORGANIZER;CN="De Schalm":MAILTO:info@schalmdemeern.nl
END:VEVENT
BEGIN:VEVENT
DTSTART;TZID=UTC:20261202T130000
DTEND;TZID=UTC:20261202T170000
DTSTAMP:20260424T073012
CREATED:20260316T093052Z
LAST-MODIFIED:20260316T093052Z
UID:10004652-1796216400-1796230800@schalmdemeern.nl
SUMMARY:🎨🖌️Schilderen (besloten groep) 🖌️🎨
DESCRIPTION:
URL:https://schalmdemeern.nl/event/%f0%9f%8e%a8%f0%9f%96%8c%ef%b8%8fschilderen-besloten-groep-%f0%9f%96%8c%ef%b8%8f%f0%9f%8e%a8/2026-12-02/
LOCATION:Zaal 3
END:VEVENT
BEGIN:VEVENT
DTSTART;TZID=UTC:20261202T190000
DTEND;TZID=UTC:20261202T220000
DTSTAMP:20260424T073012
CREATED:20260131T142329Z
LAST-MODIFIED:20260202T094320Z
UID:10001584-1796238000-1796248800@schalmdemeern.nl
SUMMARY:Shantykoor Windstilte
DESCRIPTION:Het koor zingt wind\, zeil en golven bij elkaar. Vrolijkheid en muziek\, een mooie combinatie. Nieuwe leden zijn welkom! \nwww.windstilte.nl \nContact: secretaris Ton de Bondt\, tel. 030-2888966 of 06-37307408 \n 
URL:https://schalmdemeern.nl/event/shantykoor-windstilte-3/2026-12-02/
LOCATION:Zaal 3
ORGANIZER;CN="De Schalm":MAILTO:info@schalmdemeern.nl
END:VEVENT
BEGIN:VEVENT
DTSTART;TZID=UTC:20261208T100000
DTEND;TZID=UTC:20261208T120000
DTSTAMP:20260424T073012
CREATED:20251224T123937Z
LAST-MODIFIED:20251224T123937Z
UID:10000524-1796724000-1796731200@schalmdemeern.nl
SUMMARY:Yoga
DESCRIPTION:
URL:https://schalmdemeern.nl/event/yoga/2026-12-08/
LOCATION:Zaal 3
ORGANIZER;CN="De Schalm":MAILTO:info@schalmdemeern.nl
END:VEVENT
BEGIN:VEVENT
DTSTART;TZID=UTC:20261209T130000
DTEND;TZID=UTC:20261209T170000
DTSTAMP:20260424T073012
CREATED:20260316T093052Z
LAST-MODIFIED:20260316T093052Z
UID:10004653-1796821200-1796835600@schalmdemeern.nl
SUMMARY:🎨🖌️Schilderen (besloten groep) 🖌️🎨
DESCRIPTION:
URL:https://schalmdemeern.nl/event/%f0%9f%8e%a8%f0%9f%96%8c%ef%b8%8fschilderen-besloten-groep-%f0%9f%96%8c%ef%b8%8f%f0%9f%8e%a8/2026-12-09/
LOCATION:Zaal 3
END:VEVENT
BEGIN:VEVENT
DTSTART;TZID=UTC:20261209T190000
DTEND;TZID=UTC:20261209T220000
DTSTAMP:20260424T073012
CREATED:20260131T142329Z
LAST-MODIFIED:20260202T094320Z
UID:10001585-1796842800-1796853600@schalmdemeern.nl
SUMMARY:Shantykoor Windstilte
DESCRIPTION:Het koor zingt wind\, zeil en golven bij elkaar. Vrolijkheid en muziek\, een mooie combinatie. Nieuwe leden zijn welkom! \nwww.windstilte.nl \nContact: secretaris Ton de Bondt\, tel. 030-2888966 of 06-37307408 \n 
URL:https://schalmdemeern.nl/event/shantykoor-windstilte-3/2026-12-09/
LOCATION:Zaal 3
ORGANIZER;CN="De Schalm":MAILTO:info@schalmdemeern.nl
END:VEVENT
BEGIN:VEVENT
DTSTART;TZID=UTC:20261215T100000
DTEND;TZID=UTC:20261215T120000
DTSTAMP:20260424T073012
CREATED:20251224T123937Z
LAST-MODIFIED:20251224T123937Z
UID:10000525-1797328800-1797336000@schalmdemeern.nl
SUMMARY:Yoga
DESCRIPTION:
URL:https://schalmdemeern.nl/event/yoga/2026-12-15/
LOCATION:Zaal 3
ORGANIZER;CN="De Schalm":MAILTO:info@schalmdemeern.nl
END:VEVENT
BEGIN:VEVENT
DTSTART;TZID=UTC:20261216T130000
DTEND;TZID=UTC:20261216T170000
DTSTAMP:20260424T073012
CREATED:20260316T093052Z
LAST-MODIFIED:20260316T093052Z
UID:10004654-1797426000-1797440400@schalmdemeern.nl
SUMMARY:🎨🖌️Schilderen (besloten groep) 🖌️🎨
DESCRIPTION:
URL:https://schalmdemeern.nl/event/%f0%9f%8e%a8%f0%9f%96%8c%ef%b8%8fschilderen-besloten-groep-%f0%9f%96%8c%ef%b8%8f%f0%9f%8e%a8/2026-12-16/
LOCATION:Zaal 3
END:VEVENT
BEGIN:VEVENT
DTSTART;TZID=UTC:20261216T190000
DTEND;TZID=UTC:20261216T220000
DTSTAMP:20260424T073012
CREATED:20260131T142329Z
LAST-MODIFIED:20260202T094320Z
UID:10001586-1797447600-1797458400@schalmdemeern.nl
SUMMARY:Shantykoor Windstilte
DESCRIPTION:Het koor zingt wind\, zeil en golven bij elkaar. Vrolijkheid en muziek\, een mooie combinatie. Nieuwe leden zijn welkom! \nwww.windstilte.nl \nContact: secretaris Ton de Bondt\, tel. 030-2888966 of 06-37307408 \n 
URL:https://schalmdemeern.nl/event/shantykoor-windstilte-3/2026-12-16/
LOCATION:Zaal 3
ORGANIZER;CN="De Schalm":MAILTO:info@schalmdemeern.nl
END:VEVENT
BEGIN:VEVENT
DTSTART;TZID=UTC:20261222T100000
DTEND;TZID=UTC:20261222T120000
DTSTAMP:20260424T073012
CREATED:20251224T123937Z
LAST-MODIFIED:20251224T123937Z
UID:10000526-1797933600-1797940800@schalmdemeern.nl
SUMMARY:Yoga
DESCRIPTION:
URL:https://schalmdemeern.nl/event/yoga/2026-12-22/
LOCATION:Zaal 3
ORGANIZER;CN="De Schalm":MAILTO:info@schalmdemeern.nl
END:VEVENT
BEGIN:VEVENT
DTSTART;TZID=UTC:20261223T130000
DTEND;TZID=UTC:20261223T170000
DTSTAMP:20260424T073012
CREATED:20260316T093052Z
LAST-MODIFIED:20260316T093052Z
UID:10004655-1798030800-1798045200@schalmdemeern.nl
SUMMARY:🎨🖌️Schilderen (besloten groep) 🖌️🎨
DESCRIPTION:
URL:https://schalmdemeern.nl/event/%f0%9f%8e%a8%f0%9f%96%8c%ef%b8%8fschilderen-besloten-groep-%f0%9f%96%8c%ef%b8%8f%f0%9f%8e%a8/2026-12-23/
LOCATION:Zaal 3
END:VEVENT
BEGIN:VEVENT
DTSTART;TZID=UTC:20261223T190000
DTEND;TZID=UTC:20261223T220000
DTSTAMP:20260424T073012
CREATED:20260131T142329Z
LAST-MODIFIED:20260202T094320Z
UID:10001587-1798052400-1798063200@schalmdemeern.nl
SUMMARY:Shantykoor Windstilte
DESCRIPTION:Het koor zingt wind\, zeil en golven bij elkaar. Vrolijkheid en muziek\, een mooie combinatie. Nieuwe leden zijn welkom! \nwww.windstilte.nl \nContact: secretaris Ton de Bondt\, tel. 030-2888966 of 06-37307408 \n 
URL:https://schalmdemeern.nl/event/shantykoor-windstilte-3/2026-12-23/
LOCATION:Zaal 3
ORGANIZER;CN="De Schalm":MAILTO:info@schalmdemeern.nl
END:VEVENT
BEGIN:VEVENT
DTSTART;TZID=UTC:20261229T100000
DTEND;TZID=UTC:20261229T120000
DTSTAMP:20260424T073012
CREATED:20251224T123937Z
LAST-MODIFIED:20251224T123937Z
UID:10000527-1798538400-1798545600@schalmdemeern.nl
SUMMARY:Yoga
DESCRIPTION:
URL:https://schalmdemeern.nl/event/yoga/2026-12-29/
LOCATION:Zaal 3
ORGANIZER;CN="De Schalm":MAILTO:info@schalmdemeern.nl
END:VEVENT
BEGIN:VEVENT
DTSTART;TZID=UTC:20261230T130000
DTEND;TZID=UTC:20261230T170000
DTSTAMP:20260424T073012
CREATED:20260316T093052Z
LAST-MODIFIED:20260316T093052Z
UID:10004656-1798635600-1798650000@schalmdemeern.nl
SUMMARY:🎨🖌️Schilderen (besloten groep) 🖌️🎨
DESCRIPTION:
URL:https://schalmdemeern.nl/event/%f0%9f%8e%a8%f0%9f%96%8c%ef%b8%8fschilderen-besloten-groep-%f0%9f%96%8c%ef%b8%8f%f0%9f%8e%a8/2026-12-30/
LOCATION:Zaal 3
END:VEVENT
BEGIN:VEVENT
DTSTART;TZID=UTC:20261230T190000
DTEND;TZID=UTC:20261230T220000
DTSTAMP:20260424T073012
CREATED:20260131T142329Z
LAST-MODIFIED:20260202T094320Z
UID:10001588-1798657200-1798668000@schalmdemeern.nl
SUMMARY:Shantykoor Windstilte
DESCRIPTION:Het koor zingt wind\, zeil en golven bij elkaar. Vrolijkheid en muziek\, een mooie combinatie. Nieuwe leden zijn welkom! \nwww.windstilte.nl \nContact: secretaris Ton de Bondt\, tel. 030-2888966 of 06-37307408 \n 
URL:https://schalmdemeern.nl/event/shantykoor-windstilte-3/2026-12-30/
LOCATION:Zaal 3
ORGANIZER;CN="De Schalm":MAILTO:info@schalmdemeern.nl
END:VEVENT
BEGIN:VEVENT
DTSTART;TZID=UTC:20270105T100000
DTEND;TZID=UTC:20270105T120000
DTSTAMP:20260424T073012
CREATED:20251224T123937Z
LAST-MODIFIED:20251224T123937Z
UID:10000528-1799143200-1799150400@schalmdemeern.nl
SUMMARY:Yoga
DESCRIPTION:
URL:https://schalmdemeern.nl/event/yoga/2027-01-05/
LOCATION:Zaal 3
ORGANIZER;CN="De Schalm":MAILTO:info@schalmdemeern.nl
END:VEVENT
BEGIN:VEVENT
DTSTART;TZID=UTC:20270106T130000
DTEND;TZID=UTC:20270106T170000
DTSTAMP:20260424T073012
CREATED:20260316T093052Z
LAST-MODIFIED:20260316T093052Z
UID:10004657-1799240400-1799254800@schalmdemeern.nl
SUMMARY:🎨🖌️Schilderen (besloten groep) 🖌️🎨
DESCRIPTION:
URL:https://schalmdemeern.nl/event/%f0%9f%8e%a8%f0%9f%96%8c%ef%b8%8fschilderen-besloten-groep-%f0%9f%96%8c%ef%b8%8f%f0%9f%8e%a8/2027-01-06/
LOCATION:Zaal 3
END:VEVENT
BEGIN:VEVENT
DTSTART;TZID=UTC:20270106T190000
DTEND;TZID=UTC:20270106T220000
DTSTAMP:20260424T073012
CREATED:20260131T142329Z
LAST-MODIFIED:20260202T094320Z
UID:10001589-1799262000-1799272800@schalmdemeern.nl
SUMMARY:Shantykoor Windstilte
DESCRIPTION:Het koor zingt wind\, zeil en golven bij elkaar. Vrolijkheid en muziek\, een mooie combinatie. Nieuwe leden zijn welkom! \nwww.windstilte.nl \nContact: secretaris Ton de Bondt\, tel. 030-2888966 of 06-37307408 \n 
URL:https://schalmdemeern.nl/event/shantykoor-windstilte-3/2027-01-06/
LOCATION:Zaal 3
ORGANIZER;CN="De Schalm":MAILTO:info@schalmdemeern.nl
END:VEVENT
BEGIN:VEVENT
DTSTART;TZID=UTC:20270112T100000
DTEND;TZID=UTC:20270112T120000
DTSTAMP:20260424T073012
CREATED:20251224T123937Z
LAST-MODIFIED:20251224T123937Z
UID:10000529-1799748000-1799755200@schalmdemeern.nl
SUMMARY:Yoga
DESCRIPTION:
URL:https://schalmdemeern.nl/event/yoga/2027-01-12/
LOCATION:Zaal 3
ORGANIZER;CN="De Schalm":MAILTO:info@schalmdemeern.nl
END:VEVENT
BEGIN:VEVENT
DTSTART;TZID=UTC:20270113T130000
DTEND;TZID=UTC:20270113T170000
DTSTAMP:20260424T073012
CREATED:20260316T093052Z
LAST-MODIFIED:20260316T093052Z
UID:10004658-1799845200-1799859600@schalmdemeern.nl
SUMMARY:🎨🖌️Schilderen (besloten groep) 🖌️🎨
DESCRIPTION:
URL:https://schalmdemeern.nl/event/%f0%9f%8e%a8%f0%9f%96%8c%ef%b8%8fschilderen-besloten-groep-%f0%9f%96%8c%ef%b8%8f%f0%9f%8e%a8/2027-01-13/
LOCATION:Zaal 3
END:VEVENT
BEGIN:VEVENT
DTSTART;TZID=UTC:20270113T190000
DTEND;TZID=UTC:20270113T220000
DTSTAMP:20260424T073012
CREATED:20260131T142329Z
LAST-MODIFIED:20260202T094320Z
UID:10001590-1799866800-1799877600@schalmdemeern.nl
SUMMARY:Shantykoor Windstilte
DESCRIPTION:Het koor zingt wind\, zeil en golven bij elkaar. Vrolijkheid en muziek\, een mooie combinatie. Nieuwe leden zijn welkom! \nwww.windstilte.nl \nContact: secretaris Ton de Bondt\, tel. 030-2888966 of 06-37307408 \n 
URL:https://schalmdemeern.nl/event/shantykoor-windstilte-3/2027-01-13/
LOCATION:Zaal 3
ORGANIZER;CN="De Schalm":MAILTO:info@schalmdemeern.nl
END:VEVENT
BEGIN:VEVENT
DTSTART;TZID=UTC:20270119T100000
DTEND;TZID=UTC:20270119T120000
DTSTAMP:20260424T073012
CREATED:20251224T123937Z
LAST-MODIFIED:20251224T123937Z
UID:10000530-1800352800-1800360000@schalmdemeern.nl
SUMMARY:Yoga
DESCRIPTION:
URL:https://schalmdemeern.nl/event/yoga/2027-01-19/
LOCATION:Zaal 3
ORGANIZER;CN="De Schalm":MAILTO:info@schalmdemeern.nl
END:VEVENT
BEGIN:VEVENT
DTSTART;TZID=UTC:20270120T130000
DTEND;TZID=UTC:20270120T170000
DTSTAMP:20260424T073012
CREATED:20260316T093052Z
LAST-MODIFIED:20260316T093052Z
UID:10004659-1800450000-1800464400@schalmdemeern.nl
SUMMARY:🎨🖌️Schilderen (besloten groep) 🖌️🎨
DESCRIPTION:
URL:https://schalmdemeern.nl/event/%f0%9f%8e%a8%f0%9f%96%8c%ef%b8%8fschilderen-besloten-groep-%f0%9f%96%8c%ef%b8%8f%f0%9f%8e%a8/2027-01-20/
LOCATION:Zaal 3
END:VEVENT
BEGIN:VEVENT
DTSTART;TZID=UTC:20270120T190000
DTEND;TZID=UTC:20270120T220000
DTSTAMP:20260424T073012
CREATED:20260131T142329Z
LAST-MODIFIED:20260202T094320Z
UID:10001591-1800471600-1800482400@schalmdemeern.nl
SUMMARY:Shantykoor Windstilte
DESCRIPTION:Het koor zingt wind\, zeil en golven bij elkaar. Vrolijkheid en muziek\, een mooie combinatie. Nieuwe leden zijn welkom! \nwww.windstilte.nl \nContact: secretaris Ton de Bondt\, tel. 030-2888966 of 06-37307408 \n 
URL:https://schalmdemeern.nl/event/shantykoor-windstilte-3/2027-01-20/
LOCATION:Zaal 3
ORGANIZER;CN="De Schalm":MAILTO:info@schalmdemeern.nl
END:VEVENT
END:VCALENDAR