BEGIN:VCALENDAR
VERSION:2.0
PRODID:-//De Schalm - ECPv6.15.18//NONSGML v1.0//EN
CALSCALE:GREGORIAN
METHOD:PUBLISH
X-WR-CALNAME:De Schalm
X-ORIGINAL-URL:https://schalmdemeern.nl
X-WR-CALDESC:Evenementen voor De Schalm
REFRESH-INTERVAL;VALUE=DURATION:PT1H
X-Robots-Tag:noindex
X-PUBLISHED-TTL:PT1H
BEGIN:VTIMEZONE
TZID:UTC
BEGIN:STANDARD
TZOFFSETFROM:+0000
TZOFFSETTO:+0000
TZNAME:UTC
DTSTART:20250101T000000
END:STANDARD
END:VTIMEZONE
BEGIN:VEVENT
DTSTART;TZID=UTC:20260916T190000
DTEND;TZID=UTC:20260916T220000
DTSTAMP:20260422T183049
CREATED:20260131T142329Z
LAST-MODIFIED:20260202T094320Z
UID:10001573-1789585200-1789596000@schalmdemeern.nl
SUMMARY:Shantykoor Windstilte
DESCRIPTION:Het koor zingt wind\, zeil en golven bij elkaar. Vrolijkheid en muziek\, een mooie combinatie. Nieuwe leden zijn welkom! \nwww.windstilte.nl \nContact: secretaris Ton de Bondt\, tel. 030-2888966 of 06-37307408 \n 
URL:https://schalmdemeern.nl/event/shantykoor-windstilte-3/2026-09-16/
LOCATION:Zaal 3
ORGANIZER;CN="De Schalm":MAILTO:info@schalmdemeern.nl
END:VEVENT
BEGIN:VEVENT
DTSTART;TZID=UTC:20260922T100000
DTEND;TZID=UTC:20260922T120000
DTSTAMP:20260422T183049
CREATED:20251224T123937Z
LAST-MODIFIED:20251224T123937Z
UID:10000513-1790071200-1790078400@schalmdemeern.nl
SUMMARY:Yoga
DESCRIPTION:
URL:https://schalmdemeern.nl/event/yoga/2026-09-22/
LOCATION:Zaal 3
ORGANIZER;CN="De Schalm":MAILTO:info@schalmdemeern.nl
END:VEVENT
BEGIN:VEVENT
DTSTART;TZID=UTC:20260923T130000
DTEND;TZID=UTC:20260923T170000
DTSTAMP:20260422T183049
CREATED:20260316T093052Z
LAST-MODIFIED:20260316T093052Z
UID:10004642-1790168400-1790182800@schalmdemeern.nl
SUMMARY:🎨🖌️Schilderen (besloten groep) 🖌️🎨
DESCRIPTION:
URL:https://schalmdemeern.nl/event/%f0%9f%8e%a8%f0%9f%96%8c%ef%b8%8fschilderen-besloten-groep-%f0%9f%96%8c%ef%b8%8f%f0%9f%8e%a8/2026-09-23/
LOCATION:Zaal 3
END:VEVENT
BEGIN:VEVENT
DTSTART;TZID=UTC:20260923T190000
DTEND;TZID=UTC:20260923T220000
DTSTAMP:20260422T183049
CREATED:20260131T142329Z
LAST-MODIFIED:20260202T094320Z
UID:10001574-1790190000-1790200800@schalmdemeern.nl
SUMMARY:Shantykoor Windstilte
DESCRIPTION:Het koor zingt wind\, zeil en golven bij elkaar. Vrolijkheid en muziek\, een mooie combinatie. Nieuwe leden zijn welkom! \nwww.windstilte.nl \nContact: secretaris Ton de Bondt\, tel. 030-2888966 of 06-37307408 \n 
URL:https://schalmdemeern.nl/event/shantykoor-windstilte-3/2026-09-23/
LOCATION:Zaal 3
ORGANIZER;CN="De Schalm":MAILTO:info@schalmdemeern.nl
END:VEVENT
BEGIN:VEVENT
DTSTART;TZID=UTC:20260929T100000
DTEND;TZID=UTC:20260929T120000
DTSTAMP:20260422T183049
CREATED:20251224T123937Z
LAST-MODIFIED:20251224T123937Z
UID:10000514-1790676000-1790683200@schalmdemeern.nl
SUMMARY:Yoga
DESCRIPTION:
URL:https://schalmdemeern.nl/event/yoga/2026-09-29/
LOCATION:Zaal 3
ORGANIZER;CN="De Schalm":MAILTO:info@schalmdemeern.nl
END:VEVENT
BEGIN:VEVENT
DTSTART;TZID=UTC:20260930T130000
DTEND;TZID=UTC:20260930T170000
DTSTAMP:20260422T183049
CREATED:20260316T093052Z
LAST-MODIFIED:20260316T093052Z
UID:10004643-1790773200-1790787600@schalmdemeern.nl
SUMMARY:🎨🖌️Schilderen (besloten groep) 🖌️🎨
DESCRIPTION:
URL:https://schalmdemeern.nl/event/%f0%9f%8e%a8%f0%9f%96%8c%ef%b8%8fschilderen-besloten-groep-%f0%9f%96%8c%ef%b8%8f%f0%9f%8e%a8/2026-09-30/
LOCATION:Zaal 3
END:VEVENT
BEGIN:VEVENT
DTSTART;TZID=UTC:20260930T190000
DTEND;TZID=UTC:20260930T220000
DTSTAMP:20260422T183049
CREATED:20260131T142329Z
LAST-MODIFIED:20260202T094320Z
UID:10001575-1790794800-1790805600@schalmdemeern.nl
SUMMARY:Shantykoor Windstilte
DESCRIPTION:Het koor zingt wind\, zeil en golven bij elkaar. Vrolijkheid en muziek\, een mooie combinatie. Nieuwe leden zijn welkom! \nwww.windstilte.nl \nContact: secretaris Ton de Bondt\, tel. 030-2888966 of 06-37307408 \n 
URL:https://schalmdemeern.nl/event/shantykoor-windstilte-3/2026-09-30/
LOCATION:Zaal 3
ORGANIZER;CN="De Schalm":MAILTO:info@schalmdemeern.nl
END:VEVENT
BEGIN:VEVENT
DTSTART;TZID=UTC:20261006T100000
DTEND;TZID=UTC:20261006T120000
DTSTAMP:20260422T183049
CREATED:20251224T123937Z
LAST-MODIFIED:20251224T123937Z
UID:10000515-1791280800-1791288000@schalmdemeern.nl
SUMMARY:Yoga
DESCRIPTION:
URL:https://schalmdemeern.nl/event/yoga/2026-10-06/
LOCATION:Zaal 3
ORGANIZER;CN="De Schalm":MAILTO:info@schalmdemeern.nl
END:VEVENT
BEGIN:VEVENT
DTSTART;TZID=UTC:20261007T130000
DTEND;TZID=UTC:20261007T170000
DTSTAMP:20260422T183049
CREATED:20260316T093052Z
LAST-MODIFIED:20260316T093052Z
UID:10004644-1791378000-1791392400@schalmdemeern.nl
SUMMARY:🎨🖌️Schilderen (besloten groep) 🖌️🎨
DESCRIPTION:
URL:https://schalmdemeern.nl/event/%f0%9f%8e%a8%f0%9f%96%8c%ef%b8%8fschilderen-besloten-groep-%f0%9f%96%8c%ef%b8%8f%f0%9f%8e%a8/2026-10-07/
LOCATION:Zaal 3
END:VEVENT
BEGIN:VEVENT
DTSTART;TZID=UTC:20261007T190000
DTEND;TZID=UTC:20261007T220000
DTSTAMP:20260422T183049
CREATED:20260131T142329Z
LAST-MODIFIED:20260202T094320Z
UID:10001576-1791399600-1791410400@schalmdemeern.nl
SUMMARY:Shantykoor Windstilte
DESCRIPTION:Het koor zingt wind\, zeil en golven bij elkaar. Vrolijkheid en muziek\, een mooie combinatie. Nieuwe leden zijn welkom! \nwww.windstilte.nl \nContact: secretaris Ton de Bondt\, tel. 030-2888966 of 06-37307408 \n 
URL:https://schalmdemeern.nl/event/shantykoor-windstilte-3/2026-10-07/
LOCATION:Zaal 3
ORGANIZER;CN="De Schalm":MAILTO:info@schalmdemeern.nl
END:VEVENT
BEGIN:VEVENT
DTSTART;TZID=UTC:20261013T100000
DTEND;TZID=UTC:20261013T120000
DTSTAMP:20260422T183049
CREATED:20251224T123937Z
LAST-MODIFIED:20251224T123937Z
UID:10000516-1791885600-1791892800@schalmdemeern.nl
SUMMARY:Yoga
DESCRIPTION:
URL:https://schalmdemeern.nl/event/yoga/2026-10-13/
LOCATION:Zaal 3
ORGANIZER;CN="De Schalm":MAILTO:info@schalmdemeern.nl
END:VEVENT
BEGIN:VEVENT
DTSTART;TZID=UTC:20261014T130000
DTEND;TZID=UTC:20261014T170000
DTSTAMP:20260422T183049
CREATED:20260316T093052Z
LAST-MODIFIED:20260316T093052Z
UID:10004645-1791982800-1791997200@schalmdemeern.nl
SUMMARY:🎨🖌️Schilderen (besloten groep) 🖌️🎨
DESCRIPTION:
URL:https://schalmdemeern.nl/event/%f0%9f%8e%a8%f0%9f%96%8c%ef%b8%8fschilderen-besloten-groep-%f0%9f%96%8c%ef%b8%8f%f0%9f%8e%a8/2026-10-14/
LOCATION:Zaal 3
END:VEVENT
BEGIN:VEVENT
DTSTART;TZID=UTC:20261014T190000
DTEND;TZID=UTC:20261014T220000
DTSTAMP:20260422T183049
CREATED:20260131T142329Z
LAST-MODIFIED:20260202T094320Z
UID:10001577-1792004400-1792015200@schalmdemeern.nl
SUMMARY:Shantykoor Windstilte
DESCRIPTION:Het koor zingt wind\, zeil en golven bij elkaar. Vrolijkheid en muziek\, een mooie combinatie. Nieuwe leden zijn welkom! \nwww.windstilte.nl \nContact: secretaris Ton de Bondt\, tel. 030-2888966 of 06-37307408 \n 
URL:https://schalmdemeern.nl/event/shantykoor-windstilte-3/2026-10-14/
LOCATION:Zaal 3
ORGANIZER;CN="De Schalm":MAILTO:info@schalmdemeern.nl
END:VEVENT
BEGIN:VEVENT
DTSTART;TZID=UTC:20261020T100000
DTEND;TZID=UTC:20261020T120000
DTSTAMP:20260422T183049
CREATED:20251224T123937Z
LAST-MODIFIED:20251224T123937Z
UID:10000517-1792490400-1792497600@schalmdemeern.nl
SUMMARY:Yoga
DESCRIPTION:
URL:https://schalmdemeern.nl/event/yoga/2026-10-20/
LOCATION:Zaal 3
ORGANIZER;CN="De Schalm":MAILTO:info@schalmdemeern.nl
END:VEVENT
BEGIN:VEVENT
DTSTART;TZID=UTC:20261021T130000
DTEND;TZID=UTC:20261021T170000
DTSTAMP:20260422T183049
CREATED:20260316T093052Z
LAST-MODIFIED:20260316T093052Z
UID:10004646-1792587600-1792602000@schalmdemeern.nl
SUMMARY:🎨🖌️Schilderen (besloten groep) 🖌️🎨
DESCRIPTION:
URL:https://schalmdemeern.nl/event/%f0%9f%8e%a8%f0%9f%96%8c%ef%b8%8fschilderen-besloten-groep-%f0%9f%96%8c%ef%b8%8f%f0%9f%8e%a8/2026-10-21/
LOCATION:Zaal 3
END:VEVENT
BEGIN:VEVENT
DTSTART;TZID=UTC:20261021T190000
DTEND;TZID=UTC:20261021T220000
DTSTAMP:20260422T183049
CREATED:20260131T142329Z
LAST-MODIFIED:20260202T094320Z
UID:10001578-1792609200-1792620000@schalmdemeern.nl
SUMMARY:Shantykoor Windstilte
DESCRIPTION:Het koor zingt wind\, zeil en golven bij elkaar. Vrolijkheid en muziek\, een mooie combinatie. Nieuwe leden zijn welkom! \nwww.windstilte.nl \nContact: secretaris Ton de Bondt\, tel. 030-2888966 of 06-37307408 \n 
URL:https://schalmdemeern.nl/event/shantykoor-windstilte-3/2026-10-21/
LOCATION:Zaal 3
ORGANIZER;CN="De Schalm":MAILTO:info@schalmdemeern.nl
END:VEVENT
BEGIN:VEVENT
DTSTART;TZID=UTC:20261027T100000
DTEND;TZID=UTC:20261027T120000
DTSTAMP:20260422T183049
CREATED:20251224T123937Z
LAST-MODIFIED:20251224T123937Z
UID:10000518-1793095200-1793102400@schalmdemeern.nl
SUMMARY:Yoga
DESCRIPTION:
URL:https://schalmdemeern.nl/event/yoga/2026-10-27/
LOCATION:Zaal 3
ORGANIZER;CN="De Schalm":MAILTO:info@schalmdemeern.nl
END:VEVENT
BEGIN:VEVENT
DTSTART;TZID=UTC:20261028T130000
DTEND;TZID=UTC:20261028T170000
DTSTAMP:20260422T183049
CREATED:20260316T093052Z
LAST-MODIFIED:20260316T093052Z
UID:10004647-1793192400-1793206800@schalmdemeern.nl
SUMMARY:🎨🖌️Schilderen (besloten groep) 🖌️🎨
DESCRIPTION:
URL:https://schalmdemeern.nl/event/%f0%9f%8e%a8%f0%9f%96%8c%ef%b8%8fschilderen-besloten-groep-%f0%9f%96%8c%ef%b8%8f%f0%9f%8e%a8/2026-10-28/
LOCATION:Zaal 3
END:VEVENT
BEGIN:VEVENT
DTSTART;TZID=UTC:20261028T190000
DTEND;TZID=UTC:20261028T220000
DTSTAMP:20260422T183049
CREATED:20260131T142329Z
LAST-MODIFIED:20260202T094320Z
UID:10001579-1793214000-1793224800@schalmdemeern.nl
SUMMARY:Shantykoor Windstilte
DESCRIPTION:Het koor zingt wind\, zeil en golven bij elkaar. Vrolijkheid en muziek\, een mooie combinatie. Nieuwe leden zijn welkom! \nwww.windstilte.nl \nContact: secretaris Ton de Bondt\, tel. 030-2888966 of 06-37307408 \n 
URL:https://schalmdemeern.nl/event/shantykoor-windstilte-3/2026-10-28/
LOCATION:Zaal 3
ORGANIZER;CN="De Schalm":MAILTO:info@schalmdemeern.nl
END:VEVENT
BEGIN:VEVENT
DTSTART;TZID=UTC:20261103T100000
DTEND;TZID=UTC:20261103T120000
DTSTAMP:20260422T183049
CREATED:20251224T123937Z
LAST-MODIFIED:20251224T123937Z
UID:10000519-1793700000-1793707200@schalmdemeern.nl
SUMMARY:Yoga
DESCRIPTION:
URL:https://schalmdemeern.nl/event/yoga/2026-11-03/
LOCATION:Zaal 3
ORGANIZER;CN="De Schalm":MAILTO:info@schalmdemeern.nl
END:VEVENT
BEGIN:VEVENT
DTSTART;TZID=UTC:20261104T130000
DTEND;TZID=UTC:20261104T170000
DTSTAMP:20260422T183049
CREATED:20260316T093052Z
LAST-MODIFIED:20260316T093052Z
UID:10004648-1793797200-1793811600@schalmdemeern.nl
SUMMARY:🎨🖌️Schilderen (besloten groep) 🖌️🎨
DESCRIPTION:
URL:https://schalmdemeern.nl/event/%f0%9f%8e%a8%f0%9f%96%8c%ef%b8%8fschilderen-besloten-groep-%f0%9f%96%8c%ef%b8%8f%f0%9f%8e%a8/2026-11-04/
LOCATION:Zaal 3
END:VEVENT
BEGIN:VEVENT
DTSTART;TZID=UTC:20261104T190000
DTEND;TZID=UTC:20261104T220000
DTSTAMP:20260422T183049
CREATED:20260131T142329Z
LAST-MODIFIED:20260202T094320Z
UID:10001580-1793818800-1793829600@schalmdemeern.nl
SUMMARY:Shantykoor Windstilte
DESCRIPTION:Het koor zingt wind\, zeil en golven bij elkaar. Vrolijkheid en muziek\, een mooie combinatie. Nieuwe leden zijn welkom! \nwww.windstilte.nl \nContact: secretaris Ton de Bondt\, tel. 030-2888966 of 06-37307408 \n 
URL:https://schalmdemeern.nl/event/shantykoor-windstilte-3/2026-11-04/
LOCATION:Zaal 3
ORGANIZER;CN="De Schalm":MAILTO:info@schalmdemeern.nl
END:VEVENT
BEGIN:VEVENT
DTSTART;TZID=UTC:20261110T100000
DTEND;TZID=UTC:20261110T120000
DTSTAMP:20260422T183049
CREATED:20251224T123937Z
LAST-MODIFIED:20251224T123937Z
UID:10000520-1794304800-1794312000@schalmdemeern.nl
SUMMARY:Yoga
DESCRIPTION:
URL:https://schalmdemeern.nl/event/yoga/2026-11-10/
LOCATION:Zaal 3
ORGANIZER;CN="De Schalm":MAILTO:info@schalmdemeern.nl
END:VEVENT
BEGIN:VEVENT
DTSTART;TZID=UTC:20261111T130000
DTEND;TZID=UTC:20261111T170000
DTSTAMP:20260422T183049
CREATED:20260316T093052Z
LAST-MODIFIED:20260316T093052Z
UID:10004649-1794402000-1794416400@schalmdemeern.nl
SUMMARY:🎨🖌️Schilderen (besloten groep) 🖌️🎨
DESCRIPTION:
URL:https://schalmdemeern.nl/event/%f0%9f%8e%a8%f0%9f%96%8c%ef%b8%8fschilderen-besloten-groep-%f0%9f%96%8c%ef%b8%8f%f0%9f%8e%a8/2026-11-11/
LOCATION:Zaal 3
END:VEVENT
BEGIN:VEVENT
DTSTART;TZID=UTC:20261111T190000
DTEND;TZID=UTC:20261111T220000
DTSTAMP:20260422T183049
CREATED:20260131T142329Z
LAST-MODIFIED:20260202T094320Z
UID:10001581-1794423600-1794434400@schalmdemeern.nl
SUMMARY:Shantykoor Windstilte
DESCRIPTION:Het koor zingt wind\, zeil en golven bij elkaar. Vrolijkheid en muziek\, een mooie combinatie. Nieuwe leden zijn welkom! \nwww.windstilte.nl \nContact: secretaris Ton de Bondt\, tel. 030-2888966 of 06-37307408 \n 
URL:https://schalmdemeern.nl/event/shantykoor-windstilte-3/2026-11-11/
LOCATION:Zaal 3
ORGANIZER;CN="De Schalm":MAILTO:info@schalmdemeern.nl
END:VEVENT
BEGIN:VEVENT
DTSTART;TZID=UTC:20261117T100000
DTEND;TZID=UTC:20261117T120000
DTSTAMP:20260422T183049
CREATED:20251224T123937Z
LAST-MODIFIED:20251224T123937Z
UID:10000521-1794909600-1794916800@schalmdemeern.nl
SUMMARY:Yoga
DESCRIPTION:
URL:https://schalmdemeern.nl/event/yoga/2026-11-17/
LOCATION:Zaal 3
ORGANIZER;CN="De Schalm":MAILTO:info@schalmdemeern.nl
END:VEVENT
BEGIN:VEVENT
DTSTART;TZID=UTC:20261118T130000
DTEND;TZID=UTC:20261118T170000
DTSTAMP:20260422T183049
CREATED:20260316T093052Z
LAST-MODIFIED:20260316T093052Z
UID:10004650-1795006800-1795021200@schalmdemeern.nl
SUMMARY:🎨🖌️Schilderen (besloten groep) 🖌️🎨
DESCRIPTION:
URL:https://schalmdemeern.nl/event/%f0%9f%8e%a8%f0%9f%96%8c%ef%b8%8fschilderen-besloten-groep-%f0%9f%96%8c%ef%b8%8f%f0%9f%8e%a8/2026-11-18/
LOCATION:Zaal 3
END:VEVENT
BEGIN:VEVENT
DTSTART;TZID=UTC:20261118T190000
DTEND;TZID=UTC:20261118T220000
DTSTAMP:20260422T183049
CREATED:20260131T142329Z
LAST-MODIFIED:20260202T094320Z
UID:10001582-1795028400-1795039200@schalmdemeern.nl
SUMMARY:Shantykoor Windstilte
DESCRIPTION:Het koor zingt wind\, zeil en golven bij elkaar. Vrolijkheid en muziek\, een mooie combinatie. Nieuwe leden zijn welkom! \nwww.windstilte.nl \nContact: secretaris Ton de Bondt\, tel. 030-2888966 of 06-37307408 \n 
URL:https://schalmdemeern.nl/event/shantykoor-windstilte-3/2026-11-18/
LOCATION:Zaal 3
ORGANIZER;CN="De Schalm":MAILTO:info@schalmdemeern.nl
END:VEVENT
BEGIN:VEVENT
DTSTART;TZID=UTC:20261124T100000
DTEND;TZID=UTC:20261124T120000
DTSTAMP:20260422T183049
CREATED:20251224T123937Z
LAST-MODIFIED:20251224T123937Z
UID:10000522-1795514400-1795521600@schalmdemeern.nl
SUMMARY:Yoga
DESCRIPTION:
URL:https://schalmdemeern.nl/event/yoga/2026-11-24/
LOCATION:Zaal 3
ORGANIZER;CN="De Schalm":MAILTO:info@schalmdemeern.nl
END:VEVENT
BEGIN:VEVENT
DTSTART;TZID=UTC:20261125T130000
DTEND;TZID=UTC:20261125T170000
DTSTAMP:20260422T183049
CREATED:20260316T093052Z
LAST-MODIFIED:20260316T093052Z
UID:10004651-1795611600-1795626000@schalmdemeern.nl
SUMMARY:🎨🖌️Schilderen (besloten groep) 🖌️🎨
DESCRIPTION:
URL:https://schalmdemeern.nl/event/%f0%9f%8e%a8%f0%9f%96%8c%ef%b8%8fschilderen-besloten-groep-%f0%9f%96%8c%ef%b8%8f%f0%9f%8e%a8/2026-11-25/
LOCATION:Zaal 3
END:VEVENT
END:VCALENDAR