BEGIN:VCALENDAR
VERSION:2.0
PRODID:-//De Schalm - ECPv6.15.18//NONSGML v1.0//EN
CALSCALE:GREGORIAN
METHOD:PUBLISH
X-ORIGINAL-URL:https://schalmdemeern.nl
X-WR-CALDESC:Evenementen voor De Schalm
REFRESH-INTERVAL;VALUE=DURATION:PT1H
X-Robots-Tag:noindex
X-PUBLISHED-TTL:PT1H
BEGIN:VTIMEZONE
TZID:UTC
BEGIN:STANDARD
TZOFFSETFROM:+0000
TZOFFSETTO:+0000
TZNAME:UTC
DTSTART:20250101T000000
END:STANDARD
END:VTIMEZONE
BEGIN:VEVENT
DTSTART;TZID=UTC:20260527T190000
DTEND;TZID=UTC:20260527T220000
DTSTAMP:20260422T061421
CREATED:20260131T142329Z
LAST-MODIFIED:20260202T094320Z
UID:10001557-1779908400-1779919200@schalmdemeern.nl
SUMMARY:Shantykoor Windstilte
DESCRIPTION:Het koor zingt wind\, zeil en golven bij elkaar. Vrolijkheid en muziek\, een mooie combinatie. Nieuwe leden zijn welkom! \nwww.windstilte.nl \nContact: secretaris Ton de Bondt\, tel. 030-2888966 of 06-37307408 \n 
URL:https://schalmdemeern.nl/event/shantykoor-windstilte-3/2026-05-27/
LOCATION:Zaal 3
ORGANIZER;CN="De Schalm":MAILTO:info@schalmdemeern.nl
END:VEVENT
BEGIN:VEVENT
DTSTART;TZID=UTC:20260529T120000
DTEND;TZID=UTC:20260529T170000
DTSTAMP:20260422T061421
CREATED:20260316T094317Z
LAST-MODIFIED:20260316T094317Z
UID:10004880-1780056000-1780074000@schalmdemeern.nl
SUMMARY:🎨🖌️Schilderen (besloten groep)
DESCRIPTION:
URL:https://schalmdemeern.nl/event/%f0%9f%8e%a8%f0%9f%96%8c%ef%b8%8fschilderen-besloten-groep/2026-05-29/
LOCATION:Zaal 3
ORGANIZER;CN="de Schalm":MAILTO:info@schalmdemeern.nl
END:VEVENT
BEGIN:VEVENT
DTSTART;TZID=UTC:20260602T100000
DTEND;TZID=UTC:20260602T120000
DTSTAMP:20260422T061421
CREATED:20251224T123937Z
LAST-MODIFIED:20251224T123937Z
UID:10000497-1780394400-1780401600@schalmdemeern.nl
SUMMARY:Yoga
DESCRIPTION:
URL:https://schalmdemeern.nl/event/yoga/2026-06-02/
LOCATION:Zaal 3
ORGANIZER;CN="De Schalm":MAILTO:info@schalmdemeern.nl
END:VEVENT
BEGIN:VEVENT
DTSTART;TZID=UTC:20260603T090000
DTEND;TZID=UTC:20260603T130000
DTSTAMP:20260422T061421
CREATED:20260316T135436Z
LAST-MODIFIED:20260316T135745Z
UID:10004924-1780477200-1780491600@schalmdemeern.nl
SUMMARY:🖌️🎨Schilderen🎨🖌️ (besloten groep)
DESCRIPTION:
URL:https://schalmdemeern.nl/event/%f0%9f%96%8c%ef%b8%8f%f0%9f%8e%a8schilderen%f0%9f%8e%a8%f0%9f%96%8c%ef%b8%8f-besloten-groep/2026-06-03/
LOCATION:Zaal 3
ORGANIZER;CN="de Schalm":MAILTO:info@schalmdemeern.nl
END:VEVENT
BEGIN:VEVENT
DTSTART;TZID=UTC:20260603T130000
DTEND;TZID=UTC:20260603T170000
DTSTAMP:20260422T061421
CREATED:20260316T093052Z
LAST-MODIFIED:20260316T093052Z
UID:10004626-1780491600-1780506000@schalmdemeern.nl
SUMMARY:🎨🖌️Schilderen (besloten groep) 🖌️🎨
DESCRIPTION:
URL:https://schalmdemeern.nl/event/%f0%9f%8e%a8%f0%9f%96%8c%ef%b8%8fschilderen-besloten-groep-%f0%9f%96%8c%ef%b8%8f%f0%9f%8e%a8/2026-06-03/
LOCATION:Zaal 3
END:VEVENT
BEGIN:VEVENT
DTSTART;TZID=UTC:20260603T190000
DTEND;TZID=UTC:20260603T220000
DTSTAMP:20260422T061421
CREATED:20260131T142329Z
LAST-MODIFIED:20260202T094320Z
UID:10001558-1780513200-1780524000@schalmdemeern.nl
SUMMARY:Shantykoor Windstilte
DESCRIPTION:Het koor zingt wind\, zeil en golven bij elkaar. Vrolijkheid en muziek\, een mooie combinatie. Nieuwe leden zijn welkom! \nwww.windstilte.nl \nContact: secretaris Ton de Bondt\, tel. 030-2888966 of 06-37307408 \n 
URL:https://schalmdemeern.nl/event/shantykoor-windstilte-3/2026-06-03/
LOCATION:Zaal 3
ORGANIZER;CN="De Schalm":MAILTO:info@schalmdemeern.nl
END:VEVENT
BEGIN:VEVENT
DTSTART;TZID=UTC:20260609T100000
DTEND;TZID=UTC:20260609T120000
DTSTAMP:20260422T061421
CREATED:20251224T123937Z
LAST-MODIFIED:20251224T123937Z
UID:10000498-1780999200-1781006400@schalmdemeern.nl
SUMMARY:Yoga
DESCRIPTION:
URL:https://schalmdemeern.nl/event/yoga/2026-06-09/
LOCATION:Zaal 3
ORGANIZER;CN="De Schalm":MAILTO:info@schalmdemeern.nl
END:VEVENT
BEGIN:VEVENT
DTSTART;TZID=UTC:20260610T130000
DTEND;TZID=UTC:20260610T170000
DTSTAMP:20260422T061421
CREATED:20260316T093052Z
LAST-MODIFIED:20260316T093052Z
UID:10004627-1781096400-1781110800@schalmdemeern.nl
SUMMARY:🎨🖌️Schilderen (besloten groep) 🖌️🎨
DESCRIPTION:
URL:https://schalmdemeern.nl/event/%f0%9f%8e%a8%f0%9f%96%8c%ef%b8%8fschilderen-besloten-groep-%f0%9f%96%8c%ef%b8%8f%f0%9f%8e%a8/2026-06-10/
LOCATION:Zaal 3
END:VEVENT
BEGIN:VEVENT
DTSTART;TZID=UTC:20260610T190000
DTEND;TZID=UTC:20260610T220000
DTSTAMP:20260422T061421
CREATED:20260131T142329Z
LAST-MODIFIED:20260202T094320Z
UID:10001559-1781118000-1781128800@schalmdemeern.nl
SUMMARY:Shantykoor Windstilte
DESCRIPTION:Het koor zingt wind\, zeil en golven bij elkaar. Vrolijkheid en muziek\, een mooie combinatie. Nieuwe leden zijn welkom! \nwww.windstilte.nl \nContact: secretaris Ton de Bondt\, tel. 030-2888966 of 06-37307408 \n 
URL:https://schalmdemeern.nl/event/shantykoor-windstilte-3/2026-06-10/
LOCATION:Zaal 3
ORGANIZER;CN="De Schalm":MAILTO:info@schalmdemeern.nl
END:VEVENT
BEGIN:VEVENT
DTSTART;TZID=UTC:20260616T100000
DTEND;TZID=UTC:20260616T120000
DTSTAMP:20260422T061421
CREATED:20251224T123937Z
LAST-MODIFIED:20251224T123937Z
UID:10000499-1781604000-1781611200@schalmdemeern.nl
SUMMARY:Yoga
DESCRIPTION:
URL:https://schalmdemeern.nl/event/yoga/2026-06-16/
LOCATION:Zaal 3
ORGANIZER;CN="De Schalm":MAILTO:info@schalmdemeern.nl
END:VEVENT
BEGIN:VEVENT
DTSTART;TZID=UTC:20260617T130000
DTEND;TZID=UTC:20260617T170000
DTSTAMP:20260422T061421
CREATED:20260316T093052Z
LAST-MODIFIED:20260316T093052Z
UID:10004628-1781701200-1781715600@schalmdemeern.nl
SUMMARY:🎨🖌️Schilderen (besloten groep) 🖌️🎨
DESCRIPTION:
URL:https://schalmdemeern.nl/event/%f0%9f%8e%a8%f0%9f%96%8c%ef%b8%8fschilderen-besloten-groep-%f0%9f%96%8c%ef%b8%8f%f0%9f%8e%a8/2026-06-17/
LOCATION:Zaal 3
END:VEVENT
BEGIN:VEVENT
DTSTART;TZID=UTC:20260617T190000
DTEND;TZID=UTC:20260617T220000
DTSTAMP:20260422T061421
CREATED:20260131T142329Z
LAST-MODIFIED:20260202T094320Z
UID:10001560-1781722800-1781733600@schalmdemeern.nl
SUMMARY:Shantykoor Windstilte
DESCRIPTION:Het koor zingt wind\, zeil en golven bij elkaar. Vrolijkheid en muziek\, een mooie combinatie. Nieuwe leden zijn welkom! \nwww.windstilte.nl \nContact: secretaris Ton de Bondt\, tel. 030-2888966 of 06-37307408 \n 
URL:https://schalmdemeern.nl/event/shantykoor-windstilte-3/2026-06-17/
LOCATION:Zaal 3
ORGANIZER;CN="De Schalm":MAILTO:info@schalmdemeern.nl
END:VEVENT
BEGIN:VEVENT
DTSTART;TZID=UTC:20260623T100000
DTEND;TZID=UTC:20260623T120000
DTSTAMP:20260422T061421
CREATED:20251224T123937Z
LAST-MODIFIED:20251224T123937Z
UID:10000500-1782208800-1782216000@schalmdemeern.nl
SUMMARY:Yoga
DESCRIPTION:
URL:https://schalmdemeern.nl/event/yoga/2026-06-23/
LOCATION:Zaal 3
ORGANIZER;CN="De Schalm":MAILTO:info@schalmdemeern.nl
END:VEVENT
BEGIN:VEVENT
DTSTART;TZID=UTC:20260624T130000
DTEND;TZID=UTC:20260624T170000
DTSTAMP:20260422T061421
CREATED:20260316T093052Z
LAST-MODIFIED:20260316T093052Z
UID:10004629-1782306000-1782320400@schalmdemeern.nl
SUMMARY:🎨🖌️Schilderen (besloten groep) 🖌️🎨
DESCRIPTION:
URL:https://schalmdemeern.nl/event/%f0%9f%8e%a8%f0%9f%96%8c%ef%b8%8fschilderen-besloten-groep-%f0%9f%96%8c%ef%b8%8f%f0%9f%8e%a8/2026-06-24/
LOCATION:Zaal 3
END:VEVENT
BEGIN:VEVENT
DTSTART;TZID=UTC:20260624T190000
DTEND;TZID=UTC:20260624T220000
DTSTAMP:20260422T061421
CREATED:20260131T142329Z
LAST-MODIFIED:20260202T094320Z
UID:10001561-1782327600-1782338400@schalmdemeern.nl
SUMMARY:Shantykoor Windstilte
DESCRIPTION:Het koor zingt wind\, zeil en golven bij elkaar. Vrolijkheid en muziek\, een mooie combinatie. Nieuwe leden zijn welkom! \nwww.windstilte.nl \nContact: secretaris Ton de Bondt\, tel. 030-2888966 of 06-37307408 \n 
URL:https://schalmdemeern.nl/event/shantykoor-windstilte-3/2026-06-24/
LOCATION:Zaal 3
ORGANIZER;CN="De Schalm":MAILTO:info@schalmdemeern.nl
END:VEVENT
BEGIN:VEVENT
DTSTART;TZID=UTC:20260630T100000
DTEND;TZID=UTC:20260630T120000
DTSTAMP:20260422T061421
CREATED:20251224T123937Z
LAST-MODIFIED:20251224T123937Z
UID:10000501-1782813600-1782820800@schalmdemeern.nl
SUMMARY:Yoga
DESCRIPTION:
URL:https://schalmdemeern.nl/event/yoga/2026-06-30/
LOCATION:Zaal 3
ORGANIZER;CN="De Schalm":MAILTO:info@schalmdemeern.nl
END:VEVENT
BEGIN:VEVENT
DTSTART;TZID=UTC:20260701T130000
DTEND;TZID=UTC:20260701T170000
DTSTAMP:20260422T061421
CREATED:20260316T093052Z
LAST-MODIFIED:20260316T093052Z
UID:10004630-1782910800-1782925200@schalmdemeern.nl
SUMMARY:🎨🖌️Schilderen (besloten groep) 🖌️🎨
DESCRIPTION:
URL:https://schalmdemeern.nl/event/%f0%9f%8e%a8%f0%9f%96%8c%ef%b8%8fschilderen-besloten-groep-%f0%9f%96%8c%ef%b8%8f%f0%9f%8e%a8/2026-07-01/
LOCATION:Zaal 3
END:VEVENT
BEGIN:VEVENT
DTSTART;TZID=UTC:20260701T190000
DTEND;TZID=UTC:20260701T220000
DTSTAMP:20260422T061421
CREATED:20260131T142329Z
LAST-MODIFIED:20260202T094320Z
UID:10001562-1782932400-1782943200@schalmdemeern.nl
SUMMARY:Shantykoor Windstilte
DESCRIPTION:Het koor zingt wind\, zeil en golven bij elkaar. Vrolijkheid en muziek\, een mooie combinatie. Nieuwe leden zijn welkom! \nwww.windstilte.nl \nContact: secretaris Ton de Bondt\, tel. 030-2888966 of 06-37307408 \n 
URL:https://schalmdemeern.nl/event/shantykoor-windstilte-3/2026-07-01/
LOCATION:Zaal 3
ORGANIZER;CN="De Schalm":MAILTO:info@schalmdemeern.nl
END:VEVENT
BEGIN:VEVENT
DTSTART;TZID=UTC:20260707T100000
DTEND;TZID=UTC:20260707T120000
DTSTAMP:20260422T061421
CREATED:20251224T123937Z
LAST-MODIFIED:20251224T123937Z
UID:10000502-1783418400-1783425600@schalmdemeern.nl
SUMMARY:Yoga
DESCRIPTION:
URL:https://schalmdemeern.nl/event/yoga/2026-07-07/
LOCATION:Zaal 3
ORGANIZER;CN="De Schalm":MAILTO:info@schalmdemeern.nl
END:VEVENT
BEGIN:VEVENT
DTSTART;TZID=UTC:20260708T130000
DTEND;TZID=UTC:20260708T170000
DTSTAMP:20260422T061421
CREATED:20260316T093052Z
LAST-MODIFIED:20260316T093052Z
UID:10004631-1783515600-1783530000@schalmdemeern.nl
SUMMARY:🎨🖌️Schilderen (besloten groep) 🖌️🎨
DESCRIPTION:
URL:https://schalmdemeern.nl/event/%f0%9f%8e%a8%f0%9f%96%8c%ef%b8%8fschilderen-besloten-groep-%f0%9f%96%8c%ef%b8%8f%f0%9f%8e%a8/2026-07-08/
LOCATION:Zaal 3
END:VEVENT
BEGIN:VEVENT
DTSTART;TZID=UTC:20260708T190000
DTEND;TZID=UTC:20260708T220000
DTSTAMP:20260422T061421
CREATED:20260131T142329Z
LAST-MODIFIED:20260202T094320Z
UID:10001563-1783537200-1783548000@schalmdemeern.nl
SUMMARY:Shantykoor Windstilte
DESCRIPTION:Het koor zingt wind\, zeil en golven bij elkaar. Vrolijkheid en muziek\, een mooie combinatie. Nieuwe leden zijn welkom! \nwww.windstilte.nl \nContact: secretaris Ton de Bondt\, tel. 030-2888966 of 06-37307408 \n 
URL:https://schalmdemeern.nl/event/shantykoor-windstilte-3/2026-07-08/
LOCATION:Zaal 3
ORGANIZER;CN="De Schalm":MAILTO:info@schalmdemeern.nl
END:VEVENT
BEGIN:VEVENT
DTSTART;TZID=UTC:20260714T100000
DTEND;TZID=UTC:20260714T120000
DTSTAMP:20260422T061421
CREATED:20251224T123937Z
LAST-MODIFIED:20251224T123937Z
UID:10000503-1784023200-1784030400@schalmdemeern.nl
SUMMARY:Yoga
DESCRIPTION:
URL:https://schalmdemeern.nl/event/yoga/2026-07-14/
LOCATION:Zaal 3
ORGANIZER;CN="De Schalm":MAILTO:info@schalmdemeern.nl
END:VEVENT
BEGIN:VEVENT
DTSTART;TZID=UTC:20260715T130000
DTEND;TZID=UTC:20260715T170000
DTSTAMP:20260422T061421
CREATED:20260316T093052Z
LAST-MODIFIED:20260316T093052Z
UID:10004632-1784120400-1784134800@schalmdemeern.nl
SUMMARY:🎨🖌️Schilderen (besloten groep) 🖌️🎨
DESCRIPTION:
URL:https://schalmdemeern.nl/event/%f0%9f%8e%a8%f0%9f%96%8c%ef%b8%8fschilderen-besloten-groep-%f0%9f%96%8c%ef%b8%8f%f0%9f%8e%a8/2026-07-15/
LOCATION:Zaal 3
END:VEVENT
BEGIN:VEVENT
DTSTART;TZID=UTC:20260715T190000
DTEND;TZID=UTC:20260715T220000
DTSTAMP:20260422T061421
CREATED:20260131T142329Z
LAST-MODIFIED:20260202T094320Z
UID:10001564-1784142000-1784152800@schalmdemeern.nl
SUMMARY:Shantykoor Windstilte
DESCRIPTION:Het koor zingt wind\, zeil en golven bij elkaar. Vrolijkheid en muziek\, een mooie combinatie. Nieuwe leden zijn welkom! \nwww.windstilte.nl \nContact: secretaris Ton de Bondt\, tel. 030-2888966 of 06-37307408 \n 
URL:https://schalmdemeern.nl/event/shantykoor-windstilte-3/2026-07-15/
LOCATION:Zaal 3
ORGANIZER;CN="De Schalm":MAILTO:info@schalmdemeern.nl
END:VEVENT
BEGIN:VEVENT
DTSTART;TZID=UTC:20260721T100000
DTEND;TZID=UTC:20260721T120000
DTSTAMP:20260422T061421
CREATED:20251224T123937Z
LAST-MODIFIED:20251224T123937Z
UID:10000504-1784628000-1784635200@schalmdemeern.nl
SUMMARY:Yoga
DESCRIPTION:
URL:https://schalmdemeern.nl/event/yoga/2026-07-21/
LOCATION:Zaal 3
ORGANIZER;CN="De Schalm":MAILTO:info@schalmdemeern.nl
END:VEVENT
BEGIN:VEVENT
DTSTART;TZID=UTC:20260722T130000
DTEND;TZID=UTC:20260722T170000
DTSTAMP:20260422T061421
CREATED:20260316T093052Z
LAST-MODIFIED:20260316T093052Z
UID:10004633-1784725200-1784739600@schalmdemeern.nl
SUMMARY:🎨🖌️Schilderen (besloten groep) 🖌️🎨
DESCRIPTION:
URL:https://schalmdemeern.nl/event/%f0%9f%8e%a8%f0%9f%96%8c%ef%b8%8fschilderen-besloten-groep-%f0%9f%96%8c%ef%b8%8f%f0%9f%8e%a8/2026-07-22/
LOCATION:Zaal 3
END:VEVENT
BEGIN:VEVENT
DTSTART;TZID=UTC:20260722T190000
DTEND;TZID=UTC:20260722T220000
DTSTAMP:20260422T061421
CREATED:20260131T142329Z
LAST-MODIFIED:20260202T094320Z
UID:10001565-1784746800-1784757600@schalmdemeern.nl
SUMMARY:Shantykoor Windstilte
DESCRIPTION:Het koor zingt wind\, zeil en golven bij elkaar. Vrolijkheid en muziek\, een mooie combinatie. Nieuwe leden zijn welkom! \nwww.windstilte.nl \nContact: secretaris Ton de Bondt\, tel. 030-2888966 of 06-37307408 \n 
URL:https://schalmdemeern.nl/event/shantykoor-windstilte-3/2026-07-22/
LOCATION:Zaal 3
ORGANIZER;CN="De Schalm":MAILTO:info@schalmdemeern.nl
END:VEVENT
BEGIN:VEVENT
DTSTART;TZID=UTC:20260728T100000
DTEND;TZID=UTC:20260728T120000
DTSTAMP:20260422T061421
CREATED:20251224T123937Z
LAST-MODIFIED:20251224T123937Z
UID:10000505-1785232800-1785240000@schalmdemeern.nl
SUMMARY:Yoga
DESCRIPTION:
URL:https://schalmdemeern.nl/event/yoga/2026-07-28/
LOCATION:Zaal 3
ORGANIZER;CN="De Schalm":MAILTO:info@schalmdemeern.nl
END:VEVENT
BEGIN:VEVENT
DTSTART;TZID=UTC:20260729T130000
DTEND;TZID=UTC:20260729T170000
DTSTAMP:20260422T061421
CREATED:20260316T093052Z
LAST-MODIFIED:20260316T093052Z
UID:10004634-1785330000-1785344400@schalmdemeern.nl
SUMMARY:🎨🖌️Schilderen (besloten groep) 🖌️🎨
DESCRIPTION:
URL:https://schalmdemeern.nl/event/%f0%9f%8e%a8%f0%9f%96%8c%ef%b8%8fschilderen-besloten-groep-%f0%9f%96%8c%ef%b8%8f%f0%9f%8e%a8/2026-07-29/
LOCATION:Zaal 3
END:VEVENT
BEGIN:VEVENT
DTSTART;TZID=UTC:20260729T190000
DTEND;TZID=UTC:20260729T220000
DTSTAMP:20260422T061421
CREATED:20260131T142329Z
LAST-MODIFIED:20260202T094320Z
UID:10001566-1785351600-1785362400@schalmdemeern.nl
SUMMARY:Shantykoor Windstilte
DESCRIPTION:Het koor zingt wind\, zeil en golven bij elkaar. Vrolijkheid en muziek\, een mooie combinatie. Nieuwe leden zijn welkom! \nwww.windstilte.nl \nContact: secretaris Ton de Bondt\, tel. 030-2888966 of 06-37307408 \n 
URL:https://schalmdemeern.nl/event/shantykoor-windstilte-3/2026-07-29/
LOCATION:Zaal 3
ORGANIZER;CN="De Schalm":MAILTO:info@schalmdemeern.nl
END:VEVENT
END:VCALENDAR