BEGIN:VCALENDAR
VERSION:2.0
PRODID:-//De Schalm - ECPv6.15.18//NONSGML v1.0//EN
CALSCALE:GREGORIAN
METHOD:PUBLISH
X-ORIGINAL-URL:https://schalmdemeern.nl
X-WR-CALDESC:Evenementen voor De Schalm
REFRESH-INTERVAL;VALUE=DURATION:PT1H
X-Robots-Tag:noindex
X-PUBLISHED-TTL:PT1H
BEGIN:VTIMEZONE
TZID:UTC
BEGIN:STANDARD
TZOFFSETFROM:+0000
TZOFFSETTO:+0000
TZNAME:UTC
DTSTART:20240101T000000
END:STANDARD
END:VTIMEZONE
BEGIN:VEVENT
DTSTART;TZID=UTC:20260310T100000
DTEND;TZID=UTC:20260310T120000
DTSTAMP:20260422T073528
CREATED:20251224T123937Z
LAST-MODIFIED:20251224T123937Z
UID:10000485-1773136800-1773144000@schalmdemeern.nl
SUMMARY:Yoga
DESCRIPTION:
URL:https://schalmdemeern.nl/event/yoga/2026-03-10/
LOCATION:Zaal 3
ORGANIZER;CN="De Schalm":MAILTO:info@schalmdemeern.nl
END:VEVENT
BEGIN:VEVENT
DTSTART;TZID=UTC:20260304T190000
DTEND;TZID=UTC:20260304T220000
DTSTAMP:20260422T073528
CREATED:20260131T142329Z
LAST-MODIFIED:20260202T094320Z
UID:10001545-1772650800-1772661600@schalmdemeern.nl
SUMMARY:Shantykoor Windstilte
DESCRIPTION:Het koor zingt wind\, zeil en golven bij elkaar. Vrolijkheid en muziek\, een mooie combinatie. Nieuwe leden zijn welkom! \nwww.windstilte.nl \nContact: secretaris Ton de Bondt\, tel. 030-2888966 of 06-37307408 \n 
URL:https://schalmdemeern.nl/event/shantykoor-windstilte-3/2026-03-04/
LOCATION:Zaal 3
ORGANIZER;CN="De Schalm":MAILTO:info@schalmdemeern.nl
END:VEVENT
BEGIN:VEVENT
DTSTART;TZID=UTC:20260303T100000
DTEND;TZID=UTC:20260303T120000
DTSTAMP:20260422T073528
CREATED:20251224T123937Z
LAST-MODIFIED:20251224T123937Z
UID:10000484-1772532000-1772539200@schalmdemeern.nl
SUMMARY:Yoga
DESCRIPTION:
URL:https://schalmdemeern.nl/event/yoga/2026-03-03/
LOCATION:Zaal 3
ORGANIZER;CN="De Schalm":MAILTO:info@schalmdemeern.nl
END:VEVENT
BEGIN:VEVENT
DTSTART;TZID=UTC:20260225T190000
DTEND;TZID=UTC:20260225T220000
DTSTAMP:20260422T073528
CREATED:20260131T142329Z
LAST-MODIFIED:20260202T094320Z
UID:10001544-1772046000-1772056800@schalmdemeern.nl
SUMMARY:Shantykoor Windstilte
DESCRIPTION:Het koor zingt wind\, zeil en golven bij elkaar. Vrolijkheid en muziek\, een mooie combinatie. Nieuwe leden zijn welkom! \nwww.windstilte.nl \nContact: secretaris Ton de Bondt\, tel. 030-2888966 of 06-37307408 \n 
URL:https://schalmdemeern.nl/event/shantykoor-windstilte-3/2026-02-25/
LOCATION:Zaal 3
ORGANIZER;CN="De Schalm":MAILTO:info@schalmdemeern.nl
END:VEVENT
BEGIN:VEVENT
DTSTART;TZID=UTC:20260224T100000
DTEND;TZID=UTC:20260224T120000
DTSTAMP:20260422T073528
CREATED:20251224T123937Z
LAST-MODIFIED:20251224T123937Z
UID:10000483-1771927200-1771934400@schalmdemeern.nl
SUMMARY:Yoga
DESCRIPTION:
URL:https://schalmdemeern.nl/event/yoga/2026-02-24/
LOCATION:Zaal 3
ORGANIZER;CN="De Schalm":MAILTO:info@schalmdemeern.nl
END:VEVENT
BEGIN:VEVENT
DTSTART;TZID=UTC:20260218T190000
DTEND;TZID=UTC:20260218T220000
DTSTAMP:20260422T073528
CREATED:20260131T142329Z
LAST-MODIFIED:20260202T094320Z
UID:10001543-1771441200-1771452000@schalmdemeern.nl
SUMMARY:Shantykoor Windstilte
DESCRIPTION:Het koor zingt wind\, zeil en golven bij elkaar. Vrolijkheid en muziek\, een mooie combinatie. Nieuwe leden zijn welkom! \nwww.windstilte.nl \nContact: secretaris Ton de Bondt\, tel. 030-2888966 of 06-37307408 \n 
URL:https://schalmdemeern.nl/event/shantykoor-windstilte-3/2026-02-18/
LOCATION:Zaal 3
ORGANIZER;CN="De Schalm":MAILTO:info@schalmdemeern.nl
END:VEVENT
BEGIN:VEVENT
DTSTART;TZID=UTC:20260217T100000
DTEND;TZID=UTC:20260217T120000
DTSTAMP:20260422T073528
CREATED:20251224T123937Z
LAST-MODIFIED:20251224T123937Z
UID:10000482-1771322400-1771329600@schalmdemeern.nl
SUMMARY:Yoga
DESCRIPTION:
URL:https://schalmdemeern.nl/event/yoga/2026-02-17/
LOCATION:Zaal 3
ORGANIZER;CN="De Schalm":MAILTO:info@schalmdemeern.nl
END:VEVENT
BEGIN:VEVENT
DTSTART;TZID=UTC:20260211T190000
DTEND;TZID=UTC:20260211T220000
DTSTAMP:20260422T073528
CREATED:20260131T142329Z
LAST-MODIFIED:20260202T094320Z
UID:10001542-1770836400-1770847200@schalmdemeern.nl
SUMMARY:Shantykoor Windstilte
DESCRIPTION:Het koor zingt wind\, zeil en golven bij elkaar. Vrolijkheid en muziek\, een mooie combinatie. Nieuwe leden zijn welkom! \nwww.windstilte.nl \nContact: secretaris Ton de Bondt\, tel. 030-2888966 of 06-37307408 \n 
URL:https://schalmdemeern.nl/event/shantykoor-windstilte-3/2026-02-11/
LOCATION:Zaal 3
ORGANIZER;CN="De Schalm":MAILTO:info@schalmdemeern.nl
END:VEVENT
BEGIN:VEVENT
DTSTART;TZID=UTC:20260210T100000
DTEND;TZID=UTC:20260210T120000
DTSTAMP:20260422T073528
CREATED:20251224T123937Z
LAST-MODIFIED:20251224T123937Z
UID:10000481-1770717600-1770724800@schalmdemeern.nl
SUMMARY:Yoga
DESCRIPTION:
URL:https://schalmdemeern.nl/event/yoga/2026-02-10/
LOCATION:Zaal 3
ORGANIZER;CN="De Schalm":MAILTO:info@schalmdemeern.nl
END:VEVENT
BEGIN:VEVENT
DTSTART;TZID=UTC:20260204T190000
DTEND;TZID=UTC:20260204T220000
DTSTAMP:20260422T073528
CREATED:20260131T142329Z
LAST-MODIFIED:20260202T094320Z
UID:10001541-1770231600-1770242400@schalmdemeern.nl
SUMMARY:Shantykoor Windstilte
DESCRIPTION:Het koor zingt wind\, zeil en golven bij elkaar. Vrolijkheid en muziek\, een mooie combinatie. Nieuwe leden zijn welkom! \nwww.windstilte.nl \nContact: secretaris Ton de Bondt\, tel. 030-2888966 of 06-37307408 \n 
URL:https://schalmdemeern.nl/event/shantykoor-windstilte-3/2026-02-04/
LOCATION:Zaal 3
ORGANIZER;CN="De Schalm":MAILTO:info@schalmdemeern.nl
END:VEVENT
BEGIN:VEVENT
DTSTART;TZID=UTC:20260203T100000
DTEND;TZID=UTC:20260203T120000
DTSTAMP:20260422T073528
CREATED:20251224T123937Z
LAST-MODIFIED:20251224T123937Z
UID:10000480-1770112800-1770120000@schalmdemeern.nl
SUMMARY:Yoga
DESCRIPTION:
URL:https://schalmdemeern.nl/event/yoga/2026-02-03/
LOCATION:Zaal 3
ORGANIZER;CN="De Schalm":MAILTO:info@schalmdemeern.nl
END:VEVENT
BEGIN:VEVENT
DTSTART;TZID=UTC:20260127T100000
DTEND;TZID=UTC:20260127T120000
DTSTAMP:20260422T073528
CREATED:20251224T123937Z
LAST-MODIFIED:20251224T123937Z
UID:10000479-1769508000-1769515200@schalmdemeern.nl
SUMMARY:Yoga
DESCRIPTION:
URL:https://schalmdemeern.nl/event/yoga/2026-01-27/
LOCATION:Zaal 3
ORGANIZER;CN="De Schalm":MAILTO:info@schalmdemeern.nl
END:VEVENT
BEGIN:VEVENT
DTSTART;TZID=UTC:20260120T100000
DTEND;TZID=UTC:20260120T120000
DTSTAMP:20260422T073528
CREATED:20251224T123937Z
LAST-MODIFIED:20251224T123937Z
UID:10000478-1768903200-1768910400@schalmdemeern.nl
SUMMARY:Yoga
DESCRIPTION:
URL:https://schalmdemeern.nl/event/yoga/2026-01-20/
LOCATION:Zaal 3
ORGANIZER;CN="De Schalm":MAILTO:info@schalmdemeern.nl
END:VEVENT
BEGIN:VEVENT
DTSTART;TZID=UTC:20260113T100000
DTEND;TZID=UTC:20260113T120000
DTSTAMP:20260422T073528
CREATED:20251224T123937Z
LAST-MODIFIED:20251224T123937Z
UID:10000477-1768298400-1768305600@schalmdemeern.nl
SUMMARY:Yoga
DESCRIPTION:
URL:https://schalmdemeern.nl/event/yoga/2026-01-13/
LOCATION:Zaal 3
ORGANIZER;CN="De Schalm":MAILTO:info@schalmdemeern.nl
END:VEVENT
BEGIN:VEVENT
DTSTART;TZID=UTC:20260106T100000
DTEND;TZID=UTC:20260106T120000
DTSTAMP:20260422T073528
CREATED:20251224T123937Z
LAST-MODIFIED:20251224T123937Z
UID:10000476-1767693600-1767700800@schalmdemeern.nl
SUMMARY:Yoga
DESCRIPTION:
URL:https://schalmdemeern.nl/event/yoga/2026-01-06/
LOCATION:Zaal 3
ORGANIZER;CN="De Schalm":MAILTO:info@schalmdemeern.nl
END:VEVENT
BEGIN:VEVENT
DTSTART;TZID=UTC:20251125T190000
DTEND;TZID=UTC:20251125T220000
DTSTAMP:20260422T073528
CREATED:20251023T104054Z
LAST-MODIFIED:20251118T113537Z
UID:10000024-1764097200-1764108000@schalmdemeern.nl
SUMMARY:Shantykoor Windstilte
DESCRIPTION:‘Windstilte’ is een bonte verzameling van voormalige zeelieden\, tanig vanbuiten en kranig vanbinnen.\nWe gaan terug naar de dagen van oudsher\, de tijd van de zeilscheepvaart\, de tijd van het keiharde werken.\nHet zingen in dit koor is ook hard werken: elke week op woensdag oefenen\, en zo’n dertig\, vijfendertig keer per jaar optreden. In Windstilte combineren we dat nu met ontspanning\, plezier\, kameraadschap.\nMet optredens staan we dan ook niet als duc d’alfs onbeweeglijk te zingen\, we maken er een vrolijke boel van\, met grappenmakerijen en interactie met het publiek. \nTijdelijk oefent Windstilte op dinsdagavonden\, normaal oefenen wij op woensdagavonden.
URL:https://schalmdemeern.nl/event/shantykoor-windstilte/
LOCATION:Zaal 3
ORGANIZER;CN="Shantykoor Windstilte":MAILTO:info@windstilte.nl
END:VEVENT
BEGIN:VEVENT
DTSTART;TZID=UTC:20251124T193000
DTEND;TZID=UTC:20251124T230000
DTSTAMP:20260422T073528
CREATED:20251023T111131Z
LAST-MODIFIED:20251118T113604Z
UID:10000033-1764012600-1764025200@schalmdemeern.nl
SUMMARY:Schaakavond van Schaakvereniging Trio
DESCRIPTION:Welkom bij schaakvereniging Trio\nDe schaakvereniging TRIO uit De Meern / Leidsche Rijn speelt elke maandag vanaf 19:30 in de Schalm in De Meern. \nVoor ieder niveau is er een tegenstander. \nZin om een keer sfeer te proeven? \nMeld je dan aan via schaakverenigingtrio@gmail.com!
URL:https://schalmdemeern.nl/event/schaakavond-van-schaakvereniging-trio-6/
LOCATION:Zaal 3
CATEGORIES:Bijeenkomst
ORGANIZER;CN="Schaakvereniging Trio":MAILTO:schaakverenigingtrio@gmail.com
END:VEVENT
BEGIN:VEVENT
DTSTART;TZID=UTC:20251118T190000
DTEND;TZID=UTC:20251118T220000
DTSTAMP:20260422T073528
CREATED:20251023T112928Z
LAST-MODIFIED:20251112T110645Z
UID:10000039-1763492400-1763503200@schalmdemeern.nl
SUMMARY:Shantykoor Windstilte
DESCRIPTION:‘Windstilte’ is een bonte verzameling van voormalige zeelieden\, tanig vanbuiten en kranig vanbinnen.\nWe gaan terug naar de dagen van oudsher\, de tijd van de zeilscheepvaart\, de tijd van het keiharde werken.\nHet zingen in dit koor is ook hard werken: elke week op woensdag oefenen\, en zo’n dertig\, vijfendertig keer per jaar optreden. In Windstilte combineren we dat nu met ontspanning\, plezier\, kameraadschap.\nMet optredens staan we dan ook niet als duc d’alfs onbeweeglijk te zingen\, we maken er een vrolijke boel van\, met grappenmakerijen en interactie met het publiek. \nTijdelijk oefent Windstilte op dinsdagavonden\, normaal oefenen wij op woensdagavonden.
URL:https://schalmdemeern.nl/event/shantykoor-windstilte-2/
LOCATION:Zaal 3
ORGANIZER;CN="Shantykoor Windstilte":MAILTO:info@windstilte.nl
END:VEVENT
BEGIN:VEVENT
DTSTART;TZID=UTC:20251111T100000
DTEND;TZID=UTC:20251111T120000
DTSTAMP:20260422T073528
CREATED:20251023T111317Z
LAST-MODIFIED:20251023T111317Z
UID:10000035-1762855200-1762862400@schalmdemeern.nl
SUMMARY:Yoga voor senioren
DESCRIPTION:Welke gezellige dame heeft zin in yoga voor senioren? \nWe werken met ontspannende en versterkende oefeningen die toegankelijk zijn voor iedereen. Het is ook mogelijk om vanaf de stoel te oefenen\, iedereen werkt naar eigen mogelijkheden. \n  \nVia de gevoelde ervaring “uit je hoofd” en in je lijf. Na de les drinken we samen koffie.
URL:https://schalmdemeern.nl/event/yoga-voor-senioren-2/
LOCATION:Zaal 3
CATEGORIES:Bijeenkomst
ORGANIZER;CN="De Schalm":MAILTO:info@schalmdemeern.nl
END:VEVENT
BEGIN:VEVENT
DTSTART;TZID=UTC:20251104T100000
DTEND;TZID=UTC:20251104T120000
DTSTAMP:20260422T073528
CREATED:20251023T102957Z
LAST-MODIFIED:20251023T103543Z
UID:10000022-1762250400-1762257600@schalmdemeern.nl
SUMMARY:Yoga voor senioren
DESCRIPTION:Welke gezellige dame heeft zin in yoga voor senioren? \nWe werken met ontspannende en versterkende oefeningen die toegankelijk zijn voor iedereen. Het is ook mogelijk om vanaf de stoel te oefenen\, iedereen werkt naar eigen mogelijkheden. \n  \nVia de gevoelde ervaring “uit je hoofd” en in je lijf. Na de les drinken we samen koffie.
URL:https://schalmdemeern.nl/event/yoga-voor-senioren/
LOCATION:Zaal 3
CATEGORIES:Bijeenkomst
ORGANIZER;CN="De Schalm":MAILTO:info@schalmdemeern.nl
END:VEVENT
BEGIN:VEVENT
DTSTART;TZID=UTC:20251103T193000
DTEND;TZID=UTC:20251103T230000
DTSTAMP:20260422T073528
CREATED:20251023T101434Z
LAST-MODIFIED:20251023T101434Z
UID:10000020-1762198200-1762210800@schalmdemeern.nl
SUMMARY:Schaakavond van Schaakvereniging Trio
DESCRIPTION:Welkom bij schaakvereniging Trio\nDe schaakvereniging TRIO uit De Meern / Leidsche Rijn speelt elke maandag vanaf 19:30 in de Schalm in De Meern.\nVoor ieder niveau is er een tegenstander.\nZin om een keer sfeer te proeven?\nMeld je dan aan via schaakverenigingtrio@gmail.com!
URL:https://schalmdemeern.nl/event/schaakavond-van-schaakvereniging-trio-5/
LOCATION:Zaal 3
CATEGORIES:Bijeenkomst
ORGANIZER;CN="Schaakvereniging Trio":MAILTO:schaakverenigingtrio@gmail.com
END:VEVENT
BEGIN:VEVENT
DTSTART;TZID=UTC:20251027T193000
DTEND;TZID=UTC:20251027T230000
DTSTAMP:20260422T073528
CREATED:20250924T182948Z
LAST-MODIFIED:20250924T182948Z
UID:10000012-1761593400-1761606000@schalmdemeern.nl
SUMMARY:Schaakavond van Schaakvereniging Trio
DESCRIPTION:Welkom bij schaakvereniging Trio\nDe schaakvereniging TRIO uit De Meern / Leidsche Rijn speelt elke maandag vanaf 19:30 in de Schalm in De Meern.\nVoor ieder niveau is er een tegenstander.\nZin om een keer sfeer te proeven?\nMeld je dan aan via schaakverenigingtrio@gmail.com!
URL:https://schalmdemeern.nl/event/schaakavond-van-schaakvereniging-trio-4/
LOCATION:Zaal 3
CATEGORIES:Bijeenkomst
ORGANIZER;CN="Schaakvereniging Trio":MAILTO:schaakverenigingtrio@gmail.com
END:VEVENT
BEGIN:VEVENT
DTSTART;TZID=UTC:20251020T193000
DTEND;TZID=UTC:20251020T230000
DTSTAMP:20260422T073528
CREATED:20250924T182900Z
LAST-MODIFIED:20250924T182900Z
UID:10000011-1760988600-1761001200@schalmdemeern.nl
SUMMARY:Schaakavond van Schaakvereniging Trio
DESCRIPTION:Welkom bij schaakvereniging Trio\nDe schaakvereniging TRIO uit De Meern / Leidsche Rijn speelt elke maandag vanaf 19:30 in de Schalm in De Meern.\nVoor ieder niveau is er een tegenstander.\nZin om een keer sfeer te proeven?\nMeld je dan aan via schaakverenigingtrio@gmail.com!
URL:https://schalmdemeern.nl/event/schaakavond-van-schaakvereniging-trio-3/
LOCATION:Zaal 3
CATEGORIES:Bijeenkomst
ORGANIZER;CN="Schaakvereniging Trio":MAILTO:schaakverenigingtrio@gmail.com
END:VEVENT
BEGIN:VEVENT
DTSTART;TZID=UTC:20251013T193000
DTEND;TZID=UTC:20251013T230000
DTSTAMP:20260422T073528
CREATED:20250924T182649Z
LAST-MODIFIED:20250924T182837Z
UID:10000010-1760383800-1760396400@schalmdemeern.nl
SUMMARY:Schaakavond van Schaakvereniging Trio
DESCRIPTION:Welkom bij schaakvereniging Trio\nDe schaakvereniging TRIO uit De Meern / Leidsche Rijn speelt elke maandag vanaf 19:30 in de Schalm in De Meern.\nVoor ieder niveau is er een tegenstander.\nZin om een keer sfeer te proeven?\nMeld je dan aan via schaakverenigingtrio@gmail.com!
URL:https://schalmdemeern.nl/event/schaakavond-van-schaakvereniging-trio-2/
LOCATION:Zaal 3
CATEGORIES:Bijeenkomst
ORGANIZER;CN="Schaakvereniging Trio":MAILTO:schaakverenigingtrio@gmail.com
END:VEVENT
BEGIN:VEVENT
DTSTART;TZID=UTC:20251006T193000
DTEND;TZID=UTC:20251006T230000
DTSTAMP:20260422T073528
CREATED:20250924T182615Z
LAST-MODIFIED:20250924T182615Z
UID:10000009-1759779000-1759791600@schalmdemeern.nl
SUMMARY:Schaakavond van Schaakvereniging Trio
DESCRIPTION:Welkom bij schaakvereniging Trio\nDe schaakvereniging TRIO uit De Meern / Leidsche Rijn speelt elke maandag vanaf 19:30 in de Schalm in De Meern.\nVoor ieder niveau is er een tegenstander.\nZin om een keer sfeer te proeven?\nMeld je dan aan via schaakverenigingtrio@gmail.com!
URL:https://schalmdemeern.nl/event/schaakavond-van-schaakvereniging-trio/
LOCATION:Zaal 3
ORGANIZER;CN="Schaakvereniging Trio":MAILTO:schaakverenigingtrio@gmail.com
END:VEVENT
END:VCALENDAR