BEGIN:VCALENDAR
VERSION:2.0
PRODID:-//De Schalm - ECPv6.15.18//NONSGML v1.0//EN
CALSCALE:GREGORIAN
METHOD:PUBLISH
X-WR-CALNAME:De Schalm
X-ORIGINAL-URL:https://schalmdemeern.nl
X-WR-CALDESC:Evenementen voor De Schalm
REFRESH-INTERVAL;VALUE=DURATION:PT1H
X-Robots-Tag:noindex
X-PUBLISHED-TTL:PT1H
BEGIN:VTIMEZONE
TZID:UTC
BEGIN:STANDARD
TZOFFSETFROM:+0000
TZOFFSETTO:+0000
TZNAME:UTC
DTSTART:20250101T000000
END:STANDARD
END:VTIMEZONE
BEGIN:VEVENT
DTSTART;TZID=UTC:20260422T090000
DTEND;TZID=UTC:20260422T130000
DTSTAMP:20260422T000102
CREATED:20260316T135436Z
LAST-MODIFIED:20260316T135745Z
UID:10004918-1776848400-1776862800@schalmdemeern.nl
SUMMARY:🖌️🎨Schilderen🎨🖌️ (besloten groep)
DESCRIPTION:
URL:https://schalmdemeern.nl/event/%f0%9f%96%8c%ef%b8%8f%f0%9f%8e%a8schilderen%f0%9f%8e%a8%f0%9f%96%8c%ef%b8%8f-besloten-groep/2026-04-22/
LOCATION:Zaal 3
ORGANIZER;CN="de Schalm":MAILTO:info@schalmdemeern.nl
END:VEVENT
BEGIN:VEVENT
DTSTART;TZID=UTC:20260422T130000
DTEND;TZID=UTC:20260422T170000
DTSTAMP:20260422T000102
CREATED:20260316T093052Z
LAST-MODIFIED:20260316T093052Z
UID:10004620-1776862800-1776877200@schalmdemeern.nl
SUMMARY:🎨🖌️Schilderen (besloten groep) 🖌️🎨
DESCRIPTION:
URL:https://schalmdemeern.nl/event/%f0%9f%8e%a8%f0%9f%96%8c%ef%b8%8fschilderen-besloten-groep-%f0%9f%96%8c%ef%b8%8f%f0%9f%8e%a8/2026-04-22/
LOCATION:Zaal 3
END:VEVENT
BEGIN:VEVENT
DTSTART;TZID=UTC:20260422T190000
DTEND;TZID=UTC:20260422T220000
DTSTAMP:20260422T000102
CREATED:20260131T142329Z
LAST-MODIFIED:20260202T094320Z
UID:10001552-1776884400-1776895200@schalmdemeern.nl
SUMMARY:Shantykoor Windstilte
DESCRIPTION:Het koor zingt wind\, zeil en golven bij elkaar. Vrolijkheid en muziek\, een mooie combinatie. Nieuwe leden zijn welkom! \nwww.windstilte.nl \nContact: secretaris Ton de Bondt\, tel. 030-2888966 of 06-37307408 \n 
URL:https://schalmdemeern.nl/event/shantykoor-windstilte-3/2026-04-22/
LOCATION:Zaal 3
ORGANIZER;CN="De Schalm":MAILTO:info@schalmdemeern.nl
END:VEVENT
BEGIN:VEVENT
DTSTART;TZID=UTC:20260428T100000
DTEND;TZID=UTC:20260428T120000
DTSTAMP:20260422T000102
CREATED:20251224T123937Z
LAST-MODIFIED:20251224T123937Z
UID:10000492-1777370400-1777377600@schalmdemeern.nl
SUMMARY:Yoga
DESCRIPTION:
URL:https://schalmdemeern.nl/event/yoga/2026-04-28/
LOCATION:Zaal 3
ORGANIZER;CN="De Schalm":MAILTO:info@schalmdemeern.nl
END:VEVENT
BEGIN:VEVENT
DTSTART;TZID=UTC:20260429T090000
DTEND;TZID=UTC:20260429T130000
DTSTAMP:20260422T000102
CREATED:20260316T135436Z
LAST-MODIFIED:20260316T135745Z
UID:10004919-1777453200-1777467600@schalmdemeern.nl
SUMMARY:🖌️🎨Schilderen🎨🖌️ (besloten groep)
DESCRIPTION:
URL:https://schalmdemeern.nl/event/%f0%9f%96%8c%ef%b8%8f%f0%9f%8e%a8schilderen%f0%9f%8e%a8%f0%9f%96%8c%ef%b8%8f-besloten-groep/2026-04-29/
LOCATION:Zaal 3
ORGANIZER;CN="de Schalm":MAILTO:info@schalmdemeern.nl
END:VEVENT
BEGIN:VEVENT
DTSTART;TZID=UTC:20260429T130000
DTEND;TZID=UTC:20260429T170000
DTSTAMP:20260422T000102
CREATED:20260316T093052Z
LAST-MODIFIED:20260316T093052Z
UID:10004621-1777467600-1777482000@schalmdemeern.nl
SUMMARY:🎨🖌️Schilderen (besloten groep) 🖌️🎨
DESCRIPTION:
URL:https://schalmdemeern.nl/event/%f0%9f%8e%a8%f0%9f%96%8c%ef%b8%8fschilderen-besloten-groep-%f0%9f%96%8c%ef%b8%8f%f0%9f%8e%a8/2026-04-29/
LOCATION:Zaal 3
END:VEVENT
BEGIN:VEVENT
DTSTART;TZID=UTC:20260429T190000
DTEND;TZID=UTC:20260429T220000
DTSTAMP:20260422T000102
CREATED:20260131T142329Z
LAST-MODIFIED:20260202T094320Z
UID:10001553-1777489200-1777500000@schalmdemeern.nl
SUMMARY:Shantykoor Windstilte
DESCRIPTION:Het koor zingt wind\, zeil en golven bij elkaar. Vrolijkheid en muziek\, een mooie combinatie. Nieuwe leden zijn welkom! \nwww.windstilte.nl \nContact: secretaris Ton de Bondt\, tel. 030-2888966 of 06-37307408 \n 
URL:https://schalmdemeern.nl/event/shantykoor-windstilte-3/2026-04-29/
LOCATION:Zaal 3
ORGANIZER;CN="De Schalm":MAILTO:info@schalmdemeern.nl
END:VEVENT
BEGIN:VEVENT
DTSTART;TZID=UTC:20260501T120000
DTEND;TZID=UTC:20260501T170000
DTSTAMP:20260422T000102
CREATED:20260316T094317Z
LAST-MODIFIED:20260316T094317Z
UID:10004878-1777636800-1777654800@schalmdemeern.nl
SUMMARY:🎨🖌️Schilderen (besloten groep)
DESCRIPTION:
URL:https://schalmdemeern.nl/event/%f0%9f%8e%a8%f0%9f%96%8c%ef%b8%8fschilderen-besloten-groep/2026-05-01/
LOCATION:Zaal 3
ORGANIZER;CN="de Schalm":MAILTO:info@schalmdemeern.nl
END:VEVENT
BEGIN:VEVENT
DTSTART;TZID=UTC:20260505T100000
DTEND;TZID=UTC:20260505T120000
DTSTAMP:20260422T000102
CREATED:20251224T123937Z
LAST-MODIFIED:20251224T123937Z
UID:10000493-1777975200-1777982400@schalmdemeern.nl
SUMMARY:Yoga
DESCRIPTION:
URL:https://schalmdemeern.nl/event/yoga/2026-05-05/
LOCATION:Zaal 3
ORGANIZER;CN="De Schalm":MAILTO:info@schalmdemeern.nl
END:VEVENT
BEGIN:VEVENT
DTSTART;TZID=UTC:20260506T090000
DTEND;TZID=UTC:20260506T130000
DTSTAMP:20260422T000102
CREATED:20260316T135436Z
LAST-MODIFIED:20260316T135745Z
UID:10004920-1778058000-1778072400@schalmdemeern.nl
SUMMARY:🖌️🎨Schilderen🎨🖌️ (besloten groep)
DESCRIPTION:
URL:https://schalmdemeern.nl/event/%f0%9f%96%8c%ef%b8%8f%f0%9f%8e%a8schilderen%f0%9f%8e%a8%f0%9f%96%8c%ef%b8%8f-besloten-groep/2026-05-06/
LOCATION:Zaal 3
ORGANIZER;CN="de Schalm":MAILTO:info@schalmdemeern.nl
END:VEVENT
BEGIN:VEVENT
DTSTART;TZID=UTC:20260506T130000
DTEND;TZID=UTC:20260506T170000
DTSTAMP:20260422T000102
CREATED:20260316T093052Z
LAST-MODIFIED:20260316T093052Z
UID:10004622-1778072400-1778086800@schalmdemeern.nl
SUMMARY:🎨🖌️Schilderen (besloten groep) 🖌️🎨
DESCRIPTION:
URL:https://schalmdemeern.nl/event/%f0%9f%8e%a8%f0%9f%96%8c%ef%b8%8fschilderen-besloten-groep-%f0%9f%96%8c%ef%b8%8f%f0%9f%8e%a8/2026-05-06/
LOCATION:Zaal 3
END:VEVENT
BEGIN:VEVENT
DTSTART;TZID=UTC:20260506T190000
DTEND;TZID=UTC:20260506T220000
DTSTAMP:20260422T000102
CREATED:20260131T142329Z
LAST-MODIFIED:20260202T094320Z
UID:10001554-1778094000-1778104800@schalmdemeern.nl
SUMMARY:Shantykoor Windstilte
DESCRIPTION:Het koor zingt wind\, zeil en golven bij elkaar. Vrolijkheid en muziek\, een mooie combinatie. Nieuwe leden zijn welkom! \nwww.windstilte.nl \nContact: secretaris Ton de Bondt\, tel. 030-2888966 of 06-37307408 \n 
URL:https://schalmdemeern.nl/event/shantykoor-windstilte-3/2026-05-06/
LOCATION:Zaal 3
ORGANIZER;CN="De Schalm":MAILTO:info@schalmdemeern.nl
END:VEVENT
BEGIN:VEVENT
DTSTART;TZID=UTC:20260512T100000
DTEND;TZID=UTC:20260512T120000
DTSTAMP:20260422T000102
CREATED:20251224T123937Z
LAST-MODIFIED:20251224T123937Z
UID:10000494-1778580000-1778587200@schalmdemeern.nl
SUMMARY:Yoga
DESCRIPTION:
URL:https://schalmdemeern.nl/event/yoga/2026-05-12/
LOCATION:Zaal 3
ORGANIZER;CN="De Schalm":MAILTO:info@schalmdemeern.nl
END:VEVENT
BEGIN:VEVENT
DTSTART;TZID=UTC:20260513T090000
DTEND;TZID=UTC:20260513T130000
DTSTAMP:20260422T000102
CREATED:20260316T135436Z
LAST-MODIFIED:20260316T135745Z
UID:10004921-1778662800-1778677200@schalmdemeern.nl
SUMMARY:🖌️🎨Schilderen🎨🖌️ (besloten groep)
DESCRIPTION:
URL:https://schalmdemeern.nl/event/%f0%9f%96%8c%ef%b8%8f%f0%9f%8e%a8schilderen%f0%9f%8e%a8%f0%9f%96%8c%ef%b8%8f-besloten-groep/2026-05-13/
LOCATION:Zaal 3
ORGANIZER;CN="de Schalm":MAILTO:info@schalmdemeern.nl
END:VEVENT
BEGIN:VEVENT
DTSTART;TZID=UTC:20260513T130000
DTEND;TZID=UTC:20260513T170000
DTSTAMP:20260422T000102
CREATED:20260316T093052Z
LAST-MODIFIED:20260316T093052Z
UID:10004623-1778677200-1778691600@schalmdemeern.nl
SUMMARY:🎨🖌️Schilderen (besloten groep) 🖌️🎨
DESCRIPTION:
URL:https://schalmdemeern.nl/event/%f0%9f%8e%a8%f0%9f%96%8c%ef%b8%8fschilderen-besloten-groep-%f0%9f%96%8c%ef%b8%8f%f0%9f%8e%a8/2026-05-13/
LOCATION:Zaal 3
END:VEVENT
BEGIN:VEVENT
DTSTART;TZID=UTC:20260513T190000
DTEND;TZID=UTC:20260513T220000
DTSTAMP:20260422T000102
CREATED:20260131T142329Z
LAST-MODIFIED:20260202T094320Z
UID:10001555-1778698800-1778709600@schalmdemeern.nl
SUMMARY:Shantykoor Windstilte
DESCRIPTION:Het koor zingt wind\, zeil en golven bij elkaar. Vrolijkheid en muziek\, een mooie combinatie. Nieuwe leden zijn welkom! \nwww.windstilte.nl \nContact: secretaris Ton de Bondt\, tel. 030-2888966 of 06-37307408 \n 
URL:https://schalmdemeern.nl/event/shantykoor-windstilte-3/2026-05-13/
LOCATION:Zaal 3
ORGANIZER;CN="De Schalm":MAILTO:info@schalmdemeern.nl
END:VEVENT
BEGIN:VEVENT
DTSTART;TZID=UTC:20260515T120000
DTEND;TZID=UTC:20260515T170000
DTSTAMP:20260422T000102
CREATED:20260316T094317Z
LAST-MODIFIED:20260316T094317Z
UID:10004879-1778846400-1778864400@schalmdemeern.nl
SUMMARY:🎨🖌️Schilderen (besloten groep)
DESCRIPTION:
URL:https://schalmdemeern.nl/event/%f0%9f%8e%a8%f0%9f%96%8c%ef%b8%8fschilderen-besloten-groep/2026-05-15/
LOCATION:Zaal 3
ORGANIZER;CN="de Schalm":MAILTO:info@schalmdemeern.nl
END:VEVENT
BEGIN:VEVENT
DTSTART;TZID=UTC:20260519T100000
DTEND;TZID=UTC:20260519T120000
DTSTAMP:20260422T000102
CREATED:20251224T123937Z
LAST-MODIFIED:20251224T123937Z
UID:10000495-1779184800-1779192000@schalmdemeern.nl
SUMMARY:Yoga
DESCRIPTION:
URL:https://schalmdemeern.nl/event/yoga/2026-05-19/
LOCATION:Zaal 3
ORGANIZER;CN="De Schalm":MAILTO:info@schalmdemeern.nl
END:VEVENT
BEGIN:VEVENT
DTSTART;TZID=UTC:20260520T090000
DTEND;TZID=UTC:20260520T130000
DTSTAMP:20260422T000102
CREATED:20260316T135436Z
LAST-MODIFIED:20260316T135745Z
UID:10004922-1779267600-1779282000@schalmdemeern.nl
SUMMARY:🖌️🎨Schilderen🎨🖌️ (besloten groep)
DESCRIPTION:
URL:https://schalmdemeern.nl/event/%f0%9f%96%8c%ef%b8%8f%f0%9f%8e%a8schilderen%f0%9f%8e%a8%f0%9f%96%8c%ef%b8%8f-besloten-groep/2026-05-20/
LOCATION:Zaal 3
ORGANIZER;CN="de Schalm":MAILTO:info@schalmdemeern.nl
END:VEVENT
BEGIN:VEVENT
DTSTART;TZID=UTC:20260520T130000
DTEND;TZID=UTC:20260520T170000
DTSTAMP:20260422T000102
CREATED:20260316T093052Z
LAST-MODIFIED:20260316T093052Z
UID:10004624-1779282000-1779296400@schalmdemeern.nl
SUMMARY:🎨🖌️Schilderen (besloten groep) 🖌️🎨
DESCRIPTION:
URL:https://schalmdemeern.nl/event/%f0%9f%8e%a8%f0%9f%96%8c%ef%b8%8fschilderen-besloten-groep-%f0%9f%96%8c%ef%b8%8f%f0%9f%8e%a8/2026-05-20/
LOCATION:Zaal 3
END:VEVENT
BEGIN:VEVENT
DTSTART;TZID=UTC:20260520T190000
DTEND;TZID=UTC:20260520T220000
DTSTAMP:20260422T000102
CREATED:20260131T142329Z
LAST-MODIFIED:20260202T094320Z
UID:10001556-1779303600-1779314400@schalmdemeern.nl
SUMMARY:Shantykoor Windstilte
DESCRIPTION:Het koor zingt wind\, zeil en golven bij elkaar. Vrolijkheid en muziek\, een mooie combinatie. Nieuwe leden zijn welkom! \nwww.windstilte.nl \nContact: secretaris Ton de Bondt\, tel. 030-2888966 of 06-37307408 \n 
URL:https://schalmdemeern.nl/event/shantykoor-windstilte-3/2026-05-20/
LOCATION:Zaal 3
ORGANIZER;CN="De Schalm":MAILTO:info@schalmdemeern.nl
END:VEVENT
BEGIN:VEVENT
DTSTART;TZID=UTC:20260526T100000
DTEND;TZID=UTC:20260526T120000
DTSTAMP:20260422T000102
CREATED:20251224T123937Z
LAST-MODIFIED:20251224T123937Z
UID:10000496-1779789600-1779796800@schalmdemeern.nl
SUMMARY:Yoga
DESCRIPTION:
URL:https://schalmdemeern.nl/event/yoga/2026-05-26/
LOCATION:Zaal 3
ORGANIZER;CN="De Schalm":MAILTO:info@schalmdemeern.nl
END:VEVENT
BEGIN:VEVENT
DTSTART;TZID=UTC:20260527T090000
DTEND;TZID=UTC:20260527T130000
DTSTAMP:20260422T000102
CREATED:20260316T135436Z
LAST-MODIFIED:20260316T135745Z
UID:10004923-1779872400-1779886800@schalmdemeern.nl
SUMMARY:🖌️🎨Schilderen🎨🖌️ (besloten groep)
DESCRIPTION:
URL:https://schalmdemeern.nl/event/%f0%9f%96%8c%ef%b8%8f%f0%9f%8e%a8schilderen%f0%9f%8e%a8%f0%9f%96%8c%ef%b8%8f-besloten-groep/2026-05-27/
LOCATION:Zaal 3
ORGANIZER;CN="de Schalm":MAILTO:info@schalmdemeern.nl
END:VEVENT
BEGIN:VEVENT
DTSTART;TZID=UTC:20260527T130000
DTEND;TZID=UTC:20260527T170000
DTSTAMP:20260422T000102
CREATED:20260316T093052Z
LAST-MODIFIED:20260316T093052Z
UID:10004625-1779886800-1779901200@schalmdemeern.nl
SUMMARY:🎨🖌️Schilderen (besloten groep) 🖌️🎨
DESCRIPTION:
URL:https://schalmdemeern.nl/event/%f0%9f%8e%a8%f0%9f%96%8c%ef%b8%8fschilderen-besloten-groep-%f0%9f%96%8c%ef%b8%8f%f0%9f%8e%a8/2026-05-27/
LOCATION:Zaal 3
END:VEVENT
BEGIN:VEVENT
DTSTART;TZID=UTC:20260527T190000
DTEND;TZID=UTC:20260527T220000
DTSTAMP:20260422T000102
CREATED:20260131T142329Z
LAST-MODIFIED:20260202T094320Z
UID:10001557-1779908400-1779919200@schalmdemeern.nl
SUMMARY:Shantykoor Windstilte
DESCRIPTION:Het koor zingt wind\, zeil en golven bij elkaar. Vrolijkheid en muziek\, een mooie combinatie. Nieuwe leden zijn welkom! \nwww.windstilte.nl \nContact: secretaris Ton de Bondt\, tel. 030-2888966 of 06-37307408 \n 
URL:https://schalmdemeern.nl/event/shantykoor-windstilte-3/2026-05-27/
LOCATION:Zaal 3
ORGANIZER;CN="De Schalm":MAILTO:info@schalmdemeern.nl
END:VEVENT
BEGIN:VEVENT
DTSTART;TZID=UTC:20260529T120000
DTEND;TZID=UTC:20260529T170000
DTSTAMP:20260422T000102
CREATED:20260316T094317Z
LAST-MODIFIED:20260316T094317Z
UID:10004880-1780056000-1780074000@schalmdemeern.nl
SUMMARY:🎨🖌️Schilderen (besloten groep)
DESCRIPTION:
URL:https://schalmdemeern.nl/event/%f0%9f%8e%a8%f0%9f%96%8c%ef%b8%8fschilderen-besloten-groep/2026-05-29/
LOCATION:Zaal 3
ORGANIZER;CN="de Schalm":MAILTO:info@schalmdemeern.nl
END:VEVENT
BEGIN:VEVENT
DTSTART;TZID=UTC:20260602T100000
DTEND;TZID=UTC:20260602T120000
DTSTAMP:20260422T000102
CREATED:20251224T123937Z
LAST-MODIFIED:20251224T123937Z
UID:10000497-1780394400-1780401600@schalmdemeern.nl
SUMMARY:Yoga
DESCRIPTION:
URL:https://schalmdemeern.nl/event/yoga/2026-06-02/
LOCATION:Zaal 3
ORGANIZER;CN="De Schalm":MAILTO:info@schalmdemeern.nl
END:VEVENT
BEGIN:VEVENT
DTSTART;TZID=UTC:20260603T090000
DTEND;TZID=UTC:20260603T130000
DTSTAMP:20260422T000102
CREATED:20260316T135436Z
LAST-MODIFIED:20260316T135745Z
UID:10004924-1780477200-1780491600@schalmdemeern.nl
SUMMARY:🖌️🎨Schilderen🎨🖌️ (besloten groep)
DESCRIPTION:
URL:https://schalmdemeern.nl/event/%f0%9f%96%8c%ef%b8%8f%f0%9f%8e%a8schilderen%f0%9f%8e%a8%f0%9f%96%8c%ef%b8%8f-besloten-groep/2026-06-03/
LOCATION:Zaal 3
ORGANIZER;CN="de Schalm":MAILTO:info@schalmdemeern.nl
END:VEVENT
BEGIN:VEVENT
DTSTART;TZID=UTC:20260603T130000
DTEND;TZID=UTC:20260603T170000
DTSTAMP:20260422T000102
CREATED:20260316T093052Z
LAST-MODIFIED:20260316T093052Z
UID:10004626-1780491600-1780506000@schalmdemeern.nl
SUMMARY:🎨🖌️Schilderen (besloten groep) 🖌️🎨
DESCRIPTION:
URL:https://schalmdemeern.nl/event/%f0%9f%8e%a8%f0%9f%96%8c%ef%b8%8fschilderen-besloten-groep-%f0%9f%96%8c%ef%b8%8f%f0%9f%8e%a8/2026-06-03/
LOCATION:Zaal 3
END:VEVENT
BEGIN:VEVENT
DTSTART;TZID=UTC:20260603T190000
DTEND;TZID=UTC:20260603T220000
DTSTAMP:20260422T000102
CREATED:20260131T142329Z
LAST-MODIFIED:20260202T094320Z
UID:10001558-1780513200-1780524000@schalmdemeern.nl
SUMMARY:Shantykoor Windstilte
DESCRIPTION:Het koor zingt wind\, zeil en golven bij elkaar. Vrolijkheid en muziek\, een mooie combinatie. Nieuwe leden zijn welkom! \nwww.windstilte.nl \nContact: secretaris Ton de Bondt\, tel. 030-2888966 of 06-37307408 \n 
URL:https://schalmdemeern.nl/event/shantykoor-windstilte-3/2026-06-03/
LOCATION:Zaal 3
ORGANIZER;CN="De Schalm":MAILTO:info@schalmdemeern.nl
END:VEVENT
END:VCALENDAR