BEGIN:VCALENDAR
VERSION:2.0
PRODID:-//De Schalm - ECPv6.15.18//NONSGML v1.0//EN
CALSCALE:GREGORIAN
METHOD:PUBLISH
X-ORIGINAL-URL:https://schalmdemeern.nl
X-WR-CALDESC:Evenementen voor De Schalm
REFRESH-INTERVAL;VALUE=DURATION:PT1H
X-Robots-Tag:noindex
X-PUBLISHED-TTL:PT1H
BEGIN:VTIMEZONE
TZID:UTC
BEGIN:STANDARD
TZOFFSETFROM:+0000
TZOFFSETTO:+0000
TZNAME:UTC
DTSTART:20280101T000000
END:STANDARD
END:VTIMEZONE
BEGIN:VEVENT
DTSTART;TZID=UTC:20290723T090000
DTEND;TZID=UTC:20290723T130000
DTSTAMP:20260423T175321
CREATED:20251224T115827Z
LAST-MODIFIED:20260309T130659Z
UID:10000438-1879491600-1879506000@schalmdemeern.nl
SUMMARY:Rijbewijskeuringsarts
DESCRIPTION:U mag plaats nemen op de bank in de hal.
URL:https://schalmdemeern.nl/event/rijbewijskeuringsarts/2029-07-23/
LOCATION:zaal 2
ORGANIZER;CN="De Schalm":MAILTO:info@schalmdemeern.nl
END:VEVENT
BEGIN:VEVENT
DTSTART;TZID=UTC:20290806T090000
DTEND;TZID=UTC:20290806T130000
DTSTAMP:20260423T175321
CREATED:20251224T115827Z
LAST-MODIFIED:20260309T130659Z
UID:10000439-1880701200-1880715600@schalmdemeern.nl
SUMMARY:Rijbewijskeuringsarts
DESCRIPTION:U mag plaats nemen op de bank in de hal.
URL:https://schalmdemeern.nl/event/rijbewijskeuringsarts/2029-08-06/
LOCATION:zaal 2
ORGANIZER;CN="De Schalm":MAILTO:info@schalmdemeern.nl
END:VEVENT
BEGIN:VEVENT
DTSTART;TZID=UTC:20290820T090000
DTEND;TZID=UTC:20290820T130000
DTSTAMP:20260423T175321
CREATED:20251224T115827Z
LAST-MODIFIED:20260309T130659Z
UID:10000440-1881910800-1881925200@schalmdemeern.nl
SUMMARY:Rijbewijskeuringsarts
DESCRIPTION:U mag plaats nemen op de bank in de hal.
URL:https://schalmdemeern.nl/event/rijbewijskeuringsarts/2029-08-20/
LOCATION:zaal 2
ORGANIZER;CN="De Schalm":MAILTO:info@schalmdemeern.nl
END:VEVENT
BEGIN:VEVENT
DTSTART;TZID=UTC:20290903T090000
DTEND;TZID=UTC:20290903T130000
DTSTAMP:20260423T175321
CREATED:20251224T115827Z
LAST-MODIFIED:20260309T130659Z
UID:10000441-1883120400-1883134800@schalmdemeern.nl
SUMMARY:Rijbewijskeuringsarts
DESCRIPTION:U mag plaats nemen op de bank in de hal.
URL:https://schalmdemeern.nl/event/rijbewijskeuringsarts/2029-09-03/
LOCATION:zaal 2
ORGANIZER;CN="De Schalm":MAILTO:info@schalmdemeern.nl
END:VEVENT
BEGIN:VEVENT
DTSTART;TZID=UTC:20290917T090000
DTEND;TZID=UTC:20290917T130000
DTSTAMP:20260423T175321
CREATED:20251224T115827Z
LAST-MODIFIED:20260309T130659Z
UID:10000442-1884330000-1884344400@schalmdemeern.nl
SUMMARY:Rijbewijskeuringsarts
DESCRIPTION:U mag plaats nemen op de bank in de hal.
URL:https://schalmdemeern.nl/event/rijbewijskeuringsarts/2029-09-17/
LOCATION:zaal 2
ORGANIZER;CN="De Schalm":MAILTO:info@schalmdemeern.nl
END:VEVENT
BEGIN:VEVENT
DTSTART;TZID=UTC:20291001T090000
DTEND;TZID=UTC:20291001T130000
DTSTAMP:20260423T175321
CREATED:20251224T115827Z
LAST-MODIFIED:20260309T130659Z
UID:10000443-1885539600-1885554000@schalmdemeern.nl
SUMMARY:Rijbewijskeuringsarts
DESCRIPTION:U mag plaats nemen op de bank in de hal.
URL:https://schalmdemeern.nl/event/rijbewijskeuringsarts/2029-10-01/
LOCATION:zaal 2
ORGANIZER;CN="De Schalm":MAILTO:info@schalmdemeern.nl
END:VEVENT
BEGIN:VEVENT
DTSTART;TZID=UTC:20291015T090000
DTEND;TZID=UTC:20291015T130000
DTSTAMP:20260423T175321
CREATED:20251224T115827Z
LAST-MODIFIED:20260309T130659Z
UID:10000444-1886749200-1886763600@schalmdemeern.nl
SUMMARY:Rijbewijskeuringsarts
DESCRIPTION:U mag plaats nemen op de bank in de hal.
URL:https://schalmdemeern.nl/event/rijbewijskeuringsarts/2029-10-15/
LOCATION:zaal 2
ORGANIZER;CN="De Schalm":MAILTO:info@schalmdemeern.nl
END:VEVENT
BEGIN:VEVENT
DTSTART;TZID=UTC:20291029T090000
DTEND;TZID=UTC:20291029T130000
DTSTAMP:20260423T175321
CREATED:20251224T115827Z
LAST-MODIFIED:20260309T130659Z
UID:10000445-1887958800-1887973200@schalmdemeern.nl
SUMMARY:Rijbewijskeuringsarts
DESCRIPTION:U mag plaats nemen op de bank in de hal.
URL:https://schalmdemeern.nl/event/rijbewijskeuringsarts/2029-10-29/
LOCATION:zaal 2
ORGANIZER;CN="De Schalm":MAILTO:info@schalmdemeern.nl
END:VEVENT
BEGIN:VEVENT
DTSTART;TZID=UTC:20291112T090000
DTEND;TZID=UTC:20291112T130000
DTSTAMP:20260423T175321
CREATED:20251224T115827Z
LAST-MODIFIED:20260309T130659Z
UID:10000446-1889168400-1889182800@schalmdemeern.nl
SUMMARY:Rijbewijskeuringsarts
DESCRIPTION:U mag plaats nemen op de bank in de hal.
URL:https://schalmdemeern.nl/event/rijbewijskeuringsarts/2029-11-12/
LOCATION:zaal 2
ORGANIZER;CN="De Schalm":MAILTO:info@schalmdemeern.nl
END:VEVENT
BEGIN:VEVENT
DTSTART;TZID=UTC:20291126T090000
DTEND;TZID=UTC:20291126T130000
DTSTAMP:20260423T175321
CREATED:20251224T115827Z
LAST-MODIFIED:20260309T130659Z
UID:10000447-1890378000-1890392400@schalmdemeern.nl
SUMMARY:Rijbewijskeuringsarts
DESCRIPTION:U mag plaats nemen op de bank in de hal.
URL:https://schalmdemeern.nl/event/rijbewijskeuringsarts/2029-11-26/
LOCATION:zaal 2
ORGANIZER;CN="De Schalm":MAILTO:info@schalmdemeern.nl
END:VEVENT
BEGIN:VEVENT
DTSTART;TZID=UTC:20291210T090000
DTEND;TZID=UTC:20291210T130000
DTSTAMP:20260423T175321
CREATED:20251224T115827Z
LAST-MODIFIED:20260309T130659Z
UID:10000448-1891587600-1891602000@schalmdemeern.nl
SUMMARY:Rijbewijskeuringsarts
DESCRIPTION:U mag plaats nemen op de bank in de hal.
URL:https://schalmdemeern.nl/event/rijbewijskeuringsarts/2029-12-10/
LOCATION:zaal 2
ORGANIZER;CN="De Schalm":MAILTO:info@schalmdemeern.nl
END:VEVENT
BEGIN:VEVENT
DTSTART;TZID=UTC:20291224T090000
DTEND;TZID=UTC:20291224T130000
DTSTAMP:20260423T175321
CREATED:20251224T115827Z
LAST-MODIFIED:20260309T130659Z
UID:10000449-1892797200-1892811600@schalmdemeern.nl
SUMMARY:Rijbewijskeuringsarts
DESCRIPTION:U mag plaats nemen op de bank in de hal.
URL:https://schalmdemeern.nl/event/rijbewijskeuringsarts/2029-12-24/
LOCATION:zaal 2
ORGANIZER;CN="De Schalm":MAILTO:info@schalmdemeern.nl
END:VEVENT
BEGIN:VEVENT
DTSTART;TZID=UTC:20300107T090000
DTEND;TZID=UTC:20300107T130000
DTSTAMP:20260423T175321
CREATED:20251224T115827Z
LAST-MODIFIED:20260309T130659Z
UID:10000450-1894006800-1894021200@schalmdemeern.nl
SUMMARY:Rijbewijskeuringsarts
DESCRIPTION:U mag plaats nemen op de bank in de hal.
URL:https://schalmdemeern.nl/event/rijbewijskeuringsarts/2030-01-07/
LOCATION:zaal 2
ORGANIZER;CN="De Schalm":MAILTO:info@schalmdemeern.nl
END:VEVENT
BEGIN:VEVENT
DTSTART;TZID=UTC:20300121T090000
DTEND;TZID=UTC:20300121T130000
DTSTAMP:20260423T175321
CREATED:20251224T115827Z
LAST-MODIFIED:20260309T130659Z
UID:10000451-1895216400-1895230800@schalmdemeern.nl
SUMMARY:Rijbewijskeuringsarts
DESCRIPTION:U mag plaats nemen op de bank in de hal.
URL:https://schalmdemeern.nl/event/rijbewijskeuringsarts/2030-01-21/
LOCATION:zaal 2
ORGANIZER;CN="De Schalm":MAILTO:info@schalmdemeern.nl
END:VEVENT
BEGIN:VEVENT
DTSTART;TZID=UTC:20300204T090000
DTEND;TZID=UTC:20300204T130000
DTSTAMP:20260423T175321
CREATED:20251224T115827Z
LAST-MODIFIED:20260309T130659Z
UID:10000452-1896426000-1896440400@schalmdemeern.nl
SUMMARY:Rijbewijskeuringsarts
DESCRIPTION:U mag plaats nemen op de bank in de hal.
URL:https://schalmdemeern.nl/event/rijbewijskeuringsarts/2030-02-04/
LOCATION:zaal 2
ORGANIZER;CN="De Schalm":MAILTO:info@schalmdemeern.nl
END:VEVENT
BEGIN:VEVENT
DTSTART;TZID=UTC:20300218T090000
DTEND;TZID=UTC:20300218T130000
DTSTAMP:20260423T175321
CREATED:20251224T115827Z
LAST-MODIFIED:20260309T130659Z
UID:10000453-1897635600-1897650000@schalmdemeern.nl
SUMMARY:Rijbewijskeuringsarts
DESCRIPTION:U mag plaats nemen op de bank in de hal.
URL:https://schalmdemeern.nl/event/rijbewijskeuringsarts/2030-02-18/
LOCATION:zaal 2
ORGANIZER;CN="De Schalm":MAILTO:info@schalmdemeern.nl
END:VEVENT
BEGIN:VEVENT
DTSTART;TZID=UTC:20300304T090000
DTEND;TZID=UTC:20300304T130000
DTSTAMP:20260423T175321
CREATED:20251224T115827Z
LAST-MODIFIED:20260309T130659Z
UID:10000454-1898845200-1898859600@schalmdemeern.nl
SUMMARY:Rijbewijskeuringsarts
DESCRIPTION:U mag plaats nemen op de bank in de hal.
URL:https://schalmdemeern.nl/event/rijbewijskeuringsarts/2030-03-04/
LOCATION:zaal 2
ORGANIZER;CN="De Schalm":MAILTO:info@schalmdemeern.nl
END:VEVENT
BEGIN:VEVENT
DTSTART;TZID=UTC:20300318T090000
DTEND;TZID=UTC:20300318T130000
DTSTAMP:20260423T175321
CREATED:20251224T115827Z
LAST-MODIFIED:20260309T130659Z
UID:10000455-1900054800-1900069200@schalmdemeern.nl
SUMMARY:Rijbewijskeuringsarts
DESCRIPTION:U mag plaats nemen op de bank in de hal.
URL:https://schalmdemeern.nl/event/rijbewijskeuringsarts/2030-03-18/
LOCATION:zaal 2
ORGANIZER;CN="De Schalm":MAILTO:info@schalmdemeern.nl
END:VEVENT
BEGIN:VEVENT
DTSTART;TZID=UTC:20300401T090000
DTEND;TZID=UTC:20300401T130000
DTSTAMP:20260423T175321
CREATED:20251224T115827Z
LAST-MODIFIED:20260309T130659Z
UID:10000456-1901264400-1901278800@schalmdemeern.nl
SUMMARY:Rijbewijskeuringsarts
DESCRIPTION:U mag plaats nemen op de bank in de hal.
URL:https://schalmdemeern.nl/event/rijbewijskeuringsarts/2030-04-01/
LOCATION:zaal 2
ORGANIZER;CN="De Schalm":MAILTO:info@schalmdemeern.nl
END:VEVENT
BEGIN:VEVENT
DTSTART;TZID=UTC:20300415T090000
DTEND;TZID=UTC:20300415T130000
DTSTAMP:20260423T175321
CREATED:20251224T115827Z
LAST-MODIFIED:20260309T130659Z
UID:10000457-1902474000-1902488400@schalmdemeern.nl
SUMMARY:Rijbewijskeuringsarts
DESCRIPTION:U mag plaats nemen op de bank in de hal.
URL:https://schalmdemeern.nl/event/rijbewijskeuringsarts/2030-04-15/
LOCATION:zaal 2
ORGANIZER;CN="De Schalm":MAILTO:info@schalmdemeern.nl
END:VEVENT
BEGIN:VEVENT
DTSTART;TZID=UTC:20300429T090000
DTEND;TZID=UTC:20300429T130000
DTSTAMP:20260423T175321
CREATED:20251224T115827Z
LAST-MODIFIED:20260309T130659Z
UID:10000458-1903683600-1903698000@schalmdemeern.nl
SUMMARY:Rijbewijskeuringsarts
DESCRIPTION:U mag plaats nemen op de bank in de hal.
URL:https://schalmdemeern.nl/event/rijbewijskeuringsarts/2030-04-29/
LOCATION:zaal 2
ORGANIZER;CN="De Schalm":MAILTO:info@schalmdemeern.nl
END:VEVENT
BEGIN:VEVENT
DTSTART;TZID=UTC:20300513T090000
DTEND;TZID=UTC:20300513T130000
DTSTAMP:20260423T175321
CREATED:20251224T115827Z
LAST-MODIFIED:20260309T130659Z
UID:10000459-1904893200-1904907600@schalmdemeern.nl
SUMMARY:Rijbewijskeuringsarts
DESCRIPTION:U mag plaats nemen op de bank in de hal.
URL:https://schalmdemeern.nl/event/rijbewijskeuringsarts/2030-05-13/
LOCATION:zaal 2
ORGANIZER;CN="De Schalm":MAILTO:info@schalmdemeern.nl
END:VEVENT
BEGIN:VEVENT
DTSTART;TZID=UTC:20300527T090000
DTEND;TZID=UTC:20300527T130000
DTSTAMP:20260423T175321
CREATED:20251224T115827Z
LAST-MODIFIED:20260309T130659Z
UID:10000460-1906102800-1906117200@schalmdemeern.nl
SUMMARY:Rijbewijskeuringsarts
DESCRIPTION:U mag plaats nemen op de bank in de hal.
URL:https://schalmdemeern.nl/event/rijbewijskeuringsarts/2030-05-27/
LOCATION:zaal 2
ORGANIZER;CN="De Schalm":MAILTO:info@schalmdemeern.nl
END:VEVENT
BEGIN:VEVENT
DTSTART;TZID=UTC:20300610T090000
DTEND;TZID=UTC:20300610T130000
DTSTAMP:20260423T175321
CREATED:20251224T115827Z
LAST-MODIFIED:20260309T130659Z
UID:10000461-1907312400-1907326800@schalmdemeern.nl
SUMMARY:Rijbewijskeuringsarts
DESCRIPTION:U mag plaats nemen op de bank in de hal.
URL:https://schalmdemeern.nl/event/rijbewijskeuringsarts/2030-06-10/
LOCATION:zaal 2
ORGANIZER;CN="De Schalm":MAILTO:info@schalmdemeern.nl
END:VEVENT
BEGIN:VEVENT
DTSTART;TZID=UTC:20300624T090000
DTEND;TZID=UTC:20300624T130000
DTSTAMP:20260423T175321
CREATED:20251224T115827Z
LAST-MODIFIED:20260309T130659Z
UID:10000462-1908522000-1908536400@schalmdemeern.nl
SUMMARY:Rijbewijskeuringsarts
DESCRIPTION:U mag plaats nemen op de bank in de hal.
URL:https://schalmdemeern.nl/event/rijbewijskeuringsarts/2030-06-24/
LOCATION:zaal 2
ORGANIZER;CN="De Schalm":MAILTO:info@schalmdemeern.nl
END:VEVENT
BEGIN:VEVENT
DTSTART;TZID=UTC:20300708T090000
DTEND;TZID=UTC:20300708T130000
DTSTAMP:20260423T175321
CREATED:20251224T115827Z
LAST-MODIFIED:20260309T130659Z
UID:10000463-1909731600-1909746000@schalmdemeern.nl
SUMMARY:Rijbewijskeuringsarts
DESCRIPTION:U mag plaats nemen op de bank in de hal.
URL:https://schalmdemeern.nl/event/rijbewijskeuringsarts/2030-07-08/
LOCATION:zaal 2
ORGANIZER;CN="De Schalm":MAILTO:info@schalmdemeern.nl
END:VEVENT
BEGIN:VEVENT
DTSTART;TZID=UTC:20300722T090000
DTEND;TZID=UTC:20300722T130000
DTSTAMP:20260423T175321
CREATED:20251224T115827Z
LAST-MODIFIED:20260309T130659Z
UID:10000464-1910941200-1910955600@schalmdemeern.nl
SUMMARY:Rijbewijskeuringsarts
DESCRIPTION:U mag plaats nemen op de bank in de hal.
URL:https://schalmdemeern.nl/event/rijbewijskeuringsarts/2030-07-22/
LOCATION:zaal 2
ORGANIZER;CN="De Schalm":MAILTO:info@schalmdemeern.nl
END:VEVENT
BEGIN:VEVENT
DTSTART;TZID=UTC:20300805T090000
DTEND;TZID=UTC:20300805T130000
DTSTAMP:20260423T175321
CREATED:20251224T115827Z
LAST-MODIFIED:20260309T130659Z
UID:10000465-1912150800-1912165200@schalmdemeern.nl
SUMMARY:Rijbewijskeuringsarts
DESCRIPTION:U mag plaats nemen op de bank in de hal.
URL:https://schalmdemeern.nl/event/rijbewijskeuringsarts/2030-08-05/
LOCATION:zaal 2
ORGANIZER;CN="De Schalm":MAILTO:info@schalmdemeern.nl
END:VEVENT
BEGIN:VEVENT
DTSTART;TZID=UTC:20300819T090000
DTEND;TZID=UTC:20300819T130000
DTSTAMP:20260423T175322
CREATED:20251224T115827Z
LAST-MODIFIED:20260309T130659Z
UID:10000466-1913360400-1913374800@schalmdemeern.nl
SUMMARY:Rijbewijskeuringsarts
DESCRIPTION:U mag plaats nemen op de bank in de hal.
URL:https://schalmdemeern.nl/event/rijbewijskeuringsarts/2030-08-19/
LOCATION:zaal 2
ORGANIZER;CN="De Schalm":MAILTO:info@schalmdemeern.nl
END:VEVENT
BEGIN:VEVENT
DTSTART;TZID=UTC:20300902T090000
DTEND;TZID=UTC:20300902T130000
DTSTAMP:20260423T175322
CREATED:20251224T115827Z
LAST-MODIFIED:20260309T130659Z
UID:10000467-1914570000-1914584400@schalmdemeern.nl
SUMMARY:Rijbewijskeuringsarts
DESCRIPTION:U mag plaats nemen op de bank in de hal.
URL:https://schalmdemeern.nl/event/rijbewijskeuringsarts/2030-09-02/
LOCATION:zaal 2
ORGANIZER;CN="De Schalm":MAILTO:info@schalmdemeern.nl
END:VEVENT
END:VCALENDAR