BEGIN:VCALENDAR
VERSION:2.0
PRODID:-//De Schalm - ECPv6.15.18//NONSGML v1.0//EN
CALSCALE:GREGORIAN
METHOD:PUBLISH
X-ORIGINAL-URL:https://schalmdemeern.nl
X-WR-CALDESC:Evenementen voor De Schalm
REFRESH-INTERVAL;VALUE=DURATION:PT1H
X-Robots-Tag:noindex
X-PUBLISHED-TTL:PT1H
BEGIN:VTIMEZONE
TZID:UTC
BEGIN:STANDARD
TZOFFSETFROM:+0000
TZOFFSETTO:+0000
TZNAME:UTC
DTSTART:20270101T000000
END:STANDARD
END:VTIMEZONE
BEGIN:VEVENT
DTSTART;TZID=UTC:20280821T090000
DTEND;TZID=UTC:20280821T130000
DTSTAMP:20260423T123014
CREATED:20251224T115827Z
LAST-MODIFIED:20260309T130659Z
UID:10000414-1850461200-1850475600@schalmdemeern.nl
SUMMARY:Rijbewijskeuringsarts
DESCRIPTION:U mag plaats nemen op de bank in de hal.
URL:https://schalmdemeern.nl/event/rijbewijskeuringsarts/2028-08-21/
LOCATION:zaal 2
ORGANIZER;CN="De Schalm":MAILTO:info@schalmdemeern.nl
END:VEVENT
BEGIN:VEVENT
DTSTART;TZID=UTC:20280904T090000
DTEND;TZID=UTC:20280904T130000
DTSTAMP:20260423T123014
CREATED:20251224T115827Z
LAST-MODIFIED:20260309T130659Z
UID:10000415-1851670800-1851685200@schalmdemeern.nl
SUMMARY:Rijbewijskeuringsarts
DESCRIPTION:U mag plaats nemen op de bank in de hal.
URL:https://schalmdemeern.nl/event/rijbewijskeuringsarts/2028-09-04/
LOCATION:zaal 2
ORGANIZER;CN="De Schalm":MAILTO:info@schalmdemeern.nl
END:VEVENT
BEGIN:VEVENT
DTSTART;TZID=UTC:20280918T090000
DTEND;TZID=UTC:20280918T130000
DTSTAMP:20260423T123014
CREATED:20251224T115827Z
LAST-MODIFIED:20260309T130659Z
UID:10000416-1852880400-1852894800@schalmdemeern.nl
SUMMARY:Rijbewijskeuringsarts
DESCRIPTION:U mag plaats nemen op de bank in de hal.
URL:https://schalmdemeern.nl/event/rijbewijskeuringsarts/2028-09-18/
LOCATION:zaal 2
ORGANIZER;CN="De Schalm":MAILTO:info@schalmdemeern.nl
END:VEVENT
BEGIN:VEVENT
DTSTART;TZID=UTC:20281002T090000
DTEND;TZID=UTC:20281002T130000
DTSTAMP:20260423T123014
CREATED:20251224T115827Z
LAST-MODIFIED:20260309T130659Z
UID:10000417-1854090000-1854104400@schalmdemeern.nl
SUMMARY:Rijbewijskeuringsarts
DESCRIPTION:U mag plaats nemen op de bank in de hal.
URL:https://schalmdemeern.nl/event/rijbewijskeuringsarts/2028-10-02/
LOCATION:zaal 2
ORGANIZER;CN="De Schalm":MAILTO:info@schalmdemeern.nl
END:VEVENT
BEGIN:VEVENT
DTSTART;TZID=UTC:20281016T090000
DTEND;TZID=UTC:20281016T130000
DTSTAMP:20260423T123014
CREATED:20251224T115827Z
LAST-MODIFIED:20260309T130659Z
UID:10000418-1855299600-1855314000@schalmdemeern.nl
SUMMARY:Rijbewijskeuringsarts
DESCRIPTION:U mag plaats nemen op de bank in de hal.
URL:https://schalmdemeern.nl/event/rijbewijskeuringsarts/2028-10-16/
LOCATION:zaal 2
ORGANIZER;CN="De Schalm":MAILTO:info@schalmdemeern.nl
END:VEVENT
BEGIN:VEVENT
DTSTART;TZID=UTC:20281030T090000
DTEND;TZID=UTC:20281030T130000
DTSTAMP:20260423T123014
CREATED:20251224T115827Z
LAST-MODIFIED:20260309T130659Z
UID:10000419-1856509200-1856523600@schalmdemeern.nl
SUMMARY:Rijbewijskeuringsarts
DESCRIPTION:U mag plaats nemen op de bank in de hal.
URL:https://schalmdemeern.nl/event/rijbewijskeuringsarts/2028-10-30/
LOCATION:zaal 2
ORGANIZER;CN="De Schalm":MAILTO:info@schalmdemeern.nl
END:VEVENT
BEGIN:VEVENT
DTSTART;TZID=UTC:20281113T090000
DTEND;TZID=UTC:20281113T130000
DTSTAMP:20260423T123014
CREATED:20251224T115827Z
LAST-MODIFIED:20260309T130659Z
UID:10000420-1857718800-1857733200@schalmdemeern.nl
SUMMARY:Rijbewijskeuringsarts
DESCRIPTION:U mag plaats nemen op de bank in de hal.
URL:https://schalmdemeern.nl/event/rijbewijskeuringsarts/2028-11-13/
LOCATION:zaal 2
ORGANIZER;CN="De Schalm":MAILTO:info@schalmdemeern.nl
END:VEVENT
BEGIN:VEVENT
DTSTART;TZID=UTC:20281127T090000
DTEND;TZID=UTC:20281127T130000
DTSTAMP:20260423T123014
CREATED:20251224T115827Z
LAST-MODIFIED:20260309T130659Z
UID:10000421-1858928400-1858942800@schalmdemeern.nl
SUMMARY:Rijbewijskeuringsarts
DESCRIPTION:U mag plaats nemen op de bank in de hal.
URL:https://schalmdemeern.nl/event/rijbewijskeuringsarts/2028-11-27/
LOCATION:zaal 2
ORGANIZER;CN="De Schalm":MAILTO:info@schalmdemeern.nl
END:VEVENT
BEGIN:VEVENT
DTSTART;TZID=UTC:20281211T090000
DTEND;TZID=UTC:20281211T130000
DTSTAMP:20260423T123014
CREATED:20251224T115827Z
LAST-MODIFIED:20260309T130659Z
UID:10000422-1860138000-1860152400@schalmdemeern.nl
SUMMARY:Rijbewijskeuringsarts
DESCRIPTION:U mag plaats nemen op de bank in de hal.
URL:https://schalmdemeern.nl/event/rijbewijskeuringsarts/2028-12-11/
LOCATION:zaal 2
ORGANIZER;CN="De Schalm":MAILTO:info@schalmdemeern.nl
END:VEVENT
BEGIN:VEVENT
DTSTART;TZID=UTC:20281225T090000
DTEND;TZID=UTC:20281225T130000
DTSTAMP:20260423T123014
CREATED:20251224T115827Z
LAST-MODIFIED:20260309T130659Z
UID:10000423-1861347600-1861362000@schalmdemeern.nl
SUMMARY:Rijbewijskeuringsarts
DESCRIPTION:U mag plaats nemen op de bank in de hal.
URL:https://schalmdemeern.nl/event/rijbewijskeuringsarts/2028-12-25/
LOCATION:zaal 2
ORGANIZER;CN="De Schalm":MAILTO:info@schalmdemeern.nl
END:VEVENT
BEGIN:VEVENT
DTSTART;TZID=UTC:20290108T090000
DTEND;TZID=UTC:20290108T130000
DTSTAMP:20260423T123014
CREATED:20251224T115827Z
LAST-MODIFIED:20260309T130659Z
UID:10000424-1862557200-1862571600@schalmdemeern.nl
SUMMARY:Rijbewijskeuringsarts
DESCRIPTION:U mag plaats nemen op de bank in de hal.
URL:https://schalmdemeern.nl/event/rijbewijskeuringsarts/2029-01-08/
LOCATION:zaal 2
ORGANIZER;CN="De Schalm":MAILTO:info@schalmdemeern.nl
END:VEVENT
BEGIN:VEVENT
DTSTART;TZID=UTC:20290122T090000
DTEND;TZID=UTC:20290122T130000
DTSTAMP:20260423T123014
CREATED:20251224T115827Z
LAST-MODIFIED:20260309T130659Z
UID:10000425-1863766800-1863781200@schalmdemeern.nl
SUMMARY:Rijbewijskeuringsarts
DESCRIPTION:U mag plaats nemen op de bank in de hal.
URL:https://schalmdemeern.nl/event/rijbewijskeuringsarts/2029-01-22/
LOCATION:zaal 2
ORGANIZER;CN="De Schalm":MAILTO:info@schalmdemeern.nl
END:VEVENT
BEGIN:VEVENT
DTSTART;TZID=UTC:20290205T090000
DTEND;TZID=UTC:20290205T130000
DTSTAMP:20260423T123014
CREATED:20251224T115827Z
LAST-MODIFIED:20260309T130659Z
UID:10000426-1864976400-1864990800@schalmdemeern.nl
SUMMARY:Rijbewijskeuringsarts
DESCRIPTION:U mag plaats nemen op de bank in de hal.
URL:https://schalmdemeern.nl/event/rijbewijskeuringsarts/2029-02-05/
LOCATION:zaal 2
ORGANIZER;CN="De Schalm":MAILTO:info@schalmdemeern.nl
END:VEVENT
BEGIN:VEVENT
DTSTART;TZID=UTC:20290219T090000
DTEND;TZID=UTC:20290219T130000
DTSTAMP:20260423T123014
CREATED:20251224T115827Z
LAST-MODIFIED:20260309T130659Z
UID:10000427-1866186000-1866200400@schalmdemeern.nl
SUMMARY:Rijbewijskeuringsarts
DESCRIPTION:U mag plaats nemen op de bank in de hal.
URL:https://schalmdemeern.nl/event/rijbewijskeuringsarts/2029-02-19/
LOCATION:zaal 2
ORGANIZER;CN="De Schalm":MAILTO:info@schalmdemeern.nl
END:VEVENT
BEGIN:VEVENT
DTSTART;TZID=UTC:20290305T090000
DTEND;TZID=UTC:20290305T130000
DTSTAMP:20260423T123014
CREATED:20251224T115827Z
LAST-MODIFIED:20260309T130659Z
UID:10000428-1867395600-1867410000@schalmdemeern.nl
SUMMARY:Rijbewijskeuringsarts
DESCRIPTION:U mag plaats nemen op de bank in de hal.
URL:https://schalmdemeern.nl/event/rijbewijskeuringsarts/2029-03-05/
LOCATION:zaal 2
ORGANIZER;CN="De Schalm":MAILTO:info@schalmdemeern.nl
END:VEVENT
BEGIN:VEVENT
DTSTART;TZID=UTC:20290319T090000
DTEND;TZID=UTC:20290319T130000
DTSTAMP:20260423T123014
CREATED:20251224T115827Z
LAST-MODIFIED:20260309T130659Z
UID:10000429-1868605200-1868619600@schalmdemeern.nl
SUMMARY:Rijbewijskeuringsarts
DESCRIPTION:U mag plaats nemen op de bank in de hal.
URL:https://schalmdemeern.nl/event/rijbewijskeuringsarts/2029-03-19/
LOCATION:zaal 2
ORGANIZER;CN="De Schalm":MAILTO:info@schalmdemeern.nl
END:VEVENT
BEGIN:VEVENT
DTSTART;TZID=UTC:20290402T090000
DTEND;TZID=UTC:20290402T130000
DTSTAMP:20260423T123014
CREATED:20251224T115827Z
LAST-MODIFIED:20260309T130659Z
UID:10000430-1869814800-1869829200@schalmdemeern.nl
SUMMARY:Rijbewijskeuringsarts
DESCRIPTION:U mag plaats nemen op de bank in de hal.
URL:https://schalmdemeern.nl/event/rijbewijskeuringsarts/2029-04-02/
LOCATION:zaal 2
ORGANIZER;CN="De Schalm":MAILTO:info@schalmdemeern.nl
END:VEVENT
BEGIN:VEVENT
DTSTART;TZID=UTC:20290416T090000
DTEND;TZID=UTC:20290416T130000
DTSTAMP:20260423T123014
CREATED:20251224T115827Z
LAST-MODIFIED:20260309T130659Z
UID:10000431-1871024400-1871038800@schalmdemeern.nl
SUMMARY:Rijbewijskeuringsarts
DESCRIPTION:U mag plaats nemen op de bank in de hal.
URL:https://schalmdemeern.nl/event/rijbewijskeuringsarts/2029-04-16/
LOCATION:zaal 2
ORGANIZER;CN="De Schalm":MAILTO:info@schalmdemeern.nl
END:VEVENT
BEGIN:VEVENT
DTSTART;TZID=UTC:20290430T090000
DTEND;TZID=UTC:20290430T130000
DTSTAMP:20260423T123014
CREATED:20251224T115827Z
LAST-MODIFIED:20260309T130659Z
UID:10000432-1872234000-1872248400@schalmdemeern.nl
SUMMARY:Rijbewijskeuringsarts
DESCRIPTION:U mag plaats nemen op de bank in de hal.
URL:https://schalmdemeern.nl/event/rijbewijskeuringsarts/2029-04-30/
LOCATION:zaal 2
ORGANIZER;CN="De Schalm":MAILTO:info@schalmdemeern.nl
END:VEVENT
BEGIN:VEVENT
DTSTART;TZID=UTC:20290514T090000
DTEND;TZID=UTC:20290514T130000
DTSTAMP:20260423T123014
CREATED:20251224T115827Z
LAST-MODIFIED:20260309T130659Z
UID:10000433-1873443600-1873458000@schalmdemeern.nl
SUMMARY:Rijbewijskeuringsarts
DESCRIPTION:U mag plaats nemen op de bank in de hal.
URL:https://schalmdemeern.nl/event/rijbewijskeuringsarts/2029-05-14/
LOCATION:zaal 2
ORGANIZER;CN="De Schalm":MAILTO:info@schalmdemeern.nl
END:VEVENT
BEGIN:VEVENT
DTSTART;TZID=UTC:20290528T090000
DTEND;TZID=UTC:20290528T130000
DTSTAMP:20260423T123014
CREATED:20251224T115827Z
LAST-MODIFIED:20260309T130659Z
UID:10000434-1874653200-1874667600@schalmdemeern.nl
SUMMARY:Rijbewijskeuringsarts
DESCRIPTION:U mag plaats nemen op de bank in de hal.
URL:https://schalmdemeern.nl/event/rijbewijskeuringsarts/2029-05-28/
LOCATION:zaal 2
ORGANIZER;CN="De Schalm":MAILTO:info@schalmdemeern.nl
END:VEVENT
BEGIN:VEVENT
DTSTART;TZID=UTC:20290611T090000
DTEND;TZID=UTC:20290611T130000
DTSTAMP:20260423T123014
CREATED:20251224T115827Z
LAST-MODIFIED:20260309T130659Z
UID:10000435-1875862800-1875877200@schalmdemeern.nl
SUMMARY:Rijbewijskeuringsarts
DESCRIPTION:U mag plaats nemen op de bank in de hal.
URL:https://schalmdemeern.nl/event/rijbewijskeuringsarts/2029-06-11/
LOCATION:zaal 2
ORGANIZER;CN="De Schalm":MAILTO:info@schalmdemeern.nl
END:VEVENT
BEGIN:VEVENT
DTSTART;TZID=UTC:20290625T090000
DTEND;TZID=UTC:20290625T130000
DTSTAMP:20260423T123014
CREATED:20251224T115827Z
LAST-MODIFIED:20260309T130659Z
UID:10000436-1877072400-1877086800@schalmdemeern.nl
SUMMARY:Rijbewijskeuringsarts
DESCRIPTION:U mag plaats nemen op de bank in de hal.
URL:https://schalmdemeern.nl/event/rijbewijskeuringsarts/2029-06-25/
LOCATION:zaal 2
ORGANIZER;CN="De Schalm":MAILTO:info@schalmdemeern.nl
END:VEVENT
BEGIN:VEVENT
DTSTART;TZID=UTC:20290709T090000
DTEND;TZID=UTC:20290709T130000
DTSTAMP:20260423T123014
CREATED:20251224T115827Z
LAST-MODIFIED:20260309T130659Z
UID:10000437-1878282000-1878296400@schalmdemeern.nl
SUMMARY:Rijbewijskeuringsarts
DESCRIPTION:U mag plaats nemen op de bank in de hal.
URL:https://schalmdemeern.nl/event/rijbewijskeuringsarts/2029-07-09/
LOCATION:zaal 2
ORGANIZER;CN="De Schalm":MAILTO:info@schalmdemeern.nl
END:VEVENT
BEGIN:VEVENT
DTSTART;TZID=UTC:20290723T090000
DTEND;TZID=UTC:20290723T130000
DTSTAMP:20260423T123014
CREATED:20251224T115827Z
LAST-MODIFIED:20260309T130659Z
UID:10000438-1879491600-1879506000@schalmdemeern.nl
SUMMARY:Rijbewijskeuringsarts
DESCRIPTION:U mag plaats nemen op de bank in de hal.
URL:https://schalmdemeern.nl/event/rijbewijskeuringsarts/2029-07-23/
LOCATION:zaal 2
ORGANIZER;CN="De Schalm":MAILTO:info@schalmdemeern.nl
END:VEVENT
BEGIN:VEVENT
DTSTART;TZID=UTC:20290806T090000
DTEND;TZID=UTC:20290806T130000
DTSTAMP:20260423T123014
CREATED:20251224T115827Z
LAST-MODIFIED:20260309T130659Z
UID:10000439-1880701200-1880715600@schalmdemeern.nl
SUMMARY:Rijbewijskeuringsarts
DESCRIPTION:U mag plaats nemen op de bank in de hal.
URL:https://schalmdemeern.nl/event/rijbewijskeuringsarts/2029-08-06/
LOCATION:zaal 2
ORGANIZER;CN="De Schalm":MAILTO:info@schalmdemeern.nl
END:VEVENT
BEGIN:VEVENT
DTSTART;TZID=UTC:20290820T090000
DTEND;TZID=UTC:20290820T130000
DTSTAMP:20260423T123014
CREATED:20251224T115827Z
LAST-MODIFIED:20260309T130659Z
UID:10000440-1881910800-1881925200@schalmdemeern.nl
SUMMARY:Rijbewijskeuringsarts
DESCRIPTION:U mag plaats nemen op de bank in de hal.
URL:https://schalmdemeern.nl/event/rijbewijskeuringsarts/2029-08-20/
LOCATION:zaal 2
ORGANIZER;CN="De Schalm":MAILTO:info@schalmdemeern.nl
END:VEVENT
BEGIN:VEVENT
DTSTART;TZID=UTC:20290903T090000
DTEND;TZID=UTC:20290903T130000
DTSTAMP:20260423T123014
CREATED:20251224T115827Z
LAST-MODIFIED:20260309T130659Z
UID:10000441-1883120400-1883134800@schalmdemeern.nl
SUMMARY:Rijbewijskeuringsarts
DESCRIPTION:U mag plaats nemen op de bank in de hal.
URL:https://schalmdemeern.nl/event/rijbewijskeuringsarts/2029-09-03/
LOCATION:zaal 2
ORGANIZER;CN="De Schalm":MAILTO:info@schalmdemeern.nl
END:VEVENT
BEGIN:VEVENT
DTSTART;TZID=UTC:20290917T090000
DTEND;TZID=UTC:20290917T130000
DTSTAMP:20260423T123014
CREATED:20251224T115827Z
LAST-MODIFIED:20260309T130659Z
UID:10000442-1884330000-1884344400@schalmdemeern.nl
SUMMARY:Rijbewijskeuringsarts
DESCRIPTION:U mag plaats nemen op de bank in de hal.
URL:https://schalmdemeern.nl/event/rijbewijskeuringsarts/2029-09-17/
LOCATION:zaal 2
ORGANIZER;CN="De Schalm":MAILTO:info@schalmdemeern.nl
END:VEVENT
BEGIN:VEVENT
DTSTART;TZID=UTC:20291001T090000
DTEND;TZID=UTC:20291001T130000
DTSTAMP:20260423T123014
CREATED:20251224T115827Z
LAST-MODIFIED:20260309T130659Z
UID:10000443-1885539600-1885554000@schalmdemeern.nl
SUMMARY:Rijbewijskeuringsarts
DESCRIPTION:U mag plaats nemen op de bank in de hal.
URL:https://schalmdemeern.nl/event/rijbewijskeuringsarts/2029-10-01/
LOCATION:zaal 2
ORGANIZER;CN="De Schalm":MAILTO:info@schalmdemeern.nl
END:VEVENT
END:VCALENDAR