BEGIN:VCALENDAR
VERSION:2.0
PRODID:-//De Schalm - ECPv6.15.18//NONSGML v1.0//EN
CALSCALE:GREGORIAN
METHOD:PUBLISH
X-ORIGINAL-URL:https://schalmdemeern.nl
X-WR-CALDESC:Evenementen voor De Schalm
REFRESH-INTERVAL;VALUE=DURATION:PT1H
X-Robots-Tag:noindex
X-PUBLISHED-TTL:PT1H
BEGIN:VTIMEZONE
TZID:UTC
BEGIN:STANDARD
TZOFFSETFROM:+0000
TZOFFSETTO:+0000
TZNAME:UTC
DTSTART:20260101T000000
END:STANDARD
END:VTIMEZONE
BEGIN:VEVENT
DTSTART;TZID=UTC:20270920T090000
DTEND;TZID=UTC:20270920T130000
DTSTAMP:20260422T191446
CREATED:20251224T115827Z
LAST-MODIFIED:20260309T130659Z
UID:10000390-1821430800-1821445200@schalmdemeern.nl
SUMMARY:Rijbewijskeuringsarts
DESCRIPTION:U mag plaats nemen op de bank in de hal.
URL:https://schalmdemeern.nl/event/rijbewijskeuringsarts/2027-09-20/
LOCATION:zaal 2
ORGANIZER;CN="De Schalm":MAILTO:info@schalmdemeern.nl
END:VEVENT
BEGIN:VEVENT
DTSTART;TZID=UTC:20271004T090000
DTEND;TZID=UTC:20271004T130000
DTSTAMP:20260422T191446
CREATED:20251224T115827Z
LAST-MODIFIED:20260309T130659Z
UID:10000391-1822640400-1822654800@schalmdemeern.nl
SUMMARY:Rijbewijskeuringsarts
DESCRIPTION:U mag plaats nemen op de bank in de hal.
URL:https://schalmdemeern.nl/event/rijbewijskeuringsarts/2027-10-04/
LOCATION:zaal 2
ORGANIZER;CN="De Schalm":MAILTO:info@schalmdemeern.nl
END:VEVENT
BEGIN:VEVENT
DTSTART;TZID=UTC:20271018T090000
DTEND;TZID=UTC:20271018T130000
DTSTAMP:20260422T191446
CREATED:20251224T115827Z
LAST-MODIFIED:20260309T130659Z
UID:10000392-1823850000-1823864400@schalmdemeern.nl
SUMMARY:Rijbewijskeuringsarts
DESCRIPTION:U mag plaats nemen op de bank in de hal.
URL:https://schalmdemeern.nl/event/rijbewijskeuringsarts/2027-10-18/
LOCATION:zaal 2
ORGANIZER;CN="De Schalm":MAILTO:info@schalmdemeern.nl
END:VEVENT
BEGIN:VEVENT
DTSTART;TZID=UTC:20271101T090000
DTEND;TZID=UTC:20271101T130000
DTSTAMP:20260422T191446
CREATED:20251224T115827Z
LAST-MODIFIED:20260309T130659Z
UID:10000393-1825059600-1825074000@schalmdemeern.nl
SUMMARY:Rijbewijskeuringsarts
DESCRIPTION:U mag plaats nemen op de bank in de hal.
URL:https://schalmdemeern.nl/event/rijbewijskeuringsarts/2027-11-01/
LOCATION:zaal 2
ORGANIZER;CN="De Schalm":MAILTO:info@schalmdemeern.nl
END:VEVENT
BEGIN:VEVENT
DTSTART;TZID=UTC:20271115T090000
DTEND;TZID=UTC:20271115T130000
DTSTAMP:20260422T191446
CREATED:20251224T115827Z
LAST-MODIFIED:20260309T130659Z
UID:10000394-1826269200-1826283600@schalmdemeern.nl
SUMMARY:Rijbewijskeuringsarts
DESCRIPTION:U mag plaats nemen op de bank in de hal.
URL:https://schalmdemeern.nl/event/rijbewijskeuringsarts/2027-11-15/
LOCATION:zaal 2
ORGANIZER;CN="De Schalm":MAILTO:info@schalmdemeern.nl
END:VEVENT
BEGIN:VEVENT
DTSTART;TZID=UTC:20271129T090000
DTEND;TZID=UTC:20271129T130000
DTSTAMP:20260422T191446
CREATED:20251224T115827Z
LAST-MODIFIED:20260309T130659Z
UID:10000395-1827478800-1827493200@schalmdemeern.nl
SUMMARY:Rijbewijskeuringsarts
DESCRIPTION:U mag plaats nemen op de bank in de hal.
URL:https://schalmdemeern.nl/event/rijbewijskeuringsarts/2027-11-29/
LOCATION:zaal 2
ORGANIZER;CN="De Schalm":MAILTO:info@schalmdemeern.nl
END:VEVENT
BEGIN:VEVENT
DTSTART;TZID=UTC:20271213T090000
DTEND;TZID=UTC:20271213T130000
DTSTAMP:20260422T191446
CREATED:20251224T115827Z
LAST-MODIFIED:20260309T130659Z
UID:10000396-1828688400-1828702800@schalmdemeern.nl
SUMMARY:Rijbewijskeuringsarts
DESCRIPTION:U mag plaats nemen op de bank in de hal.
URL:https://schalmdemeern.nl/event/rijbewijskeuringsarts/2027-12-13/
LOCATION:zaal 2
ORGANIZER;CN="De Schalm":MAILTO:info@schalmdemeern.nl
END:VEVENT
BEGIN:VEVENT
DTSTART;TZID=UTC:20271227T090000
DTEND;TZID=UTC:20271227T130000
DTSTAMP:20260422T191446
CREATED:20251224T115827Z
LAST-MODIFIED:20260309T130659Z
UID:10000397-1829898000-1829912400@schalmdemeern.nl
SUMMARY:Rijbewijskeuringsarts
DESCRIPTION:U mag plaats nemen op de bank in de hal.
URL:https://schalmdemeern.nl/event/rijbewijskeuringsarts/2027-12-27/
LOCATION:zaal 2
ORGANIZER;CN="De Schalm":MAILTO:info@schalmdemeern.nl
END:VEVENT
BEGIN:VEVENT
DTSTART;TZID=UTC:20280110T090000
DTEND;TZID=UTC:20280110T130000
DTSTAMP:20260422T191446
CREATED:20251224T115827Z
LAST-MODIFIED:20260309T130659Z
UID:10000398-1831107600-1831122000@schalmdemeern.nl
SUMMARY:Rijbewijskeuringsarts
DESCRIPTION:U mag plaats nemen op de bank in de hal.
URL:https://schalmdemeern.nl/event/rijbewijskeuringsarts/2028-01-10/
LOCATION:zaal 2
ORGANIZER;CN="De Schalm":MAILTO:info@schalmdemeern.nl
END:VEVENT
BEGIN:VEVENT
DTSTART;TZID=UTC:20280124T090000
DTEND;TZID=UTC:20280124T130000
DTSTAMP:20260422T191446
CREATED:20251224T115827Z
LAST-MODIFIED:20260309T130659Z
UID:10000399-1832317200-1832331600@schalmdemeern.nl
SUMMARY:Rijbewijskeuringsarts
DESCRIPTION:U mag plaats nemen op de bank in de hal.
URL:https://schalmdemeern.nl/event/rijbewijskeuringsarts/2028-01-24/
LOCATION:zaal 2
ORGANIZER;CN="De Schalm":MAILTO:info@schalmdemeern.nl
END:VEVENT
BEGIN:VEVENT
DTSTART;TZID=UTC:20280207T090000
DTEND;TZID=UTC:20280207T130000
DTSTAMP:20260422T191446
CREATED:20251224T115827Z
LAST-MODIFIED:20260309T130659Z
UID:10000400-1833526800-1833541200@schalmdemeern.nl
SUMMARY:Rijbewijskeuringsarts
DESCRIPTION:U mag plaats nemen op de bank in de hal.
URL:https://schalmdemeern.nl/event/rijbewijskeuringsarts/2028-02-07/
LOCATION:zaal 2
ORGANIZER;CN="De Schalm":MAILTO:info@schalmdemeern.nl
END:VEVENT
BEGIN:VEVENT
DTSTART;TZID=UTC:20280221T090000
DTEND;TZID=UTC:20280221T130000
DTSTAMP:20260422T191446
CREATED:20251224T115827Z
LAST-MODIFIED:20260309T130659Z
UID:10000401-1834736400-1834750800@schalmdemeern.nl
SUMMARY:Rijbewijskeuringsarts
DESCRIPTION:U mag plaats nemen op de bank in de hal.
URL:https://schalmdemeern.nl/event/rijbewijskeuringsarts/2028-02-21/
LOCATION:zaal 2
ORGANIZER;CN="De Schalm":MAILTO:info@schalmdemeern.nl
END:VEVENT
BEGIN:VEVENT
DTSTART;TZID=UTC:20280306T090000
DTEND;TZID=UTC:20280306T130000
DTSTAMP:20260422T191446
CREATED:20251224T115827Z
LAST-MODIFIED:20260309T130659Z
UID:10000402-1835946000-1835960400@schalmdemeern.nl
SUMMARY:Rijbewijskeuringsarts
DESCRIPTION:U mag plaats nemen op de bank in de hal.
URL:https://schalmdemeern.nl/event/rijbewijskeuringsarts/2028-03-06/
LOCATION:zaal 2
ORGANIZER;CN="De Schalm":MAILTO:info@schalmdemeern.nl
END:VEVENT
BEGIN:VEVENT
DTSTART;TZID=UTC:20280320T090000
DTEND;TZID=UTC:20280320T130000
DTSTAMP:20260422T191446
CREATED:20251224T115827Z
LAST-MODIFIED:20260309T130659Z
UID:10000403-1837155600-1837170000@schalmdemeern.nl
SUMMARY:Rijbewijskeuringsarts
DESCRIPTION:U mag plaats nemen op de bank in de hal.
URL:https://schalmdemeern.nl/event/rijbewijskeuringsarts/2028-03-20/
LOCATION:zaal 2
ORGANIZER;CN="De Schalm":MAILTO:info@schalmdemeern.nl
END:VEVENT
BEGIN:VEVENT
DTSTART;TZID=UTC:20280403T090000
DTEND;TZID=UTC:20280403T130000
DTSTAMP:20260422T191446
CREATED:20251224T115827Z
LAST-MODIFIED:20260309T130659Z
UID:10000404-1838365200-1838379600@schalmdemeern.nl
SUMMARY:Rijbewijskeuringsarts
DESCRIPTION:U mag plaats nemen op de bank in de hal.
URL:https://schalmdemeern.nl/event/rijbewijskeuringsarts/2028-04-03/
LOCATION:zaal 2
ORGANIZER;CN="De Schalm":MAILTO:info@schalmdemeern.nl
END:VEVENT
BEGIN:VEVENT
DTSTART;TZID=UTC:20280417T090000
DTEND;TZID=UTC:20280417T130000
DTSTAMP:20260422T191446
CREATED:20251224T115827Z
LAST-MODIFIED:20260309T130659Z
UID:10000405-1839574800-1839589200@schalmdemeern.nl
SUMMARY:Rijbewijskeuringsarts
DESCRIPTION:U mag plaats nemen op de bank in de hal.
URL:https://schalmdemeern.nl/event/rijbewijskeuringsarts/2028-04-17/
LOCATION:zaal 2
ORGANIZER;CN="De Schalm":MAILTO:info@schalmdemeern.nl
END:VEVENT
BEGIN:VEVENT
DTSTART;TZID=UTC:20280501T090000
DTEND;TZID=UTC:20280501T130000
DTSTAMP:20260422T191446
CREATED:20251224T115827Z
LAST-MODIFIED:20260309T130659Z
UID:10000406-1840784400-1840798800@schalmdemeern.nl
SUMMARY:Rijbewijskeuringsarts
DESCRIPTION:U mag plaats nemen op de bank in de hal.
URL:https://schalmdemeern.nl/event/rijbewijskeuringsarts/2028-05-01/
LOCATION:zaal 2
ORGANIZER;CN="De Schalm":MAILTO:info@schalmdemeern.nl
END:VEVENT
BEGIN:VEVENT
DTSTART;TZID=UTC:20280515T090000
DTEND;TZID=UTC:20280515T130000
DTSTAMP:20260422T191446
CREATED:20251224T115827Z
LAST-MODIFIED:20260309T130659Z
UID:10000407-1841994000-1842008400@schalmdemeern.nl
SUMMARY:Rijbewijskeuringsarts
DESCRIPTION:U mag plaats nemen op de bank in de hal.
URL:https://schalmdemeern.nl/event/rijbewijskeuringsarts/2028-05-15/
LOCATION:zaal 2
ORGANIZER;CN="De Schalm":MAILTO:info@schalmdemeern.nl
END:VEVENT
BEGIN:VEVENT
DTSTART;TZID=UTC:20280529T090000
DTEND;TZID=UTC:20280529T130000
DTSTAMP:20260422T191447
CREATED:20251224T115827Z
LAST-MODIFIED:20260309T130659Z
UID:10000408-1843203600-1843218000@schalmdemeern.nl
SUMMARY:Rijbewijskeuringsarts
DESCRIPTION:U mag plaats nemen op de bank in de hal.
URL:https://schalmdemeern.nl/event/rijbewijskeuringsarts/2028-05-29/
LOCATION:zaal 2
ORGANIZER;CN="De Schalm":MAILTO:info@schalmdemeern.nl
END:VEVENT
BEGIN:VEVENT
DTSTART;TZID=UTC:20280612T090000
DTEND;TZID=UTC:20280612T130000
DTSTAMP:20260422T191447
CREATED:20251224T115827Z
LAST-MODIFIED:20260309T130659Z
UID:10000409-1844413200-1844427600@schalmdemeern.nl
SUMMARY:Rijbewijskeuringsarts
DESCRIPTION:U mag plaats nemen op de bank in de hal.
URL:https://schalmdemeern.nl/event/rijbewijskeuringsarts/2028-06-12/
LOCATION:zaal 2
ORGANIZER;CN="De Schalm":MAILTO:info@schalmdemeern.nl
END:VEVENT
BEGIN:VEVENT
DTSTART;TZID=UTC:20280626T090000
DTEND;TZID=UTC:20280626T130000
DTSTAMP:20260422T191447
CREATED:20251224T115827Z
LAST-MODIFIED:20260309T130659Z
UID:10000410-1845622800-1845637200@schalmdemeern.nl
SUMMARY:Rijbewijskeuringsarts
DESCRIPTION:U mag plaats nemen op de bank in de hal.
URL:https://schalmdemeern.nl/event/rijbewijskeuringsarts/2028-06-26/
LOCATION:zaal 2
ORGANIZER;CN="De Schalm":MAILTO:info@schalmdemeern.nl
END:VEVENT
BEGIN:VEVENT
DTSTART;TZID=UTC:20280710T090000
DTEND;TZID=UTC:20280710T130000
DTSTAMP:20260422T191447
CREATED:20251224T115827Z
LAST-MODIFIED:20260309T130659Z
UID:10000411-1846832400-1846846800@schalmdemeern.nl
SUMMARY:Rijbewijskeuringsarts
DESCRIPTION:U mag plaats nemen op de bank in de hal.
URL:https://schalmdemeern.nl/event/rijbewijskeuringsarts/2028-07-10/
LOCATION:zaal 2
ORGANIZER;CN="De Schalm":MAILTO:info@schalmdemeern.nl
END:VEVENT
BEGIN:VEVENT
DTSTART;TZID=UTC:20280724T090000
DTEND;TZID=UTC:20280724T130000
DTSTAMP:20260422T191447
CREATED:20251224T115827Z
LAST-MODIFIED:20260309T130659Z
UID:10000412-1848042000-1848056400@schalmdemeern.nl
SUMMARY:Rijbewijskeuringsarts
DESCRIPTION:U mag plaats nemen op de bank in de hal.
URL:https://schalmdemeern.nl/event/rijbewijskeuringsarts/2028-07-24/
LOCATION:zaal 2
ORGANIZER;CN="De Schalm":MAILTO:info@schalmdemeern.nl
END:VEVENT
BEGIN:VEVENT
DTSTART;TZID=UTC:20280807T090000
DTEND;TZID=UTC:20280807T130000
DTSTAMP:20260422T191447
CREATED:20251224T115827Z
LAST-MODIFIED:20260309T130659Z
UID:10000413-1849251600-1849266000@schalmdemeern.nl
SUMMARY:Rijbewijskeuringsarts
DESCRIPTION:U mag plaats nemen op de bank in de hal.
URL:https://schalmdemeern.nl/event/rijbewijskeuringsarts/2028-08-07/
LOCATION:zaal 2
ORGANIZER;CN="De Schalm":MAILTO:info@schalmdemeern.nl
END:VEVENT
BEGIN:VEVENT
DTSTART;TZID=UTC:20280821T090000
DTEND;TZID=UTC:20280821T130000
DTSTAMP:20260422T191447
CREATED:20251224T115827Z
LAST-MODIFIED:20260309T130659Z
UID:10000414-1850461200-1850475600@schalmdemeern.nl
SUMMARY:Rijbewijskeuringsarts
DESCRIPTION:U mag plaats nemen op de bank in de hal.
URL:https://schalmdemeern.nl/event/rijbewijskeuringsarts/2028-08-21/
LOCATION:zaal 2
ORGANIZER;CN="De Schalm":MAILTO:info@schalmdemeern.nl
END:VEVENT
BEGIN:VEVENT
DTSTART;TZID=UTC:20280904T090000
DTEND;TZID=UTC:20280904T130000
DTSTAMP:20260422T191447
CREATED:20251224T115827Z
LAST-MODIFIED:20260309T130659Z
UID:10000415-1851670800-1851685200@schalmdemeern.nl
SUMMARY:Rijbewijskeuringsarts
DESCRIPTION:U mag plaats nemen op de bank in de hal.
URL:https://schalmdemeern.nl/event/rijbewijskeuringsarts/2028-09-04/
LOCATION:zaal 2
ORGANIZER;CN="De Schalm":MAILTO:info@schalmdemeern.nl
END:VEVENT
BEGIN:VEVENT
DTSTART;TZID=UTC:20280918T090000
DTEND;TZID=UTC:20280918T130000
DTSTAMP:20260422T191447
CREATED:20251224T115827Z
LAST-MODIFIED:20260309T130659Z
UID:10000416-1852880400-1852894800@schalmdemeern.nl
SUMMARY:Rijbewijskeuringsarts
DESCRIPTION:U mag plaats nemen op de bank in de hal.
URL:https://schalmdemeern.nl/event/rijbewijskeuringsarts/2028-09-18/
LOCATION:zaal 2
ORGANIZER;CN="De Schalm":MAILTO:info@schalmdemeern.nl
END:VEVENT
BEGIN:VEVENT
DTSTART;TZID=UTC:20281002T090000
DTEND;TZID=UTC:20281002T130000
DTSTAMP:20260422T191447
CREATED:20251224T115827Z
LAST-MODIFIED:20260309T130659Z
UID:10000417-1854090000-1854104400@schalmdemeern.nl
SUMMARY:Rijbewijskeuringsarts
DESCRIPTION:U mag plaats nemen op de bank in de hal.
URL:https://schalmdemeern.nl/event/rijbewijskeuringsarts/2028-10-02/
LOCATION:zaal 2
ORGANIZER;CN="De Schalm":MAILTO:info@schalmdemeern.nl
END:VEVENT
BEGIN:VEVENT
DTSTART;TZID=UTC:20281016T090000
DTEND;TZID=UTC:20281016T130000
DTSTAMP:20260422T191447
CREATED:20251224T115827Z
LAST-MODIFIED:20260309T130659Z
UID:10000418-1855299600-1855314000@schalmdemeern.nl
SUMMARY:Rijbewijskeuringsarts
DESCRIPTION:U mag plaats nemen op de bank in de hal.
URL:https://schalmdemeern.nl/event/rijbewijskeuringsarts/2028-10-16/
LOCATION:zaal 2
ORGANIZER;CN="De Schalm":MAILTO:info@schalmdemeern.nl
END:VEVENT
BEGIN:VEVENT
DTSTART;TZID=UTC:20281030T090000
DTEND;TZID=UTC:20281030T130000
DTSTAMP:20260422T191447
CREATED:20251224T115827Z
LAST-MODIFIED:20260309T130659Z
UID:10000419-1856509200-1856523600@schalmdemeern.nl
SUMMARY:Rijbewijskeuringsarts
DESCRIPTION:U mag plaats nemen op de bank in de hal.
URL:https://schalmdemeern.nl/event/rijbewijskeuringsarts/2028-10-30/
LOCATION:zaal 2
ORGANIZER;CN="De Schalm":MAILTO:info@schalmdemeern.nl
END:VEVENT
END:VCALENDAR