BEGIN:VCALENDAR
VERSION:2.0
PRODID:-//De Schalm - ECPv6.15.18//NONSGML v1.0//EN
CALSCALE:GREGORIAN
METHOD:PUBLISH
X-WR-CALNAME:De Schalm
X-ORIGINAL-URL:https://schalmdemeern.nl
X-WR-CALDESC:Evenementen voor De Schalm
REFRESH-INTERVAL;VALUE=DURATION:PT1H
X-Robots-Tag:noindex
X-PUBLISHED-TTL:PT1H
BEGIN:VTIMEZONE
TZID:UTC
BEGIN:STANDARD
TZOFFSETFROM:+0000
TZOFFSETTO:+0000
TZNAME:UTC
DTSTART:20250101T000000
END:STANDARD
END:VTIMEZONE
BEGIN:VEVENT
DTSTART;TZID=UTC:20260420T090000
DTEND;TZID=UTC:20260420T130000
DTSTAMP:20260422T030603
CREATED:20251224T115827Z
LAST-MODIFIED:20260309T130659Z
UID:10000353-1776675600-1776690000@schalmdemeern.nl
SUMMARY:Rijbewijskeuringsarts
DESCRIPTION:U mag plaats nemen op de bank in de hal.
URL:https://schalmdemeern.nl/event/rijbewijskeuringsarts/2026-04-20/
LOCATION:zaal 2
ORGANIZER;CN="De Schalm":MAILTO:info@schalmdemeern.nl
END:VEVENT
BEGIN:VEVENT
DTSTART;TZID=UTC:20260407T090000
DTEND;TZID=UTC:20260407T130000
DTSTAMP:20260422T030603
CREATED:20260309T142749Z
LAST-MODIFIED:20260309T142749Z
UID:10004612-1775552400-1775566800@schalmdemeern.nl
SUMMARY:Rijbewijskeuringsarts
DESCRIPTION:U mag plaats nemen op de bank in de hal.
URL:https://schalmdemeern.nl/event/rijbewijskeuringsarts-3/
LOCATION:zaal 2
END:VEVENT
BEGIN:VEVENT
DTSTART;TZID=UTC:20260323T090000
DTEND;TZID=UTC:20260323T130000
DTSTAMP:20260422T030603
CREATED:20251224T115827Z
LAST-MODIFIED:20260309T130659Z
UID:10000351-1774256400-1774270800@schalmdemeern.nl
SUMMARY:Rijbewijskeuringsarts
DESCRIPTION:U mag plaats nemen op de bank in de hal.
URL:https://schalmdemeern.nl/event/rijbewijskeuringsarts/2026-03-23/
LOCATION:zaal 2
ORGANIZER;CN="De Schalm":MAILTO:info@schalmdemeern.nl
END:VEVENT
BEGIN:VEVENT
DTSTART;TZID=UTC:20260309T090000
DTEND;TZID=UTC:20260309T130000
DTSTAMP:20260422T030603
CREATED:20260309T141351Z
LAST-MODIFIED:20260309T141351Z
UID:10004611-1773046800-1773061200@schalmdemeern.nl
SUMMARY:Rijbewijskeuringsarts
DESCRIPTION:U mag plaatsnemen op de bank in de hal.
URL:https://schalmdemeern.nl/event/rijbewijskeuringsarts-2/
LOCATION:zaal 2
END:VEVENT
BEGIN:VEVENT
DTSTART;TZID=UTC:20260309T090000
DTEND;TZID=UTC:20260309T130000
DTSTAMP:20260422T030603
CREATED:20251224T115827Z
LAST-MODIFIED:20260309T130659Z
UID:10000350-1773046800-1773061200@schalmdemeern.nl
SUMMARY:Rijbewijskeuringsarts
DESCRIPTION:U mag plaats nemen op de bank in de hal.
URL:https://schalmdemeern.nl/event/rijbewijskeuringsarts/2026-03-09/
LOCATION:zaal 2
ORGANIZER;CN="De Schalm":MAILTO:info@schalmdemeern.nl
END:VEVENT
BEGIN:VEVENT
DTSTART;TZID=UTC:20260223T090000
DTEND;TZID=UTC:20260223T130000
DTSTAMP:20260422T030603
CREATED:20251224T115827Z
LAST-MODIFIED:20260309T130659Z
UID:10000349-1771837200-1771851600@schalmdemeern.nl
SUMMARY:Rijbewijskeuringsarts
DESCRIPTION:U mag plaats nemen op de bank in de hal.
URL:https://schalmdemeern.nl/event/rijbewijskeuringsarts/2026-02-23/
LOCATION:zaal 2
ORGANIZER;CN="De Schalm":MAILTO:info@schalmdemeern.nl
END:VEVENT
BEGIN:VEVENT
DTSTART;TZID=UTC:20260209T090000
DTEND;TZID=UTC:20260209T130000
DTSTAMP:20260422T030603
CREATED:20251224T115827Z
LAST-MODIFIED:20260309T130659Z
UID:10000348-1770627600-1770642000@schalmdemeern.nl
SUMMARY:Rijbewijskeuringsarts
DESCRIPTION:U mag plaats nemen op de bank in de hal.
URL:https://schalmdemeern.nl/event/rijbewijskeuringsarts/2026-02-09/
LOCATION:zaal 2
ORGANIZER;CN="De Schalm":MAILTO:info@schalmdemeern.nl
END:VEVENT
BEGIN:VEVENT
DTSTART;TZID=UTC:20260126T090000
DTEND;TZID=UTC:20260126T130000
DTSTAMP:20260422T030603
CREATED:20251224T115827Z
LAST-MODIFIED:20260309T130659Z
UID:10000347-1769418000-1769432400@schalmdemeern.nl
SUMMARY:Rijbewijskeuringsarts
DESCRIPTION:U mag plaats nemen op de bank in de hal.
URL:https://schalmdemeern.nl/event/rijbewijskeuringsarts/2026-01-26/
LOCATION:zaal 2
ORGANIZER;CN="De Schalm":MAILTO:info@schalmdemeern.nl
END:VEVENT
BEGIN:VEVENT
DTSTART;TZID=UTC:20260112T090000
DTEND;TZID=UTC:20260112T130000
DTSTAMP:20260422T030603
CREATED:20251224T115827Z
LAST-MODIFIED:20260309T130659Z
UID:10000346-1768208400-1768222800@schalmdemeern.nl
SUMMARY:Rijbewijskeuringsarts
DESCRIPTION:U mag plaats nemen op de bank in de hal.
URL:https://schalmdemeern.nl/event/rijbewijskeuringsarts/2026-01-12/
LOCATION:zaal 2
ORGANIZER;CN="De Schalm":MAILTO:info@schalmdemeern.nl
END:VEVENT
END:VCALENDAR