BEGIN:VCALENDAR
VERSION:2.0
PRODID:-//De Schalm - ECPv6.15.18//NONSGML v1.0//EN
CALSCALE:GREGORIAN
METHOD:PUBLISH
X-ORIGINAL-URL:https://schalmdemeern.nl
X-WR-CALDESC:Evenementen voor De Schalm
REFRESH-INTERVAL;VALUE=DURATION:PT1H
X-Robots-Tag:noindex
X-PUBLISHED-TTL:PT1H
BEGIN:VTIMEZONE
TZID:UTC
BEGIN:STANDARD
TZOFFSETFROM:+0000
TZOFFSETTO:+0000
TZNAME:UTC
DTSTART:20250101T000000
END:STANDARD
END:VTIMEZONE
BEGIN:VEVENT
DTSTART;TZID=UTC:20260504T190000
DTEND;TZID=UTC:20260504T230000
DTSTAMP:20260421T191306
CREATED:20251224T111950Z
LAST-MODIFIED:20260316T102210Z
UID:10000103-1777921200-1777935600@schalmdemeern.nl
SUMMARY:TRIO Schaakvereniging
DESCRIPTION:Voor ieder niveau is er een tegenstander. Zin om een keer sfeer te proeven? Meld je dan aan via schaakverenigingtrio@gmail.com!\nAFMELDINGEN CLUBAVOND: uiterlijk 24 uur van tevoren (dus zondag 19:30 uur) via e-mail of Whatsapp aan wedstrijdleider Bas Geerdink.
URL:https://schalmdemeern.nl/event/trio-schaakvereniging/2026-05-04/
LOCATION:zaal 2 en 3
ORGANIZER;CN="de Schalm":MAILTO:info@schalmdemeern.nl
END:VEVENT
BEGIN:VEVENT
DTSTART;TZID=UTC:20260509T090000
DTEND;TZID=UTC:20260509T160000
DTSTAMP:20260421T191306
CREATED:20260228T200405Z
LAST-MODIFIED:20260330T124030Z
UID:10004991-1778317200-1778342400@schalmdemeern.nl
SUMMARY:HCC! TrainSim🛤️🚆
DESCRIPTION:HCC!trainsim – Home
URL:https://schalmdemeern.nl/event/hcc-trainsim%f0%9f%9b%a4%ef%b8%8f%f0%9f%9a%86/2026-05-09/
LOCATION:zaal 2 en 3
END:VEVENT
BEGIN:VEVENT
DTSTART;TZID=UTC:20260511T190000
DTEND;TZID=UTC:20260511T230000
DTSTAMP:20260421T191306
CREATED:20251224T111950Z
LAST-MODIFIED:20260316T102210Z
UID:10000104-1778526000-1778540400@schalmdemeern.nl
SUMMARY:TRIO Schaakvereniging
DESCRIPTION:Voor ieder niveau is er een tegenstander. Zin om een keer sfeer te proeven? Meld je dan aan via schaakverenigingtrio@gmail.com!\nAFMELDINGEN CLUBAVOND: uiterlijk 24 uur van tevoren (dus zondag 19:30 uur) via e-mail of Whatsapp aan wedstrijdleider Bas Geerdink.
URL:https://schalmdemeern.nl/event/trio-schaakvereniging/2026-05-11/
LOCATION:zaal 2 en 3
ORGANIZER;CN="de Schalm":MAILTO:info@schalmdemeern.nl
END:VEVENT
BEGIN:VEVENT
DTSTART;TZID=UTC:20260518T190000
DTEND;TZID=UTC:20260518T230000
DTSTAMP:20260421T191306
CREATED:20251224T111950Z
LAST-MODIFIED:20260316T102210Z
UID:10000105-1779130800-1779145200@schalmdemeern.nl
SUMMARY:TRIO Schaakvereniging
DESCRIPTION:Voor ieder niveau is er een tegenstander. Zin om een keer sfeer te proeven? Meld je dan aan via schaakverenigingtrio@gmail.com!\nAFMELDINGEN CLUBAVOND: uiterlijk 24 uur van tevoren (dus zondag 19:30 uur) via e-mail of Whatsapp aan wedstrijdleider Bas Geerdink.
URL:https://schalmdemeern.nl/event/trio-schaakvereniging/2026-05-18/
LOCATION:zaal 2 en 3
ORGANIZER;CN="de Schalm":MAILTO:info@schalmdemeern.nl
END:VEVENT
BEGIN:VEVENT
DTSTART;TZID=UTC:20260530T090000
DTEND;TZID=UTC:20260530T160000
DTSTAMP:20260421T191306
CREATED:20260228T200405Z
LAST-MODIFIED:20260330T124030Z
UID:10004992-1780131600-1780156800@schalmdemeern.nl
SUMMARY:HCC! TrainSim🛤️🚆
DESCRIPTION:HCC!trainsim – Home
URL:https://schalmdemeern.nl/event/hcc-trainsim%f0%9f%9b%a4%ef%b8%8f%f0%9f%9a%86/2026-05-30/
LOCATION:zaal 2 en 3
END:VEVENT
BEGIN:VEVENT
DTSTART;TZID=UTC:20260601T190000
DTEND;TZID=UTC:20260601T230000
DTSTAMP:20260421T191306
CREATED:20251224T111950Z
LAST-MODIFIED:20260316T102210Z
UID:10000107-1780340400-1780354800@schalmdemeern.nl
SUMMARY:TRIO Schaakvereniging
DESCRIPTION:Voor ieder niveau is er een tegenstander. Zin om een keer sfeer te proeven? Meld je dan aan via schaakverenigingtrio@gmail.com!\nAFMELDINGEN CLUBAVOND: uiterlijk 24 uur van tevoren (dus zondag 19:30 uur) via e-mail of Whatsapp aan wedstrijdleider Bas Geerdink.
URL:https://schalmdemeern.nl/event/trio-schaakvereniging/2026-06-01/
LOCATION:zaal 2 en 3
ORGANIZER;CN="de Schalm":MAILTO:info@schalmdemeern.nl
END:VEVENT
END:VCALENDAR