BEGIN:VCALENDAR
VERSION:2.0
PRODID:-//De Schalm - ECPv6.15.18//NONSGML v1.0//EN
CALSCALE:GREGORIAN
METHOD:PUBLISH
X-ORIGINAL-URL:https://schalmdemeern.nl
X-WR-CALDESC:Evenementen voor De Schalm
REFRESH-INTERVAL;VALUE=DURATION:PT1H
X-Robots-Tag:noindex
X-PUBLISHED-TTL:PT1H
BEGIN:VTIMEZONE
TZID:UTC
BEGIN:STANDARD
TZOFFSETFROM:+0000
TZOFFSETTO:+0000
TZNAME:UTC
DTSTART:20250101T000000
END:STANDARD
END:VTIMEZONE
BEGIN:VEVENT
DTSTART;TZID=UTC:20260420T190000
DTEND;TZID=UTC:20260420T230000
DTSTAMP:20260421T210035
CREATED:20251224T111950Z
LAST-MODIFIED:20260316T102210Z
UID:10000101-1776711600-1776726000@schalmdemeern.nl
SUMMARY:TRIO Schaakvereniging
DESCRIPTION:Voor ieder niveau is er een tegenstander. Zin om een keer sfeer te proeven? Meld je dan aan via schaakverenigingtrio@gmail.com!\nAFMELDINGEN CLUBAVOND: uiterlijk 24 uur van tevoren (dus zondag 19:30 uur) via e-mail of Whatsapp aan wedstrijdleider Bas Geerdink.
URL:https://schalmdemeern.nl/event/trio-schaakvereniging/2026-04-20/
LOCATION:zaal 2 en 3
ORGANIZER;CN="de Schalm":MAILTO:info@schalmdemeern.nl
END:VEVENT
BEGIN:VEVENT
DTSTART;TZID=UTC:20260418T090000
DTEND;TZID=UTC:20260418T160000
DTSTAMP:20260421T210035
CREATED:20260228T200405Z
LAST-MODIFIED:20260330T124030Z
UID:10004990-1776502800-1776528000@schalmdemeern.nl
SUMMARY:HCC! TrainSim🛤️🚆
DESCRIPTION:HCC!trainsim – Home
URL:https://schalmdemeern.nl/event/hcc-trainsim%f0%9f%9b%a4%ef%b8%8f%f0%9f%9a%86/2026-04-18/
LOCATION:zaal 2 en 3
END:VEVENT
BEGIN:VEVENT
DTSTART;TZID=UTC:20260417T160000
DTEND;TZID=UTC:20260417T200000
DTSTAMP:20260421T210035
CREATED:20260415T080228Z
LAST-MODIFIED:20260415T080253Z
UID:10005033-1776441600-1776456000@schalmdemeern.nl
SUMMARY:Gezellig Samen Eten🌸🌷🌺🌻🪻🏵️
DESCRIPTION:
URL:https://schalmdemeern.nl/event/%f0%9f%8f%b5%ef%b8%8f%f0%9f%aa%bb%f0%9f%8c%bb%f0%9f%8c%ba%f0%9f%8c%b7%f0%9f%8c%b8gezellig-samen-eten%f0%9f%8c%b8%f0%9f%8c%b7%f0%9f%8c%ba%f0%9f%8c%bb%f0%9f%aa%bb%f0%9f%8f%b5%ef%b8%8f/
LOCATION:zaal 2 en 3
ORGANIZER;CN="de Schalm":MAILTO:info@schalmdemeern.nl
END:VEVENT
BEGIN:VEVENT
DTSTART;TZID=UTC:20260413T190000
DTEND;TZID=UTC:20260413T230000
DTSTAMP:20260421T210035
CREATED:20251224T111950Z
LAST-MODIFIED:20260316T102210Z
UID:10000100-1776106800-1776121200@schalmdemeern.nl
SUMMARY:TRIO Schaakvereniging
DESCRIPTION:Voor ieder niveau is er een tegenstander. Zin om een keer sfeer te proeven? Meld je dan aan via schaakverenigingtrio@gmail.com!\nAFMELDINGEN CLUBAVOND: uiterlijk 24 uur van tevoren (dus zondag 19:30 uur) via e-mail of Whatsapp aan wedstrijdleider Bas Geerdink.
URL:https://schalmdemeern.nl/event/trio-schaakvereniging/2026-04-13/
LOCATION:zaal 2 en 3
ORGANIZER;CN="de Schalm":MAILTO:info@schalmdemeern.nl
END:VEVENT
BEGIN:VEVENT
DTSTART;TZID=UTC:20260330T190000
DTEND;TZID=UTC:20260330T230000
DTSTAMP:20260421T210035
CREATED:20251224T111950Z
LAST-MODIFIED:20260316T102210Z
UID:10000098-1774897200-1774911600@schalmdemeern.nl
SUMMARY:TRIO Schaakvereniging
DESCRIPTION:Voor ieder niveau is er een tegenstander. Zin om een keer sfeer te proeven? Meld je dan aan via schaakverenigingtrio@gmail.com!\nAFMELDINGEN CLUBAVOND: uiterlijk 24 uur van tevoren (dus zondag 19:30 uur) via e-mail of Whatsapp aan wedstrijdleider Bas Geerdink.
URL:https://schalmdemeern.nl/event/trio-schaakvereniging/2026-03-30/
LOCATION:zaal 2 en 3
ORGANIZER;CN="de Schalm":MAILTO:info@schalmdemeern.nl
END:VEVENT
BEGIN:VEVENT
DTSTART;TZID=UTC:20260328T090000
DTEND;TZID=UTC:20260328T160000
DTSTAMP:20260421T210035
CREATED:20260318T095618Z
LAST-MODIFIED:20260318T095618Z
UID:10004979-1774688400-1774713600@schalmdemeern.nl
SUMMARY:Landelijk Platform Modevakonderwijs (Bijeenkomst)
DESCRIPTION:
URL:https://schalmdemeern.nl/event/landelijk-platform-modevakonderwijs-bijeenkomst/
LOCATION:zaal 2 en 3
ORGANIZER;CN="de Schalm":MAILTO:info@schalmdemeern.nl
END:VEVENT
BEGIN:VEVENT
DTSTART;TZID=UTC:20260327T170000
DTEND;TZID=UTC:20260327T190000
DTSTAMP:20260421T210035
CREATED:20260227T172521Z
LAST-MODIFIED:20260227T172521Z
UID:10004035-1774630800-1774638000@schalmdemeern.nl
SUMMARY:🐣Gezellig Samen Eten🐣Paasbuffet🐣
DESCRIPTION:
URL:https://schalmdemeern.nl/event/%f0%9f%90%a3gezellig-samen-eten%f0%9f%90%a3paasbuffet%f0%9f%90%a3/
LOCATION:zaal 2 en 3
ATTACH;FMTTYPE=image/jpeg:https://schalmdemeern.nl/wp-content/uploads/2026/02/paasbuffet-27-maart.jpg
ORGANIZER;CN="De Schalm":MAILTO:info@schalmdemeern.nl
END:VEVENT
BEGIN:VEVENT
DTSTART;TZID=UTC:20260323T190000
DTEND;TZID=UTC:20260323T230000
DTSTAMP:20260421T210035
CREATED:20251224T111950Z
LAST-MODIFIED:20260316T102210Z
UID:10000097-1774292400-1774306800@schalmdemeern.nl
SUMMARY:TRIO Schaakvereniging
DESCRIPTION:Voor ieder niveau is er een tegenstander. Zin om een keer sfeer te proeven? Meld je dan aan via schaakverenigingtrio@gmail.com!\nAFMELDINGEN CLUBAVOND: uiterlijk 24 uur van tevoren (dus zondag 19:30 uur) via e-mail of Whatsapp aan wedstrijdleider Bas Geerdink.
URL:https://schalmdemeern.nl/event/trio-schaakvereniging/2026-03-23/
LOCATION:zaal 2 en 3
ORGANIZER;CN="de Schalm":MAILTO:info@schalmdemeern.nl
END:VEVENT
BEGIN:VEVENT
DTSTART;TZID=UTC:20260321T090000
DTEND;TZID=UTC:20260321T160000
DTSTAMP:20260421T210035
CREATED:20260228T200405Z
LAST-MODIFIED:20260330T124030Z
UID:10004047-1774083600-1774108800@schalmdemeern.nl
SUMMARY:HCC! TrainSim🛤️🚆
DESCRIPTION:HCC!trainsim – Home
URL:https://schalmdemeern.nl/event/hcc-trainsim%f0%9f%9b%a4%ef%b8%8f%f0%9f%9a%86/2026-03-21/
LOCATION:zaal 2 en 3
END:VEVENT
BEGIN:VEVENT
DTSTART;TZID=UTC:20260316T190000
DTEND;TZID=UTC:20260316T230000
DTSTAMP:20260421T210035
CREATED:20251224T111950Z
LAST-MODIFIED:20260316T102210Z
UID:10000096-1773687600-1773702000@schalmdemeern.nl
SUMMARY:TRIO Schaakvereniging
DESCRIPTION:Voor ieder niveau is er een tegenstander. Zin om een keer sfeer te proeven? Meld je dan aan via schaakverenigingtrio@gmail.com!\nAFMELDINGEN CLUBAVOND: uiterlijk 24 uur van tevoren (dus zondag 19:30 uur) via e-mail of Whatsapp aan wedstrijdleider Bas Geerdink.
URL:https://schalmdemeern.nl/event/trio-schaakvereniging/2026-03-16/
LOCATION:zaal 2 en 3
ORGANIZER;CN="de Schalm":MAILTO:info@schalmdemeern.nl
END:VEVENT
BEGIN:VEVENT
DTSTART;TZID=UTC:20260309T190000
DTEND;TZID=UTC:20260309T230000
DTSTAMP:20260421T210035
CREATED:20251224T111950Z
LAST-MODIFIED:20260316T102210Z
UID:10000095-1773082800-1773097200@schalmdemeern.nl
SUMMARY:TRIO Schaakvereniging
DESCRIPTION:Voor ieder niveau is er een tegenstander. Zin om een keer sfeer te proeven? Meld je dan aan via schaakverenigingtrio@gmail.com!\nAFMELDINGEN CLUBAVOND: uiterlijk 24 uur van tevoren (dus zondag 19:30 uur) via e-mail of Whatsapp aan wedstrijdleider Bas Geerdink.
URL:https://schalmdemeern.nl/event/trio-schaakvereniging/2026-03-09/
LOCATION:zaal 2 en 3
ORGANIZER;CN="de Schalm":MAILTO:info@schalmdemeern.nl
END:VEVENT
BEGIN:VEVENT
DTSTART;TZID=UTC:20260302T190000
DTEND;TZID=UTC:20260302T230000
DTSTAMP:20260421T210035
CREATED:20251224T111950Z
LAST-MODIFIED:20260316T102210Z
UID:10000094-1772478000-1772492400@schalmdemeern.nl
SUMMARY:TRIO Schaakvereniging
DESCRIPTION:Voor ieder niveau is er een tegenstander. Zin om een keer sfeer te proeven? Meld je dan aan via schaakverenigingtrio@gmail.com!\nAFMELDINGEN CLUBAVOND: uiterlijk 24 uur van tevoren (dus zondag 19:30 uur) via e-mail of Whatsapp aan wedstrijdleider Bas Geerdink.
URL:https://schalmdemeern.nl/event/trio-schaakvereniging/2026-03-02/
LOCATION:zaal 2 en 3
ORGANIZER;CN="de Schalm":MAILTO:info@schalmdemeern.nl
END:VEVENT
BEGIN:VEVENT
DTSTART;TZID=UTC:20260227T140000
DTEND;TZID=UTC:20260227T180000
DTSTAMP:20260421T210035
CREATED:20260225T192012Z
LAST-MODIFIED:20260227T162916Z
UID:10003379-1772200800-1772215200@schalmdemeern.nl
SUMMARY:Gezellig Samen Eten
DESCRIPTION:
URL:https://schalmdemeern.nl/event/gezellig-samen-eten-3/
LOCATION:zaal 2 en 3
ATTACH;FMTTYPE=image/jpeg:https://schalmdemeern.nl/wp-content/uploads/2026/02/27-februari-1.jpg
ORGANIZER;CN="De Schalm":MAILTO:info@schalmdemeern.nl
END:VEVENT
BEGIN:VEVENT
DTSTART;TZID=UTC:20260223T190000
DTEND;TZID=UTC:20260223T230000
DTSTAMP:20260421T210035
CREATED:20251224T111950Z
LAST-MODIFIED:20260316T102210Z
UID:10000093-1771873200-1771887600@schalmdemeern.nl
SUMMARY:TRIO Schaakvereniging
DESCRIPTION:Voor ieder niveau is er een tegenstander. Zin om een keer sfeer te proeven? Meld je dan aan via schaakverenigingtrio@gmail.com!\nAFMELDINGEN CLUBAVOND: uiterlijk 24 uur van tevoren (dus zondag 19:30 uur) via e-mail of Whatsapp aan wedstrijdleider Bas Geerdink.
URL:https://schalmdemeern.nl/event/trio-schaakvereniging/2026-02-23/
LOCATION:zaal 2 en 3
ORGANIZER;CN="de Schalm":MAILTO:info@schalmdemeern.nl
END:VEVENT
BEGIN:VEVENT
DTSTART;TZID=UTC:20260216T190000
DTEND;TZID=UTC:20260216T230000
DTSTAMP:20260421T210035
CREATED:20251224T111950Z
LAST-MODIFIED:20260316T102210Z
UID:10000092-1771268400-1771282800@schalmdemeern.nl
SUMMARY:TRIO Schaakvereniging
DESCRIPTION:Voor ieder niveau is er een tegenstander. Zin om een keer sfeer te proeven? Meld je dan aan via schaakverenigingtrio@gmail.com!\nAFMELDINGEN CLUBAVOND: uiterlijk 24 uur van tevoren (dus zondag 19:30 uur) via e-mail of Whatsapp aan wedstrijdleider Bas Geerdink.
URL:https://schalmdemeern.nl/event/trio-schaakvereniging/2026-02-16/
LOCATION:zaal 2 en 3
ORGANIZER;CN="de Schalm":MAILTO:info@schalmdemeern.nl
END:VEVENT
BEGIN:VEVENT
DTSTART;TZID=UTC:20260209T190000
DTEND;TZID=UTC:20260209T230000
DTSTAMP:20260421T210035
CREATED:20251224T111950Z
LAST-MODIFIED:20260316T102210Z
UID:10000091-1770663600-1770678000@schalmdemeern.nl
SUMMARY:TRIO Schaakvereniging
DESCRIPTION:Voor ieder niveau is er een tegenstander. Zin om een keer sfeer te proeven? Meld je dan aan via schaakverenigingtrio@gmail.com!\nAFMELDINGEN CLUBAVOND: uiterlijk 24 uur van tevoren (dus zondag 19:30 uur) via e-mail of Whatsapp aan wedstrijdleider Bas Geerdink.
URL:https://schalmdemeern.nl/event/trio-schaakvereniging/2026-02-09/
LOCATION:zaal 2 en 3
ORGANIZER;CN="de Schalm":MAILTO:info@schalmdemeern.nl
END:VEVENT
BEGIN:VEVENT
DTSTART;TZID=UTC:20260202T190000
DTEND;TZID=UTC:20260202T230000
DTSTAMP:20260421T210035
CREATED:20251224T111950Z
LAST-MODIFIED:20260316T102210Z
UID:10000090-1770058800-1770073200@schalmdemeern.nl
SUMMARY:TRIO Schaakvereniging
DESCRIPTION:Voor ieder niveau is er een tegenstander. Zin om een keer sfeer te proeven? Meld je dan aan via schaakverenigingtrio@gmail.com!\nAFMELDINGEN CLUBAVOND: uiterlijk 24 uur van tevoren (dus zondag 19:30 uur) via e-mail of Whatsapp aan wedstrijdleider Bas Geerdink.
URL:https://schalmdemeern.nl/event/trio-schaakvereniging/2026-02-02/
LOCATION:zaal 2 en 3
ORGANIZER;CN="de Schalm":MAILTO:info@schalmdemeern.nl
END:VEVENT
BEGIN:VEVENT
DTSTART;TZID=UTC:20260126T190000
DTEND;TZID=UTC:20260126T230000
DTSTAMP:20260421T210035
CREATED:20251224T111950Z
LAST-MODIFIED:20260316T102210Z
UID:10000089-1769454000-1769468400@schalmdemeern.nl
SUMMARY:TRIO Schaakvereniging
DESCRIPTION:Voor ieder niveau is er een tegenstander. Zin om een keer sfeer te proeven? Meld je dan aan via schaakverenigingtrio@gmail.com!\nAFMELDINGEN CLUBAVOND: uiterlijk 24 uur van tevoren (dus zondag 19:30 uur) via e-mail of Whatsapp aan wedstrijdleider Bas Geerdink.
URL:https://schalmdemeern.nl/event/trio-schaakvereniging/2026-01-26/
LOCATION:zaal 2 en 3
ORGANIZER;CN="de Schalm":MAILTO:info@schalmdemeern.nl
END:VEVENT
BEGIN:VEVENT
DTSTART;TZID=UTC:20260119T190000
DTEND;TZID=UTC:20260119T230000
DTSTAMP:20260421T210035
CREATED:20251224T111950Z
LAST-MODIFIED:20260316T102210Z
UID:10000088-1768849200-1768863600@schalmdemeern.nl
SUMMARY:TRIO Schaakvereniging
DESCRIPTION:Voor ieder niveau is er een tegenstander. Zin om een keer sfeer te proeven? Meld je dan aan via schaakverenigingtrio@gmail.com!\nAFMELDINGEN CLUBAVOND: uiterlijk 24 uur van tevoren (dus zondag 19:30 uur) via e-mail of Whatsapp aan wedstrijdleider Bas Geerdink.
URL:https://schalmdemeern.nl/event/trio-schaakvereniging/2026-01-19/
LOCATION:zaal 2 en 3
ORGANIZER;CN="de Schalm":MAILTO:info@schalmdemeern.nl
END:VEVENT
BEGIN:VEVENT
DTSTART;TZID=UTC:20260112T190000
DTEND;TZID=UTC:20260112T230000
DTSTAMP:20260421T210035
CREATED:20251224T111950Z
LAST-MODIFIED:20260316T102210Z
UID:10000087-1768244400-1768258800@schalmdemeern.nl
SUMMARY:TRIO Schaakvereniging
DESCRIPTION:Voor ieder niveau is er een tegenstander. Zin om een keer sfeer te proeven? Meld je dan aan via schaakverenigingtrio@gmail.com!\nAFMELDINGEN CLUBAVOND: uiterlijk 24 uur van tevoren (dus zondag 19:30 uur) via e-mail of Whatsapp aan wedstrijdleider Bas Geerdink.
URL:https://schalmdemeern.nl/event/trio-schaakvereniging/2026-01-12/
LOCATION:zaal 2 en 3
ORGANIZER;CN="de Schalm":MAILTO:info@schalmdemeern.nl
END:VEVENT
BEGIN:VEVENT
DTSTART;TZID=UTC:20260105T190000
DTEND;TZID=UTC:20260105T230000
DTSTAMP:20260421T210035
CREATED:20251224T111950Z
LAST-MODIFIED:20260316T102210Z
UID:10000086-1767639600-1767654000@schalmdemeern.nl
SUMMARY:TRIO Schaakvereniging
DESCRIPTION:Voor ieder niveau is er een tegenstander. Zin om een keer sfeer te proeven? Meld je dan aan via schaakverenigingtrio@gmail.com!\nAFMELDINGEN CLUBAVOND: uiterlijk 24 uur van tevoren (dus zondag 19:30 uur) via e-mail of Whatsapp aan wedstrijdleider Bas Geerdink.
URL:https://schalmdemeern.nl/event/trio-schaakvereniging/2026-01-05/
LOCATION:zaal 2 en 3
ORGANIZER;CN="de Schalm":MAILTO:info@schalmdemeern.nl
END:VEVENT
END:VCALENDAR