BEGIN:VCALENDAR
VERSION:2.0
PRODID:-//De Schalm - ECPv6.15.18//NONSGML v1.0//EN
CALSCALE:GREGORIAN
METHOD:PUBLISH
X-WR-CALNAME:De Schalm
X-ORIGINAL-URL:https://schalmdemeern.nl
X-WR-CALDESC:Evenementen voor De Schalm
REFRESH-INTERVAL;VALUE=DURATION:PT1H
X-Robots-Tag:noindex
X-PUBLISHED-TTL:PT1H
BEGIN:VTIMEZONE
TZID:UTC
BEGIN:STANDARD
TZOFFSETFROM:+0000
TZOFFSETTO:+0000
TZNAME:UTC
DTSTART:20240101T000000
END:STANDARD
END:VTIMEZONE
BEGIN:VEVENT
DTSTART;TZID=UTC:20260227T200000
DTEND;TZID=UTC:20260227T230000
DTSTAMP:20260422T050052
CREATED:20260218T111731Z
LAST-MODIFIED:20260225T190449Z
UID:10003109-1772222400-1772233200@schalmdemeern.nl
SUMMARY:🎭Toneelvereniging PLATEEL 🎭
DESCRIPTION:
URL:https://schalmdemeern.nl/event/toneelvereniging-%f0%9f%8e%adplateel-%f0%9f%8e%ad/2026-02-27/
LOCATION:Theater zaal
ORGANIZER;CN="De Schalm":MAILTO:info@schalmdemeern.nl
END:VEVENT
BEGIN:VEVENT
DTSTART;TZID=UTC:20260226T190000
DTEND;TZID=UTC:20260226T230000
DTSTAMP:20260422T050052
CREATED:20260225T190405Z
LAST-MODIFIED:20260225T190405Z
UID:10003378-1772132400-1772146800@schalmdemeern.nl
SUMMARY:🎭Plateel🎭 (repeteren)
DESCRIPTION:
URL:https://schalmdemeern.nl/event/%f0%9f%8e%adplateel%f0%9f%8e%ad-repeteren/
LOCATION:Theater zaal
ORGANIZER;CN="De Schalm":MAILTO:info@schalmdemeern.nl
END:VEVENT
BEGIN:VEVENT
DTSTART;TZID=UTC:20260224T123000
DTEND;TZID=UTC:20260224T170000
DTSTAMP:20260422T050052
CREATED:20251224T100516Z
LAST-MODIFIED:20251224T100516Z
UID:10000065-1771936200-1771952400@schalmdemeern.nl
SUMMARY:Doe Café
DESCRIPTION:Klaverjassen. sjoelen en handwerken!
URL:https://schalmdemeern.nl/event/doe-cafe-3/2026-02-24/
LOCATION:Theater zaal
ORGANIZER;CN="De Schalm":MAILTO:info@schalmdemeern.nl
END:VEVENT
BEGIN:VEVENT
DTSTART;TZID=UTC:20260221T203000
DTEND;TZID=UTC:20260221T235900
DTSTAMP:20260422T050052
CREATED:20251222T144807Z
LAST-MODIFIED:20260119T121947Z
UID:10000057-1771705800-1771718340@schalmdemeern.nl
SUMMARY:🟡🤩GOUD VAN OUD🤩20:30 tot 01:00 uur🟡MUZIEK UIT DE VERVLOGEN TIJDEN
DESCRIPTION:Beste dansliefhebbers!\nHet 1e evenement op deze locatie op 27 september 2025 was een daverend succes.\nHeel veel positieve reacties over deze aflevering gehad en veel vragen wanneer de volgende komt. \nVeel bezoekers vertelden het succes door te geven aan anderen.\nOnze DJ Hans zal u wederom een heerlijke dansavond bezorgen met muziek uit de jaren 70 t/m 90 en op verzoek ook later(zero`s).\n300 tickets beschikbaar (inclusief garderobe) doch enkel in de voorverkoop (online). Dus geen kassaverkoop.\nEarly Bird (1 t/m 100)  = € 13\,00\nLate  (101-350)         = € 15\,00\nTickets te bestellen via: http://www.rc-productions.nl/\nEen polsband wordt verstrekt.\nZALEN OPEN:    20.30 uur\nEINDE     :    01.00 uur.
URL:https://schalmdemeern.nl/event/%f0%9f%9f%a1%f0%9f%a4%a9goud-van-oud%f0%9f%a4%a9%f0%9f%9f%a1muziek-uit-de-vervlogen-tijden/
LOCATION:Theater zaal
ATTACH;FMTTYPE=application/pdf:https://schalmdemeern.nl/wp-content/uploads/2025/12/20251972_RC-PRODUCTIONS_GOUD-VAN-OUD_DE-MEERN_POSTER_A3_V1_HR-1.pdf
ORGANIZER;CN="De Schalm":MAILTO:info@schalmdemeern.nl
END:VEVENT
BEGIN:VEVENT
DTSTART;TZID=UTC:20260218T140000
DTEND;TZID=UTC:20260218T170000
DTSTAMP:20260422T050052
CREATED:20260130T165535Z
LAST-MODIFIED:20260130T165621Z
UID:10001540-1771423200-1771434000@schalmdemeern.nl
SUMMARY:Bingo!
DESCRIPTION:
URL:https://schalmdemeern.nl/event/bingo-3/
LOCATION:Theater zaal
ATTACH;FMTTYPE=image/jpeg:https://schalmdemeern.nl/wp-content/uploads/2026/01/18-februari.jpg
ORGANIZER;CN="De Schalm":MAILTO:info@schalmdemeern.nl
END:VEVENT
BEGIN:VEVENT
DTSTART;TZID=UTC:20260217T123000
DTEND;TZID=UTC:20260217T170000
DTSTAMP:20260422T050052
CREATED:20251224T100516Z
LAST-MODIFIED:20251224T100516Z
UID:10000064-1771331400-1771347600@schalmdemeern.nl
SUMMARY:Doe Café
DESCRIPTION:Klaverjassen. sjoelen en handwerken!
URL:https://schalmdemeern.nl/event/doe-cafe-3/2026-02-17/
LOCATION:Theater zaal
ORGANIZER;CN="De Schalm":MAILTO:info@schalmdemeern.nl
END:VEVENT
BEGIN:VEVENT
DTSTART;TZID=UTC:20260213T193000
DTEND;TZID=UTC:20260213T220000
DTSTAMP:20260422T050052
CREATED:20260202T141751Z
LAST-MODIFIED:20260202T141751Z
UID:10003108-1771011000-1771020000@schalmdemeern.nl
SUMMARY:Teenage Vibe❤️VALENTIJN DISCO❤️
DESCRIPTION:❤️Disco voor kinderen van 9-13 jaar!❤️ \nWanneer: elke 2e vrijdag van de maand van 19:30 – 22:00 uur. \n 
URL:https://schalmdemeern.nl/event/teenage-vibe%e2%9d%a4%ef%b8%8fvalentijn-disco%e2%9d%a4%ef%b8%8f/
LOCATION:Theater zaal
ATTACH;FMTTYPE=image/jpeg:https://schalmdemeern.nl/wp-content/uploads/2026/02/teenage-vibes-13-februari-valentijn.jpg
ORGANIZER;CN="De Schalm":MAILTO:info@schalmdemeern.nl
END:VEVENT
BEGIN:VEVENT
DTSTART;TZID=UTC:20260213T153000
DTEND;TZID=UTC:20260213T163000
DTSTAMP:20260422T050052
CREATED:20260109T152834Z
LAST-MODIFIED:20260109T154223Z
UID:10001272-1770996600-1771000200@schalmdemeern.nl
SUMMARY:🤩KIDS DISCO!🤩 VAN 15:30 - 16:30 UUR
DESCRIPTION:
URL:https://schalmdemeern.nl/event/%f0%9f%a4%a9kids-disco%f0%9f%a4%a9-van-1530-1630-uur/2026-02-13/
LOCATION:Theater zaal
ATTACH;FMTTYPE=image/jpeg:https://schalmdemeern.nl/wp-content/uploads/2026/01/Kids-Disco-jaaroverzicht-2026.jpg
ORGANIZER;CN="De Schalm":MAILTO:info@schalmdemeern.nl
END:VEVENT
BEGIN:VEVENT
DTSTART;TZID=UTC:20260210T123000
DTEND;TZID=UTC:20260210T170000
DTSTAMP:20260422T050052
CREATED:20251224T100516Z
LAST-MODIFIED:20251224T100516Z
UID:10000063-1770726600-1770742800@schalmdemeern.nl
SUMMARY:Doe Café
DESCRIPTION:Klaverjassen. sjoelen en handwerken!
URL:https://schalmdemeern.nl/event/doe-cafe-3/2026-02-10/
LOCATION:Theater zaal
ORGANIZER;CN="De Schalm":MAILTO:info@schalmdemeern.nl
END:VEVENT
BEGIN:VEVENT
DTSTART;TZID=UTC:20260207T193000
DTEND;TZID=UTC:20260207T223000
DTSTAMP:20260422T050052
CREATED:20251219T142158Z
LAST-MODIFIED:20260111T105603Z
UID:10000054-1770492600-1770503400@schalmdemeern.nl
SUMMARY:Crazy Disco😍 voor mensen met een licht verstandelijke beperking (ID verplicht)  leeftijd is vanaf 14 jaar
DESCRIPTION:CRAZY DISCO CARNAVAL\nTrek je mooiste carnavalsoutfit aan en kom lekker losgaan bij\nDe Schalm.\n7 FEBRUARI 2026\n19-30 – 23.30\nSociaal Cultureel Centrum De Schalm\, De Meern\n Entree: € 3\,-\nKom jij ook dansen\, feesten en carnaval vieren met ons? Mis het niet!
URL:https://schalmdemeern.nl/event/crazy-disco-in-buurtcentrum-de-schalm-leeftijd-is-vanaf-14-jaar-voor-mensen-met-een-licht-verstandelijke-beperking-id-verplicht/
LOCATION:Theater zaal
ATTACH;FMTTYPE=image/jpeg:https://schalmdemeern.nl/wp-content/uploads/2025/12/Crazy-Disco-7-februari.jpg
ORGANIZER;CN="De Schalm":MAILTO:info@schalmdemeern.nl
END:VEVENT
BEGIN:VEVENT
DTSTART;TZID=UTC:20260203T123000
DTEND;TZID=UTC:20260203T170000
DTSTAMP:20260422T050052
CREATED:20251224T100516Z
LAST-MODIFIED:20251224T100516Z
UID:10000062-1770121800-1770138000@schalmdemeern.nl
SUMMARY:Doe Café
DESCRIPTION:Klaverjassen. sjoelen en handwerken!
URL:https://schalmdemeern.nl/event/doe-cafe-3/2026-02-03/
LOCATION:Theater zaal
ORGANIZER;CN="De Schalm":MAILTO:info@schalmdemeern.nl
END:VEVENT
BEGIN:VEVENT
DTSTART;TZID=UTC:20260201T100000
DTEND;TZID=UTC:20260201T160000
DTSTAMP:20260422T050052
CREATED:20251230T123905Z
LAST-MODIFIED:20251230T123906Z
UID:10000738-1769940000-1769961600@schalmdemeern.nl
SUMMARY:Open Huis en Snuffelmarkt
DESCRIPTION:
URL:https://schalmdemeern.nl/event/open-huis-en-snuffelmarkt/2026-02-01/
LOCATION:Theater zaal
ATTACH;FMTTYPE=image/jpeg:https://schalmdemeern.nl/wp-content/uploads/2025/12/opendag2026laatste.jpg
ORGANIZER;CN="De Schalm":MAILTO:info@schalmdemeern.nl
END:VEVENT
BEGIN:VEVENT
DTSTART;TZID=UTC:20260131T100000
DTEND;TZID=UTC:20260131T160000
DTSTAMP:20260422T050052
CREATED:20251230T123905Z
LAST-MODIFIED:20251230T123906Z
UID:10000737-1769853600-1769875200@schalmdemeern.nl
SUMMARY:Open Huis en Snuffelmarkt
DESCRIPTION:
URL:https://schalmdemeern.nl/event/open-huis-en-snuffelmarkt/2026-01-31/
LOCATION:Theater zaal
ATTACH;FMTTYPE=image/jpeg:https://schalmdemeern.nl/wp-content/uploads/2025/12/opendag2026laatste.jpg
ORGANIZER;CN="De Schalm":MAILTO:info@schalmdemeern.nl
END:VEVENT
BEGIN:VEVENT
DTSTART;TZID=UTC:20260130T170000
DTEND;TZID=UTC:20260130T190000
DTSTAMP:20260422T050052
CREATED:20251230T125023Z
LAST-MODIFIED:20251230T125023Z
UID:10000739-1769792400-1769799600@schalmdemeern.nl
SUMMARY:Gezellig samen eten!
DESCRIPTION:
URL:https://schalmdemeern.nl/event/gezellig-samen-eten-2/
LOCATION:Theater zaal
ATTACH;FMTTYPE=image/jpeg:https://schalmdemeern.nl/wp-content/uploads/2025/12/gezellig-samen-eten-30-januari-2026-3.jpg
ORGANIZER;CN="De Schalm":MAILTO:info@schalmdemeern.nl
END:VEVENT
BEGIN:VEVENT
DTSTART;TZID=UTC:20260127T123000
DTEND;TZID=UTC:20260127T170000
DTSTAMP:20260422T050052
CREATED:20251224T100516Z
LAST-MODIFIED:20251224T100516Z
UID:10000061-1769517000-1769533200@schalmdemeern.nl
SUMMARY:Doe Café
DESCRIPTION:Klaverjassen. sjoelen en handwerken!
URL:https://schalmdemeern.nl/event/doe-cafe-3/2026-01-27/
LOCATION:Theater zaal
ORGANIZER;CN="De Schalm":MAILTO:info@schalmdemeern.nl
END:VEVENT
BEGIN:VEVENT
DTSTART;TZID=UTC:20260120T123000
DTEND;TZID=UTC:20260120T170000
DTSTAMP:20260422T050052
CREATED:20251224T100516Z
LAST-MODIFIED:20251224T100516Z
UID:10000060-1768912200-1768928400@schalmdemeern.nl
SUMMARY:Doe Café
DESCRIPTION:Klaverjassen. sjoelen en handwerken!
URL:https://schalmdemeern.nl/event/doe-cafe-3/2026-01-20/
LOCATION:Theater zaal
ORGANIZER;CN="De Schalm":MAILTO:info@schalmdemeern.nl
END:VEVENT
BEGIN:VEVENT
DTSTART;TZID=UTC:20260117T193000
DTEND;TZID=UTC:20260117T230000
DTSTAMP:20260422T050052
CREATED:20251221T102955Z
LAST-MODIFIED:20251221T102955Z
UID:10000055-1768678200-1768690800@schalmdemeern.nl
SUMMARY:🍀BINGO!!🍀
DESCRIPTION:Op 17 januari 2026 rollen de balletjes weer. Gezelligheid gegarandeerd en kans op mooie prijzen!
URL:https://schalmdemeern.nl/event/%f0%9f%8d%80bingo%f0%9f%8d%80/
LOCATION:Theater zaal
ATTACH;FMTTYPE=image/jpeg:https://schalmdemeern.nl/wp-content/uploads/2025/12/Bingo-17-januari-2026-Ben-en-Marga.jpg
ORGANIZER;CN="De Schalm":MAILTO:info@schalmdemeern.nl
END:VEVENT
BEGIN:VEVENT
DTSTART;TZID=UTC:20260113T123000
DTEND;TZID=UTC:20260113T170000
DTSTAMP:20260422T050052
CREATED:20251224T100516Z
LAST-MODIFIED:20251224T100516Z
UID:10000059-1768307400-1768323600@schalmdemeern.nl
SUMMARY:Doe Café
DESCRIPTION:Klaverjassen. sjoelen en handwerken!
URL:https://schalmdemeern.nl/event/doe-cafe-3/2026-01-13/
LOCATION:Theater zaal
ORGANIZER;CN="De Schalm":MAILTO:info@schalmdemeern.nl
END:VEVENT
BEGIN:VEVENT
DTSTART;TZID=UTC:20260111T143000
DTEND;TZID=UTC:20260111T170000
DTSTAMP:20260422T050052
CREATED:20260109T115756Z
LAST-MODIFIED:20260109T120004Z
UID:10001268-1768141800-1768150800@schalmdemeern.nl
SUMMARY:Jazzcafé geannuleerd op 11 januari 2026
DESCRIPTION:Door winterweer is Jazzcafé geannuleerd.
URL:https://schalmdemeern.nl/event/jazzcafe-2/
LOCATION:Theater zaal
ATTACH;FMTTYPE=image/jpeg:https://schalmdemeern.nl/wp-content/uploads/2025/12/Kopie-Van-Blue-Simple-Professional-CV-Resume-Document-A4-2.jpg
ORGANIZER;CN="De Schalm":MAILTO:info@schalmdemeern.nl
END:VEVENT
BEGIN:VEVENT
DTSTART;TZID=UTC:20260110T193000
DTEND;TZID=UTC:20260110T223000
DTSTAMP:20260422T050052
CREATED:20251217T120740Z
LAST-MODIFIED:20251224T105344Z
UID:10000051-1768073400-1768084200@schalmdemeern.nl
SUMMARY:Crazy Disco😍 voor mensen met een licht verstandelijke beperking (ID is verplicht) leeftijd is vanaf 14 jaar
DESCRIPTION:🎶💃Kom dansen\, lachen en genieten van de muziek! Iedereen mag meedoen op zijn eigen manier. Samen maken we er een superleuke disco van !🕺🎶
URL:https://schalmdemeern.nl/event/crazy-disco-in-buurthuis-de-schalm/
LOCATION:Theater zaal
ATTACH;FMTTYPE=image/jpeg:https://schalmdemeern.nl/wp-content/uploads/2025/12/Crazy-Disco-10-januari-2026.jpg
ORGANIZER;CN="De Schalm":MAILTO:info@schalmdemeern.nl
END:VEVENT
BEGIN:VEVENT
DTSTART;TZID=UTC:20260109T193000
DTEND;TZID=UTC:20260109T220000
DTSTAMP:20260422T050052
CREATED:20251222T102254Z
LAST-MODIFIED:20251222T102254Z
UID:10000056-1767987000-1767996000@schalmdemeern.nl
SUMMARY:😥🔴9 januari 2026 CANCELLED🔴😥
DESCRIPTION:Vrijwilligers gezocht voor de Teenage Disco!! \nHelp gezellig mee aan een supergezellige vrijdagavond max 10 x per jaar! \nHelp vooral mee zodat de kinderen een gezellige avond kunnen hebben. \nMeld je aan bij Resa Gaillard\, tel: 06-19482102 of rgaillard@locobrands.nl \n  \n 
URL:https://schalmdemeern.nl/event/%f0%9f%98%a5%f0%9f%94%b49-januari-2026-cancelled%f0%9f%94%b4%f0%9f%98%a5/
LOCATION:Theater zaal
ATTACH;FMTTYPE=image/jpeg:https://schalmdemeern.nl/wp-content/uploads/2025/12/Teenage-vibes-disco-9-januari-2026-cancelled.jpg
ORGANIZER;CN="De Schalm":MAILTO:info@schalmdemeern.nl
END:VEVENT
BEGIN:VEVENT
DTSTART;TZID=UTC:20260106T123000
DTEND;TZID=UTC:20260106T170000
DTSTAMP:20260422T050052
CREATED:20251224T100516Z
LAST-MODIFIED:20251224T100516Z
UID:10000058-1767702600-1767718800@schalmdemeern.nl
SUMMARY:Doe Café
DESCRIPTION:Klaverjassen. sjoelen en handwerken!
URL:https://schalmdemeern.nl/event/doe-cafe-3/2026-01-06/
LOCATION:Theater zaal
ORGANIZER;CN="De Schalm":MAILTO:info@schalmdemeern.nl
END:VEVENT
BEGIN:VEVENT
DTSTART;TZID=UTC:20251218T150000
DTEND;TZID=UTC:20251218T190000
DTSTAMP:20260422T050052
CREATED:20251112T111445Z
LAST-MODIFIED:20251112T111523Z
UID:10000046-1766070000-1766084400@schalmdemeern.nl
SUMMARY:Kerstdiner in De Schalm
DESCRIPTION:
URL:https://schalmdemeern.nl/event/kerstdiner-in-de-schalm/
LOCATION:Theater zaal
ATTACH;FMTTYPE=image/jpeg:https://schalmdemeern.nl/wp-content/uploads/2025/11/Kerst-18-dec.2025.jpg
ORGANIZER;CN="De Schalm":MAILTO:info@schalmdemeern.nl
END:VEVENT
BEGIN:VEVENT
DTSTART;TZID=UTC:20251214T143000
DTEND;TZID=UTC:20251214T170000
DTSTAMP:20260422T050052
CREATED:20251023T110456Z
LAST-MODIFIED:20251112T110749Z
UID:10000032-1765722600-1765731600@schalmdemeern.nl
SUMMARY:Jazzcafé met Jazz4All
DESCRIPTION:Het combo Jazz4All speelt “easy listening” muziek\, die -zoals de naam al aangeeft- een breed publiek aanspreekt. \nGedurende het winterseizoen treden we maandelijks op in het Jazzcafé van De Schalm in De Meern. \nDe optredens vinden plaats met wisselende gastsolisten. \nHet repertoire is mede afhankelijk van de gastsolisten en varieert daardoor van swingende jazz-nummers tot meeslepende latin-jazz \, Gypsy-jazz en zelfs Franse chansons\, in eigen jazzy bewerkingen.
URL:https://schalmdemeern.nl/event/jazzcafe-met-jazz4all/
LOCATION:Theater zaal
CATEGORIES:Uitvoering
ATTACH;FMTTYPE=image/jpeg:https://schalmdemeern.nl/wp-content/uploads/2025/10/kader-DECEMBER.jpg
ORGANIZER;CN="De Schalm":MAILTO:info@schalmdemeern.nl
END:VEVENT
BEGIN:VEVENT
DTSTART;TZID=UTC:20251125T133000
DTEND;TZID=UTC:20251125T160000
DTSTAMP:20260422T050052
CREATED:20251023T103422Z
LAST-MODIFIED:20251118T113512Z
UID:10000023-1764077400-1764086400@schalmdemeern.nl
SUMMARY:Doe Café
DESCRIPTION:Elke dinsdagmiddag kunt u gezellig bij ons klaverjassen\, sjoelen en handwerken!
URL:https://schalmdemeern.nl/event/doe-cafe/
LOCATION:Theater zaal
CATEGORIES:Bijeenkomst
ORGANIZER;CN="De Schalm":MAILTO:info@schalmdemeern.nl
END:VEVENT
BEGIN:VEVENT
DTSTART;TZID=UTC:20251118T133000
DTEND;TZID=UTC:20251118T160000
DTSTAMP:20260422T050052
CREATED:20251023T111347Z
LAST-MODIFIED:20251112T110615Z
UID:10000036-1763472600-1763481600@schalmdemeern.nl
SUMMARY:Doe Café
DESCRIPTION:Elke dinsdagmiddag kunt u gezellig bij ons klaverjassen\, sjoelen en handwerken!
URL:https://schalmdemeern.nl/event/doe-cafe-2/
LOCATION:Theater zaal
CATEGORIES:Bijeenkomst
ORGANIZER;CN="De Schalm":MAILTO:info@schalmdemeern.nl
END:VEVENT
BEGIN:VEVENT
DTSTART;TZID=UTC:20251117T190000
DTEND;TZID=UTC:20251117T230000
DTSTAMP:20260422T050052
CREATED:20251023T111207Z
LAST-MODIFIED:20251112T110550Z
UID:10000034-1763406000-1763420400@schalmdemeern.nl
SUMMARY:Oefenavond Leidsche Rijn koor
DESCRIPTION:Wij zijn ca. 40 enthousiaste vrouwen. We houden van zingen\, swingen en gezelligheid. Wij worden professioneel begeleid door Hilde Boersma. \nOnder pianobegeleiding zingen wij meerstemmig\, in drie of vier partijen. Soms zingt iemand een stukje solo. \nHet Leidsche Rijn Koor treedt gemiddeld 4 keer per jaar op. We doen mee aan korenfestivals\, we treden op in verzorgingshuizen en soms organiseren wij zelf een optreden voor publiek.
URL:https://schalmdemeern.nl/event/oefenavond-leidsche-rijn-koor-4/
LOCATION:Theater zaal
CATEGORIES:Bijeenkomst
ORGANIZER;CN="Leidscherijn Koor":MAILTO:leidscherijnkoor@gmail.com
END:VEVENT
BEGIN:VEVENT
DTSTART;TZID=UTC:20251114T193000
DTEND;TZID=UTC:20251114T223000
DTSTAMP:20260422T050052
CREATED:20251023T114408Z
LAST-MODIFIED:20251023T114408Z
UID:10000044-1763148600-1763159400@schalmdemeern.nl
SUMMARY:Teenage Vibe
DESCRIPTION:Teenage Vibe de leukste disco voor kinderen van 9 t/m 13 jaar! \nKom dansen op de fijnste beats! \nEen discopas laten maken is verplicht. Deze kost eenmalig €2\,50 en hiervoor moet een pasfoto worden meegenomen. Deze kan alleen gemaakt worden op de discoavond zelf. \nEntree €3
URL:https://schalmdemeern.nl/event/teenage-vibe/
LOCATION:Theater zaal
CATEGORIES:Disco
ORGANIZER;CN="De Schalm":MAILTO:info@schalmdemeern.nl
END:VEVENT
BEGIN:VEVENT
DTSTART;TZID=UTC:20251114T153000
DTEND;TZID=UTC:20251114T163000
DTSTAMP:20260422T050052
CREATED:20250520T123955Z
LAST-MODIFIED:20251023T114016Z
UID:10000002-1763134200-1763137800@schalmdemeern.nl
SUMMARY:Kinder disco
DESCRIPTION:De Kinderdisco is er weer! \nDe leukste disco voor kinderen van 4 t/m 8 jaar. \nHet is de bedoeling dat de ouders meedansen! \nEntree €2\,00 \n 
URL:https://schalmdemeern.nl/event/kinder-disco/
LOCATION:Theater zaal
CATEGORIES:Disco
ORGANIZER;CN="De Schalm":MAILTO:info@schalmdemeern.nl
END:VEVENT
BEGIN:VEVENT
DTSTART;TZID=UTC:20251108T200000
DTEND;TZID=UTC:20251108T230000
DTSTAMP:20260422T050052
CREATED:20251023T110030Z
LAST-MODIFIED:20251023T110030Z
UID:10000030-1762632000-1762642800@schalmdemeern.nl
SUMMARY:Tovedem Uitvoering en Jubileum
DESCRIPTION:Tovedem viert haar 40-jarig jubileum! \nDit jaar is het 40 jaar geleden dat Tovedem werd opgericht. We vieren dit met een vrolijke jubileumvoorstelling “Dwazen”\, in de regie van Tonneke van der Sluijs. Na de voorstellingen is er een spetterend feest voor iedereen. Van harte welkom! \n  \nKaarten zijn €10 en te koop op Dwazen – Tovedem
URL:https://schalmdemeern.nl/event/tovedem-uitvoering-en-jubileum-2/
LOCATION:Theater zaal
CATEGORIES:Uitvoering
END:VEVENT
END:VCALENDAR