BEGIN:VCALENDAR
VERSION:2.0
PRODID:-//De Schalm - ECPv6.15.18//NONSGML v1.0//EN
CALSCALE:GREGORIAN
METHOD:PUBLISH
X-WR-CALNAME:De Schalm
X-ORIGINAL-URL:https://schalmdemeern.nl
X-WR-CALDESC:Evenementen voor De Schalm
REFRESH-INTERVAL;VALUE=DURATION:PT1H
X-Robots-Tag:noindex
X-PUBLISHED-TTL:PT1H
BEGIN:VTIMEZONE
TZID:UTC
BEGIN:STANDARD
TZOFFSETFROM:+0000
TZOFFSETTO:+0000
TZNAME:UTC
DTSTART:20250101T000000
END:STANDARD
END:VTIMEZONE
BEGIN:VEVENT
DTSTART;TZID=UTC:20260613T193000
DTEND;TZID=UTC:20260613T223000
DTSTAMP:20260421T200932
CREATED:20260306T181146Z
LAST-MODIFIED:20260306T181146Z
UID:10004044-1781379000-1781389800@schalmdemeern.nl
SUMMARY:🤩Crazy Disco🤩 Summer Neon Party🎉
DESCRIPTION:Tijd: 19:30 – 22:30 uur \nEntree € 3\,00 \nLeeftijd vanaf 14 jaar \nID verplicht
URL:https://schalmdemeern.nl/event/%f0%9f%a4%a9crazy-disco%f0%9f%a4%a9-3/
LOCATION:Theater zaal
ATTACH;FMTTYPE=image/jpeg:https://schalmdemeern.nl/wp-content/uploads/2026/02/13-juni.jpg
END:VEVENT
BEGIN:VEVENT
DTSTART;TZID=UTC:20260616T123000
DTEND;TZID=UTC:20260616T170000
DTSTAMP:20260421T200932
CREATED:20251224T100516Z
LAST-MODIFIED:20251224T100516Z
UID:10000081-1781613000-1781629200@schalmdemeern.nl
SUMMARY:Doe Café
DESCRIPTION:Klaverjassen. sjoelen en handwerken!
URL:https://schalmdemeern.nl/event/doe-cafe-3/2026-06-16/
LOCATION:Theater zaal
ORGANIZER;CN="De Schalm":MAILTO:info@schalmdemeern.nl
END:VEVENT
BEGIN:VEVENT
DTSTART;TZID=UTC:20260619T170000
DTEND;TZID=UTC:20260619T230000
DTSTAMP:20260421T200932
CREATED:20260316T100251Z
LAST-MODIFIED:20260318T095222Z
UID:10004888-1781888400-1781910000@schalmdemeern.nl
SUMMARY:📸FCLR Fotoclub📸
DESCRIPTION:Fotoclub Leidsche Rijn – Een club voor iedereen die van fotograferen houdt of beter wil leren fotograferen.
URL:https://schalmdemeern.nl/event/%f0%9f%93%b8fclr-fotoclub%f0%9f%93%b8/2026-06-19/
LOCATION:Theater zaal
ORGANIZER;CN="de Schalm":MAILTO:info@schalmdemeern.nl
END:VEVENT
BEGIN:VEVENT
DTSTART;TZID=UTC:20260620T100000
DTEND;TZID=UTC:20260620T230000
DTSTAMP:20260421T200932
CREATED:20260331T184550Z
LAST-MODIFIED:20260331T184550Z
UID:10005013-1781949600-1781996400@schalmdemeern.nl
SUMMARY:🎭Voorstelling van Mejoto's🎭
DESCRIPTION:
URL:https://schalmdemeern.nl/event/%f0%9f%8e%advoorstelling-van-mejotos%f0%9f%8e%ad/2026-06-20/
LOCATION:Theater zaal
ORGANIZER;CN="de Schalm":MAILTO:info@schalmdemeern.nl
END:VEVENT
BEGIN:VEVENT
DTSTART;TZID=UTC:20260621T100000
DTEND;TZID=UTC:20260621T230000
DTSTAMP:20260421T200932
CREATED:20260331T184550Z
LAST-MODIFIED:20260331T184550Z
UID:10005014-1782036000-1782082800@schalmdemeern.nl
SUMMARY:🎭Voorstelling van Mejoto's🎭
DESCRIPTION:
URL:https://schalmdemeern.nl/event/%f0%9f%8e%advoorstelling-van-mejotos%f0%9f%8e%ad/2026-06-21/
LOCATION:Theater zaal
ORGANIZER;CN="de Schalm":MAILTO:info@schalmdemeern.nl
END:VEVENT
BEGIN:VEVENT
DTSTART;TZID=UTC:20260623T123000
DTEND;TZID=UTC:20260623T170000
DTSTAMP:20260421T200932
CREATED:20251224T100516Z
LAST-MODIFIED:20251224T100516Z
UID:10000082-1782217800-1782234000@schalmdemeern.nl
SUMMARY:Doe Café
DESCRIPTION:Klaverjassen. sjoelen en handwerken!
URL:https://schalmdemeern.nl/event/doe-cafe-3/2026-06-23/
LOCATION:Theater zaal
ORGANIZER;CN="De Schalm":MAILTO:info@schalmdemeern.nl
END:VEVENT
BEGIN:VEVENT
DTSTART;TZID=UTC:20260630T123000
DTEND;TZID=UTC:20260630T170000
DTSTAMP:20260421T200932
CREATED:20251224T100516Z
LAST-MODIFIED:20251224T100516Z
UID:10000083-1782822600-1782838800@schalmdemeern.nl
SUMMARY:Doe Café
DESCRIPTION:Klaverjassen. sjoelen en handwerken!
URL:https://schalmdemeern.nl/event/doe-cafe-3/2026-06-30/
LOCATION:Theater zaal
ORGANIZER;CN="De Schalm":MAILTO:info@schalmdemeern.nl
END:VEVENT
BEGIN:VEVENT
DTSTART;TZID=UTC:20260707T123000
DTEND;TZID=UTC:20260707T170000
DTSTAMP:20260421T200932
CREATED:20251224T100516Z
LAST-MODIFIED:20251224T100516Z
UID:10000084-1783427400-1783443600@schalmdemeern.nl
SUMMARY:Doe Café
DESCRIPTION:Klaverjassen. sjoelen en handwerken!
URL:https://schalmdemeern.nl/event/doe-cafe-3/2026-07-07/
LOCATION:Theater zaal
ORGANIZER;CN="De Schalm":MAILTO:info@schalmdemeern.nl
END:VEVENT
BEGIN:VEVENT
DTSTART;TZID=UTC:20260714T123000
DTEND;TZID=UTC:20260714T170000
DTSTAMP:20260421T200932
CREATED:20251224T100516Z
LAST-MODIFIED:20251224T100516Z
UID:10000085-1784032200-1784048400@schalmdemeern.nl
SUMMARY:Doe Café
DESCRIPTION:Klaverjassen. sjoelen en handwerken!
URL:https://schalmdemeern.nl/event/doe-cafe-3/2026-07-14/
LOCATION:Theater zaal
ORGANIZER;CN="De Schalm":MAILTO:info@schalmdemeern.nl
END:VEVENT
BEGIN:VEVENT
DTSTART;TZID=UTC:20260904T190000
DTEND;TZID=UTC:20260904T230000
DTSTAMP:20260421T200932
CREATED:20260316T100251Z
LAST-MODIFIED:20260318T095222Z
UID:10004889-1788548400-1788562800@schalmdemeern.nl
SUMMARY:📸FCLR Fotoclub📸
DESCRIPTION:Fotoclub Leidsche Rijn – Een club voor iedereen die van fotograferen houdt of beter wil leren fotograferen.
URL:https://schalmdemeern.nl/event/%f0%9f%93%b8fclr-fotoclub%f0%9f%93%b8/2026-09-04/
LOCATION:Theater zaal
ORGANIZER;CN="de Schalm":MAILTO:info@schalmdemeern.nl
END:VEVENT
BEGIN:VEVENT
DTSTART;TZID=UTC:20260925T190000
DTEND;TZID=UTC:20260925T230000
DTSTAMP:20260421T200932
CREATED:20260316T100251Z
LAST-MODIFIED:20260318T095222Z
UID:10004890-1790362800-1790377200@schalmdemeern.nl
SUMMARY:📸FCLR Fotoclub📸
DESCRIPTION:Fotoclub Leidsche Rijn – Een club voor iedereen die van fotograferen houdt of beter wil leren fotograferen.
URL:https://schalmdemeern.nl/event/%f0%9f%93%b8fclr-fotoclub%f0%9f%93%b8/2026-09-25/
LOCATION:Theater zaal
ORGANIZER;CN="de Schalm":MAILTO:info@schalmdemeern.nl
END:VEVENT
BEGIN:VEVENT
DTSTART;TZID=UTC:20261010T143000
DTEND;TZID=UTC:20261010T180000
DTSTAMP:20260421T200932
CREATED:20260226T174347Z
LAST-MODIFIED:20260226T174446Z
UID:10004033-1791642600-1791655200@schalmdemeern.nl
SUMMARY:🎭Kindertheater KAKA & Co🎭
DESCRIPTION:De piraten en de zeven zeeën!!
URL:https://schalmdemeern.nl/event/%f0%9f%8e%adkindertheater-kaka-co%f0%9f%8e%ad/2026-10-10/
LOCATION:Theater zaal
ATTACH;FMTTYPE=image/jpeg:https://schalmdemeern.nl/wp-content/uploads/2026/02/kaka-co-10-en-11-oktober-2026-2.jpg
ORGANIZER;CN="De Schalm":MAILTO:info@schalmdemeern.nl
END:VEVENT
BEGIN:VEVENT
DTSTART;TZID=UTC:20261011T143000
DTEND;TZID=UTC:20261011T180000
DTSTAMP:20260421T200932
CREATED:20260226T174347Z
LAST-MODIFIED:20260226T174446Z
UID:10004034-1791729000-1791741600@schalmdemeern.nl
SUMMARY:🎭Kindertheater KAKA & Co🎭
DESCRIPTION:De piraten en de zeven zeeën!!
URL:https://schalmdemeern.nl/event/%f0%9f%8e%adkindertheater-kaka-co%f0%9f%8e%ad/2026-10-11/
LOCATION:Theater zaal
ATTACH;FMTTYPE=image/jpeg:https://schalmdemeern.nl/wp-content/uploads/2026/02/kaka-co-10-en-11-oktober-2026-2.jpg
ORGANIZER;CN="De Schalm":MAILTO:info@schalmdemeern.nl
END:VEVENT
BEGIN:VEVENT
DTSTART;TZID=UTC:20261016T170000
DTEND;TZID=UTC:20261016T230000
DTSTAMP:20260421T200932
CREATED:20260316T100251Z
LAST-MODIFIED:20260318T095222Z
UID:10004891-1792170000-1792191600@schalmdemeern.nl
SUMMARY:📸FCLR Fotoclub📸
DESCRIPTION:Fotoclub Leidsche Rijn – Een club voor iedereen die van fotograferen houdt of beter wil leren fotograferen.
URL:https://schalmdemeern.nl/event/%f0%9f%93%b8fclr-fotoclub%f0%9f%93%b8/2026-10-16/
LOCATION:Theater zaal
ORGANIZER;CN="de Schalm":MAILTO:info@schalmdemeern.nl
END:VEVENT
BEGIN:VEVENT
DTSTART;TZID=UTC:20261030T170000
DTEND;TZID=UTC:20261030T230000
DTSTAMP:20260421T200932
CREATED:20260316T100251Z
LAST-MODIFIED:20260318T095222Z
UID:10004892-1793379600-1793401200@schalmdemeern.nl
SUMMARY:📸FCLR Fotoclub📸
DESCRIPTION:Fotoclub Leidsche Rijn – Een club voor iedereen die van fotograferen houdt of beter wil leren fotograferen.
URL:https://schalmdemeern.nl/event/%f0%9f%93%b8fclr-fotoclub%f0%9f%93%b8/2026-10-30/
LOCATION:Theater zaal
ORGANIZER;CN="de Schalm":MAILTO:info@schalmdemeern.nl
END:VEVENT
BEGIN:VEVENT
DTSTART;TZID=UTC:20261127T190000
DTEND;TZID=UTC:20261127T230000
DTSTAMP:20260421T200932
CREATED:20260316T100251Z
LAST-MODIFIED:20260318T095222Z
UID:10004893-1795806000-1795820400@schalmdemeern.nl
SUMMARY:📸FCLR Fotoclub📸
DESCRIPTION:Fotoclub Leidsche Rijn – Een club voor iedereen die van fotograferen houdt of beter wil leren fotograferen.
URL:https://schalmdemeern.nl/event/%f0%9f%93%b8fclr-fotoclub%f0%9f%93%b8/2026-11-27/
LOCATION:Theater zaal
ORGANIZER;CN="de Schalm":MAILTO:info@schalmdemeern.nl
END:VEVENT
BEGIN:VEVENT
DTSTART;TZID=UTC:20261218T190000
DTEND;TZID=UTC:20261218T230000
DTSTAMP:20260421T200932
CREATED:20260316T100251Z
LAST-MODIFIED:20260318T095222Z
UID:10004894-1797620400-1797634800@schalmdemeern.nl
SUMMARY:📸FCLR Fotoclub📸
DESCRIPTION:Fotoclub Leidsche Rijn – Een club voor iedereen die van fotograferen houdt of beter wil leren fotograferen.
URL:https://schalmdemeern.nl/event/%f0%9f%93%b8fclr-fotoclub%f0%9f%93%b8/2026-12-18/
LOCATION:Theater zaal
ORGANIZER;CN="de Schalm":MAILTO:info@schalmdemeern.nl
END:VEVENT
END:VCALENDAR