BEGIN:VCALENDAR
VERSION:2.0
PRODID:-//De Schalm - ECPv6.15.18//NONSGML v1.0//EN
CALSCALE:GREGORIAN
METHOD:PUBLISH
X-ORIGINAL-URL:https://schalmdemeern.nl
X-WR-CALDESC:Evenementen voor De Schalm
REFRESH-INTERVAL;VALUE=DURATION:PT1H
X-Robots-Tag:noindex
X-PUBLISHED-TTL:PT1H
BEGIN:VTIMEZONE
TZID:UTC
BEGIN:STANDARD
TZOFFSETFROM:+0000
TZOFFSETTO:+0000
TZNAME:UTC
DTSTART:20250101T000000
END:STANDARD
END:VTIMEZONE
BEGIN:VEVENT
DTSTART;TZID=UTC:20260421T123000
DTEND;TZID=UTC:20260421T170000
DTSTAMP:20260421T200903
CREATED:20251224T100516Z
LAST-MODIFIED:20251224T100516Z
UID:10000073-1776774600-1776790800@schalmdemeern.nl
SUMMARY:Doe Café
DESCRIPTION:Klaverjassen. sjoelen en handwerken!
URL:https://schalmdemeern.nl/event/doe-cafe-3/2026-04-21/
LOCATION:Theater zaal
ORGANIZER;CN="De Schalm":MAILTO:info@schalmdemeern.nl
END:VEVENT
BEGIN:VEVENT
DTSTART;TZID=UTC:20260417T170000
DTEND;TZID=UTC:20260417T230000
DTSTAMP:20260421T200903
CREATED:20260316T100251Z
LAST-MODIFIED:20260318T095222Z
UID:10004885-1776445200-1776466800@schalmdemeern.nl
SUMMARY:📸FCLR Fotoclub📸
DESCRIPTION:Fotoclub Leidsche Rijn – Een club voor iedereen die van fotograferen houdt of beter wil leren fotograferen.
URL:https://schalmdemeern.nl/event/%f0%9f%93%b8fclr-fotoclub%f0%9f%93%b8/2026-04-17/
LOCATION:Theater zaal
ORGANIZER;CN="de Schalm":MAILTO:info@schalmdemeern.nl
END:VEVENT
BEGIN:VEVENT
DTSTART;TZID=UTC:20260416T170000
DTEND;TZID=UTC:20260416T235900
DTSTAMP:20260421T200903
CREATED:20260327T173912Z
LAST-MODIFIED:20260327T173912Z
UID:10004984-1776358800-1776383940@schalmdemeern.nl
SUMMARY:♠️♥️Pokerkampioenschap♦️♣️
DESCRIPTION:Website URL\nhttps://www.onkpoker.nl/onkp/2025-2026/pokerkampioenschap-utrecht-april26 \nFacebook URL\nhttps://www.facebook.com/events/1445893517138957/
URL:https://schalmdemeern.nl/event/%e2%99%a0%ef%b8%8f%e2%99%a5%ef%b8%8fpokerkampioenschap%e2%99%a6%ef%b8%8f%e2%99%a3%ef%b8%8f/
LOCATION:Theater zaal
ATTACH;FMTTYPE=image/jpeg:https://schalmdemeern.nl/wp-content/uploads/2026/03/UTRECHT-16-april-pokerkampioenschap.jpg
ORGANIZER;CN="de Schalm":MAILTO:info@schalmdemeern.nl
END:VEVENT
BEGIN:VEVENT
DTSTART;TZID=UTC:20260414T123000
DTEND;TZID=UTC:20260414T170000
DTSTAMP:20260421T200903
CREATED:20251224T100516Z
LAST-MODIFIED:20251224T100516Z
UID:10000072-1776169800-1776186000@schalmdemeern.nl
SUMMARY:Doe Café
DESCRIPTION:Klaverjassen. sjoelen en handwerken!
URL:https://schalmdemeern.nl/event/doe-cafe-3/2026-04-14/
LOCATION:Theater zaal
ORGANIZER;CN="De Schalm":MAILTO:info@schalmdemeern.nl
END:VEVENT
BEGIN:VEVENT
DTSTART;TZID=UTC:20260413T170000
DTEND;TZID=UTC:20260413T190000
DTSTAMP:20260421T200903
CREATED:20260303T221035Z
LAST-MODIFIED:20260309T120025Z
UID:10004050-1776099600-1776106800@schalmdemeern.nl
SUMMARY:BuurtHap!🏘️🍽️
DESCRIPTION:
URL:https://schalmdemeern.nl/event/buurthap%f0%9f%8f%98%ef%b8%8f%f0%9f%8d%bd%ef%b8%8f/
LOCATION:Theater zaal
ATTACH;FMTTYPE=image/jpeg:https://schalmdemeern.nl/wp-content/uploads/2026/03/buurthap-april.jpg
ORGANIZER;CN="De Schalm":MAILTO:info@schalmdemeern.nl
END:VEVENT
BEGIN:VEVENT
DTSTART;TZID=UTC:20260410T193000
DTEND;TZID=UTC:20260410T220000
DTSTAMP:20260421T200903
CREATED:20260330T125221Z
LAST-MODIFIED:20260330T125257Z
UID:10004993-1775849400-1775858400@schalmdemeern.nl
SUMMARY:🧡Teenage Vibe Ik🧡van Holland disco🧡
DESCRIPTION:
URL:https://schalmdemeern.nl/event/%f0%9f%a7%a1teenage-vibe-ik%f0%9f%a7%a1van-holland-disco%f0%9f%a7%a1/
LOCATION:Theater zaal
ATTACH;FMTTYPE=image/jpeg:https://schalmdemeern.nl/wp-content/uploads/2026/03/April.jpg
ORGANIZER;CN="de Schalm":MAILTO:info@schalmdemeern.nl
END:VEVENT
BEGIN:VEVENT
DTSTART;TZID=UTC:20260410T153000
DTEND;TZID=UTC:20260410T163000
DTSTAMP:20260421T200903
CREATED:20260303T221314Z
LAST-MODIFIED:20260303T221314Z
UID:10001277-1775835000-1775838600@schalmdemeern.nl
SUMMARY:🤩KIDS DISCO!🤩 VAN 15:30 - 16:30 UUR
DESCRIPTION:
URL:https://schalmdemeern.nl/event/%f0%9f%a4%a9kids-disco%f0%9f%a4%a9-van-1530-1630-uur-2/
LOCATION:Theater zaal
ATTACH;FMTTYPE=image/jpeg:https://schalmdemeern.nl/wp-content/uploads/2026/01/Kids-Disco-10-april.jpg
ORGANIZER;CN="De Schalm":MAILTO:info@schalmdemeern.nl
END:VEVENT
BEGIN:VEVENT
DTSTART;TZID=UTC:20260407T123000
DTEND;TZID=UTC:20260407T170000
DTSTAMP:20260421T200903
CREATED:20251224T100516Z
LAST-MODIFIED:20251224T100516Z
UID:10000071-1775565000-1775581200@schalmdemeern.nl
SUMMARY:Doe Café
DESCRIPTION:Klaverjassen. sjoelen en handwerken!
URL:https://schalmdemeern.nl/event/doe-cafe-3/2026-04-07/
LOCATION:Theater zaal
ORGANIZER;CN="De Schalm":MAILTO:info@schalmdemeern.nl
END:VEVENT
BEGIN:VEVENT
DTSTART;TZID=UTC:20260402T120000
DTEND;TZID=UTC:20260402T160000
DTSTAMP:20260421T200903
CREATED:20260304T124535Z
LAST-MODIFIED:20260304T124535Z
UID:10004054-1775131200-1775145600@schalmdemeern.nl
SUMMARY:🍽️🐣Paaslunch 🌻De Zonnebloem🌻
DESCRIPTION:
URL:https://schalmdemeern.nl/event/%f0%9f%8d%bd%ef%b8%8f%f0%9f%90%a3paaslunch-%f0%9f%8c%bbde-zonnebloem%f0%9f%8c%bb/
LOCATION:Theater zaal
END:VEVENT
BEGIN:VEVENT
DTSTART;TZID=UTC:20260331T123000
DTEND;TZID=UTC:20260331T170000
DTSTAMP:20260421T200903
CREATED:20251224T100516Z
LAST-MODIFIED:20251224T100516Z
UID:10000070-1774960200-1774976400@schalmdemeern.nl
SUMMARY:Doe Café
DESCRIPTION:Klaverjassen. sjoelen en handwerken!
URL:https://schalmdemeern.nl/event/doe-cafe-3/2026-03-31/
LOCATION:Theater zaal
ORGANIZER;CN="De Schalm":MAILTO:info@schalmdemeern.nl
END:VEVENT
BEGIN:VEVENT
DTSTART;TZID=UTC:20260328T193000
DTEND;TZID=UTC:20260328T223000
DTSTAMP:20260421T200903
CREATED:20260123T181157Z
LAST-MODIFIED:20260123T181232Z
UID:10001279-1774726200-1774737000@schalmdemeern.nl
SUMMARY:Crazy Disco Pyjama Feest!🎉
DESCRIPTION:
URL:https://schalmdemeern.nl/event/crazy-disco-pyjama-feest%f0%9f%8e%89/
LOCATION:Theater zaal
ATTACH;FMTTYPE=image/jpeg:https://schalmdemeern.nl/wp-content/uploads/2026/01/Crazy-disco-28-maart-pyjama-feest.jpg
ORGANIZER;CN="De Schalm":MAILTO:info@schalmdemeern.nl
END:VEVENT
BEGIN:VEVENT
DTSTART;TZID=UTC:20260328T093000
DTEND;TZID=UTC:20260328T113000
DTSTAMP:20260421T200903
CREATED:20260304T110844Z
LAST-MODIFIED:20260316T121603Z
UID:10004053-1774690200-1774697400@schalmdemeern.nl
SUMMARY:Kledingbeurs
DESCRIPTION:Facebook
URL:https://schalmdemeern.nl/event/kledingbeurs/
LOCATION:Theater zaal
END:VEVENT
BEGIN:VEVENT
DTSTART;TZID=UTC:20260327T190000
DTEND;TZID=UTC:20260327T230000
DTSTAMP:20260421T200903
CREATED:20260316T100251Z
LAST-MODIFIED:20260318T095222Z
UID:10004978-1774638000-1774652400@schalmdemeern.nl
SUMMARY:📸FCLR Fotoclub📸
DESCRIPTION:Fotoclub Leidsche Rijn – Een club voor iedereen die van fotograferen houdt of beter wil leren fotograferen.
URL:https://schalmdemeern.nl/event/%f0%9f%93%b8fclr-fotoclub%f0%9f%93%b8/2026-03-27/
LOCATION:Theater zaal
ORGANIZER;CN="de Schalm":MAILTO:info@schalmdemeern.nl
END:VEVENT
BEGIN:VEVENT
DTSTART;TZID=UTC:20260324T123000
DTEND;TZID=UTC:20260324T170000
DTSTAMP:20260421T200903
CREATED:20251224T100516Z
LAST-MODIFIED:20251224T100516Z
UID:10000069-1774355400-1774371600@schalmdemeern.nl
SUMMARY:Doe Café
DESCRIPTION:Klaverjassen. sjoelen en handwerken!
URL:https://schalmdemeern.nl/event/doe-cafe-3/2026-03-24/
LOCATION:Theater zaal
ORGANIZER;CN="De Schalm":MAILTO:info@schalmdemeern.nl
END:VEVENT
BEGIN:VEVENT
DTSTART;TZID=UTC:20260320T190000
DTEND;TZID=UTC:20260320T230000
DTSTAMP:20260421T200903
CREATED:20260316T100251Z
LAST-MODIFIED:20260318T095222Z
UID:10004884-1774033200-1774047600@schalmdemeern.nl
SUMMARY:📸FCLR Fotoclub📸
DESCRIPTION:Fotoclub Leidsche Rijn – Een club voor iedereen die van fotograferen houdt of beter wil leren fotograferen.
URL:https://schalmdemeern.nl/event/%f0%9f%93%b8fclr-fotoclub%f0%9f%93%b8/2026-03-20/
LOCATION:Theater zaal
ORGANIZER;CN="de Schalm":MAILTO:info@schalmdemeern.nl
END:VEVENT
BEGIN:VEVENT
DTSTART;TZID=UTC:20260317T123000
DTEND;TZID=UTC:20260317T170000
DTSTAMP:20260421T200903
CREATED:20251224T100516Z
LAST-MODIFIED:20251224T100516Z
UID:10000068-1773750600-1773766800@schalmdemeern.nl
SUMMARY:Doe Café
DESCRIPTION:Klaverjassen. sjoelen en handwerken!
URL:https://schalmdemeern.nl/event/doe-cafe-3/2026-03-17/
LOCATION:Theater zaal
ORGANIZER;CN="De Schalm":MAILTO:info@schalmdemeern.nl
END:VEVENT
BEGIN:VEVENT
DTSTART;TZID=UTC:20260314T100000
DTEND;TZID=UTC:20260314T230000
DTSTAMP:20260421T200903
CREATED:20260228T170324Z
LAST-MODIFIED:20260312T194507Z
UID:10004046-1773482400-1773529200@schalmdemeern.nl
SUMMARY:🎶🎸🎤BATTLE OF THE BANDS🎤🎸🎶
DESCRIPTION:
URL:https://schalmdemeern.nl/event/%f0%9f%8e%b6%f0%9f%8e%b8%f0%9f%8e%a4battle-of-the-bands%f0%9f%8e%a4%f0%9f%8e%b8%f0%9f%8e%b6/
LOCATION:Theater zaal
ATTACH;FMTTYPE=image/jpeg:https://schalmdemeern.nl/wp-content/uploads/2026/02/battle-of-the-bands-2026.jpeg
ORGANIZER;CN="De Schalm":MAILTO:info@schalmdemeern.nl
END:VEVENT
BEGIN:VEVENT
DTSTART;TZID=UTC:20260313T193000
DTEND;TZID=UTC:20260313T220000
DTSTAMP:20260421T200903
CREATED:20260228T165230Z
LAST-MODIFIED:20260228T165230Z
UID:10004045-1773430200-1773439200@schalmdemeern.nl
SUMMARY:🎉🤩Teenage Vibe🎉🖤 Black And White 🤍🎉
DESCRIPTION:
URL:https://schalmdemeern.nl/event/%f0%9f%8e%89%f0%9f%a4%a9teenage-vibe%f0%9f%8e%89%f0%9f%96%a4-black-and-white-%f0%9f%a4%8d%f0%9f%8e%89/
LOCATION:Theater zaal
ATTACH;FMTTYPE=image/jpeg:https://schalmdemeern.nl/wp-content/uploads/2026/02/13-maart-black-and-white-disco.jpg
ORGANIZER;CN="De Schalm":MAILTO:info@schalmdemeern.nl
END:VEVENT
BEGIN:VEVENT
DTSTART;TZID=UTC:20260313T153000
DTEND;TZID=UTC:20260313T163000
DTSTAMP:20260421T200903
CREATED:20260109T152834Z
LAST-MODIFIED:20260109T154223Z
UID:10001276-1773415800-1773419400@schalmdemeern.nl
SUMMARY:🤩KIDS DISCO!🤩 VAN 15:30 - 16:30 UUR
DESCRIPTION:
URL:https://schalmdemeern.nl/event/%f0%9f%a4%a9kids-disco%f0%9f%a4%a9-van-1530-1630-uur/2026-03-13/
LOCATION:Theater zaal
ATTACH;FMTTYPE=image/jpeg:https://schalmdemeern.nl/wp-content/uploads/2026/01/Kids-Disco-jaaroverzicht-2026.jpg
ORGANIZER;CN="De Schalm":MAILTO:info@schalmdemeern.nl
END:VEVENT
BEGIN:VEVENT
DTSTART;TZID=UTC:20260310T123000
DTEND;TZID=UTC:20260310T170000
DTSTAMP:20260421T200903
CREATED:20251224T100516Z
LAST-MODIFIED:20251224T100516Z
UID:10000067-1773145800-1773162000@schalmdemeern.nl
SUMMARY:Doe Café
DESCRIPTION:Klaverjassen. sjoelen en handwerken!
URL:https://schalmdemeern.nl/event/doe-cafe-3/2026-03-10/
LOCATION:Theater zaal
ORGANIZER;CN="De Schalm":MAILTO:info@schalmdemeern.nl
END:VEVENT
BEGIN:VEVENT
DTSTART;TZID=UTC:20260307T193000
DTEND;TZID=UTC:20260307T230000
DTSTAMP:20260421T200903
CREATED:20260309T113212Z
LAST-MODIFIED:20260309T113212Z
UID:10004037-1772911800-1772924400@schalmdemeern.nl
SUMMARY:Uitvoering van Cloos🎭
DESCRIPTION:
URL:https://schalmdemeern.nl/event/%f0%9f%8e%aduitvoering-van-cloos%f0%9f%8e%ad-2/
LOCATION:Theater zaal
END:VEVENT
BEGIN:VEVENT
DTSTART;TZID=UTC:20260306T193000
DTEND;TZID=UTC:20260306T230000
DTSTAMP:20260421T200903
CREATED:20260228T125332Z
LAST-MODIFIED:20260228T141409Z
UID:10004036-1772825400-1772838000@schalmdemeern.nl
SUMMARY:Uitvoering van Cloos🎭
DESCRIPTION:
URL:https://schalmdemeern.nl/event/%f0%9f%8e%aduitvoering-van-cloos%f0%9f%8e%ad/
LOCATION:Theater zaal
ATTACH;FMTTYPE=image/jpeg:https://schalmdemeern.nl/wp-content/uploads/2026/02/cloos-1.jpg
ORGANIZER;CN="De Schalm":MAILTO:info@schalmdemeern.nl
END:VEVENT
BEGIN:VEVENT
DTSTART;TZID=UTC:20260303T123000
DTEND;TZID=UTC:20260303T170000
DTSTAMP:20260421T200903
CREATED:20251224T100516Z
LAST-MODIFIED:20251224T100516Z
UID:10000066-1772541000-1772557200@schalmdemeern.nl
SUMMARY:Doe Café
DESCRIPTION:Klaverjassen. sjoelen en handwerken!
URL:https://schalmdemeern.nl/event/doe-cafe-3/2026-03-03/
LOCATION:Theater zaal
ORGANIZER;CN="De Schalm":MAILTO:info@schalmdemeern.nl
END:VEVENT
BEGIN:VEVENT
DTSTART;TZID=UTC:20260228T200000
DTEND;TZID=UTC:20260228T230000
DTSTAMP:20260421T200903
CREATED:20260218T111731Z
LAST-MODIFIED:20260225T190449Z
UID:10003110-1772308800-1772319600@schalmdemeern.nl
SUMMARY:🎭Toneelvereniging PLATEEL 🎭
DESCRIPTION:
URL:https://schalmdemeern.nl/event/toneelvereniging-%f0%9f%8e%adplateel-%f0%9f%8e%ad/2026-02-28/
LOCATION:Theater zaal
ORGANIZER;CN="De Schalm":MAILTO:info@schalmdemeern.nl
END:VEVENT
BEGIN:VEVENT
DTSTART;TZID=UTC:20260227T200000
DTEND;TZID=UTC:20260227T230000
DTSTAMP:20260421T200903
CREATED:20260218T111731Z
LAST-MODIFIED:20260225T190449Z
UID:10003109-1772222400-1772233200@schalmdemeern.nl
SUMMARY:🎭Toneelvereniging PLATEEL 🎭
DESCRIPTION:
URL:https://schalmdemeern.nl/event/toneelvereniging-%f0%9f%8e%adplateel-%f0%9f%8e%ad/2026-02-27/
LOCATION:Theater zaal
ORGANIZER;CN="De Schalm":MAILTO:info@schalmdemeern.nl
END:VEVENT
BEGIN:VEVENT
DTSTART;TZID=UTC:20260226T190000
DTEND;TZID=UTC:20260226T230000
DTSTAMP:20260421T200903
CREATED:20260225T190405Z
LAST-MODIFIED:20260225T190405Z
UID:10003378-1772132400-1772146800@schalmdemeern.nl
SUMMARY:🎭Plateel🎭 (repeteren)
DESCRIPTION:
URL:https://schalmdemeern.nl/event/%f0%9f%8e%adplateel%f0%9f%8e%ad-repeteren/
LOCATION:Theater zaal
ORGANIZER;CN="De Schalm":MAILTO:info@schalmdemeern.nl
END:VEVENT
BEGIN:VEVENT
DTSTART;TZID=UTC:20260224T123000
DTEND;TZID=UTC:20260224T170000
DTSTAMP:20260421T200903
CREATED:20251224T100516Z
LAST-MODIFIED:20251224T100516Z
UID:10000065-1771936200-1771952400@schalmdemeern.nl
SUMMARY:Doe Café
DESCRIPTION:Klaverjassen. sjoelen en handwerken!
URL:https://schalmdemeern.nl/event/doe-cafe-3/2026-02-24/
LOCATION:Theater zaal
ORGANIZER;CN="De Schalm":MAILTO:info@schalmdemeern.nl
END:VEVENT
BEGIN:VEVENT
DTSTART;TZID=UTC:20260221T203000
DTEND;TZID=UTC:20260221T235900
DTSTAMP:20260421T200903
CREATED:20251222T144807Z
LAST-MODIFIED:20260119T121947Z
UID:10000057-1771705800-1771718340@schalmdemeern.nl
SUMMARY:🟡🤩GOUD VAN OUD🤩20:30 tot 01:00 uur🟡MUZIEK UIT DE VERVLOGEN TIJDEN
DESCRIPTION:Beste dansliefhebbers!\nHet 1e evenement op deze locatie op 27 september 2025 was een daverend succes.\nHeel veel positieve reacties over deze aflevering gehad en veel vragen wanneer de volgende komt. \nVeel bezoekers vertelden het succes door te geven aan anderen.\nOnze DJ Hans zal u wederom een heerlijke dansavond bezorgen met muziek uit de jaren 70 t/m 90 en op verzoek ook later(zero`s).\n300 tickets beschikbaar (inclusief garderobe) doch enkel in de voorverkoop (online). Dus geen kassaverkoop.\nEarly Bird (1 t/m 100)  = € 13\,00\nLate  (101-350)         = € 15\,00\nTickets te bestellen via: http://www.rc-productions.nl/\nEen polsband wordt verstrekt.\nZALEN OPEN:    20.30 uur\nEINDE     :    01.00 uur.
URL:https://schalmdemeern.nl/event/%f0%9f%9f%a1%f0%9f%a4%a9goud-van-oud%f0%9f%a4%a9%f0%9f%9f%a1muziek-uit-de-vervlogen-tijden/
LOCATION:Theater zaal
ATTACH;FMTTYPE=application/pdf:https://schalmdemeern.nl/wp-content/uploads/2025/12/20251972_RC-PRODUCTIONS_GOUD-VAN-OUD_DE-MEERN_POSTER_A3_V1_HR-1.pdf
ORGANIZER;CN="De Schalm":MAILTO:info@schalmdemeern.nl
END:VEVENT
BEGIN:VEVENT
DTSTART;TZID=UTC:20260218T140000
DTEND;TZID=UTC:20260218T170000
DTSTAMP:20260421T200903
CREATED:20260130T165535Z
LAST-MODIFIED:20260130T165621Z
UID:10001540-1771423200-1771434000@schalmdemeern.nl
SUMMARY:Bingo!
DESCRIPTION:
URL:https://schalmdemeern.nl/event/bingo-3/
LOCATION:Theater zaal
ATTACH;FMTTYPE=image/jpeg:https://schalmdemeern.nl/wp-content/uploads/2026/01/18-februari.jpg
ORGANIZER;CN="De Schalm":MAILTO:info@schalmdemeern.nl
END:VEVENT
BEGIN:VEVENT
DTSTART;TZID=UTC:20260217T123000
DTEND;TZID=UTC:20260217T170000
DTSTAMP:20260421T200903
CREATED:20251224T100516Z
LAST-MODIFIED:20251224T100516Z
UID:10000064-1771331400-1771347600@schalmdemeern.nl
SUMMARY:Doe Café
DESCRIPTION:Klaverjassen. sjoelen en handwerken!
URL:https://schalmdemeern.nl/event/doe-cafe-3/2026-02-17/
LOCATION:Theater zaal
ORGANIZER;CN="De Schalm":MAILTO:info@schalmdemeern.nl
END:VEVENT
END:VCALENDAR