BEGIN:VCALENDAR
VERSION:2.0
PRODID:-//De Schalm - ECPv6.15.18//NONSGML v1.0//EN
CALSCALE:GREGORIAN
METHOD:PUBLISH
X-ORIGINAL-URL:https://schalmdemeern.nl
X-WR-CALDESC:Evenementen voor De Schalm
REFRESH-INTERVAL;VALUE=DURATION:PT1H
X-Robots-Tag:noindex
X-PUBLISHED-TTL:PT1H
BEGIN:VTIMEZONE
TZID:UTC
BEGIN:STANDARD
TZOFFSETFROM:+0000
TZOFFSETTO:+0000
TZNAME:UTC
DTSTART:20250101T000000
END:STANDARD
END:VTIMEZONE
BEGIN:VEVENT
DTSTART;TZID=UTC:20261009T100000
DTEND;TZID=UTC:20261009T140000
DTSTAMP:20260422T233122
CREATED:20251230T131152Z
LAST-MODIFIED:20260309T131703Z
UID:10000784-1791540000-1791554400@schalmdemeern.nl
SUMMARY:Haak & Brei Café
DESCRIPTION:
URL:https://schalmdemeern.nl/event/haak-brei-cafe/2026-10-09/
LOCATION:Barzaal
ORGANIZER;CN="De Schalm":MAILTO:info@schalmdemeern.nl
END:VEVENT
BEGIN:VEVENT
DTSTART;TZID=UTC:20261014T100000
DTEND;TZID=UTC:20261014T120000
DTSTAMP:20260422T233122
CREATED:20260105T120323Z
LAST-MODIFIED:20260105T120323Z
UID:10001045-1791972000-1791979200@schalmdemeern.nl
SUMMARY:Huiskamer van de Wijk
DESCRIPTION:Neem je buren of vrienden mee en kom gezellig langs voor een potje rummikub\, kaarten of een ander spelletje.
URL:https://schalmdemeern.nl/event/huiskamer-van-de-wijk-3/2026-10-14/
LOCATION:Barzaal
ATTACH;FMTTYPE=image/jpeg:https://schalmdemeern.nl/wp-content/uploads/2026/01/huiskamer-van-de-wijk.jpg
ORGANIZER;CN="De Schalm":MAILTO:info@schalmdemeern.nl
END:VEVENT
BEGIN:VEVENT
DTSTART;TZID=UTC:20261016T100000
DTEND;TZID=UTC:20261016T140000
DTSTAMP:20260422T233122
CREATED:20251230T131152Z
LAST-MODIFIED:20260309T131703Z
UID:10000785-1792144800-1792159200@schalmdemeern.nl
SUMMARY:Haak & Brei Café
DESCRIPTION:
URL:https://schalmdemeern.nl/event/haak-brei-cafe/2026-10-16/
LOCATION:Barzaal
ORGANIZER;CN="De Schalm":MAILTO:info@schalmdemeern.nl
END:VEVENT
BEGIN:VEVENT
DTSTART;TZID=UTC:20261021T100000
DTEND;TZID=UTC:20261021T120000
DTSTAMP:20260422T233122
CREATED:20260105T120323Z
LAST-MODIFIED:20260105T120323Z
UID:10001046-1792576800-1792584000@schalmdemeern.nl
SUMMARY:Huiskamer van de Wijk
DESCRIPTION:Neem je buren of vrienden mee en kom gezellig langs voor een potje rummikub\, kaarten of een ander spelletje.
URL:https://schalmdemeern.nl/event/huiskamer-van-de-wijk-3/2026-10-21/
LOCATION:Barzaal
ATTACH;FMTTYPE=image/jpeg:https://schalmdemeern.nl/wp-content/uploads/2026/01/huiskamer-van-de-wijk.jpg
ORGANIZER;CN="De Schalm":MAILTO:info@schalmdemeern.nl
END:VEVENT
BEGIN:VEVENT
DTSTART;TZID=UTC:20261023T100000
DTEND;TZID=UTC:20261023T140000
DTSTAMP:20260422T233122
CREATED:20251230T131152Z
LAST-MODIFIED:20260309T131703Z
UID:10000786-1792749600-1792764000@schalmdemeern.nl
SUMMARY:Haak & Brei Café
DESCRIPTION:
URL:https://schalmdemeern.nl/event/haak-brei-cafe/2026-10-23/
LOCATION:Barzaal
ORGANIZER;CN="De Schalm":MAILTO:info@schalmdemeern.nl
END:VEVENT
BEGIN:VEVENT
DTSTART;TZID=UTC:20261028T100000
DTEND;TZID=UTC:20261028T120000
DTSTAMP:20260422T233122
CREATED:20260105T120323Z
LAST-MODIFIED:20260105T120323Z
UID:10001047-1793181600-1793188800@schalmdemeern.nl
SUMMARY:Huiskamer van de Wijk
DESCRIPTION:Neem je buren of vrienden mee en kom gezellig langs voor een potje rummikub\, kaarten of een ander spelletje.
URL:https://schalmdemeern.nl/event/huiskamer-van-de-wijk-3/2026-10-28/
LOCATION:Barzaal
ATTACH;FMTTYPE=image/jpeg:https://schalmdemeern.nl/wp-content/uploads/2026/01/huiskamer-van-de-wijk.jpg
ORGANIZER;CN="De Schalm":MAILTO:info@schalmdemeern.nl
END:VEVENT
BEGIN:VEVENT
DTSTART;TZID=UTC:20261030T100000
DTEND;TZID=UTC:20261030T140000
DTSTAMP:20260422T233122
CREATED:20251230T131152Z
LAST-MODIFIED:20260309T131703Z
UID:10000787-1793354400-1793368800@schalmdemeern.nl
SUMMARY:Haak & Brei Café
DESCRIPTION:
URL:https://schalmdemeern.nl/event/haak-brei-cafe/2026-10-30/
LOCATION:Barzaal
ORGANIZER;CN="De Schalm":MAILTO:info@schalmdemeern.nl
END:VEVENT
BEGIN:VEVENT
DTSTART;TZID=UTC:20261104T100000
DTEND;TZID=UTC:20261104T120000
DTSTAMP:20260422T233122
CREATED:20260105T120323Z
LAST-MODIFIED:20260105T120323Z
UID:10001048-1793786400-1793793600@schalmdemeern.nl
SUMMARY:Huiskamer van de Wijk
DESCRIPTION:Neem je buren of vrienden mee en kom gezellig langs voor een potje rummikub\, kaarten of een ander spelletje.
URL:https://schalmdemeern.nl/event/huiskamer-van-de-wijk-3/2026-11-04/
LOCATION:Barzaal
ATTACH;FMTTYPE=image/jpeg:https://schalmdemeern.nl/wp-content/uploads/2026/01/huiskamer-van-de-wijk.jpg
ORGANIZER;CN="De Schalm":MAILTO:info@schalmdemeern.nl
END:VEVENT
BEGIN:VEVENT
DTSTART;TZID=UTC:20261106T100000
DTEND;TZID=UTC:20261106T140000
DTSTAMP:20260422T233122
CREATED:20251230T131152Z
LAST-MODIFIED:20260309T131703Z
UID:10000788-1793959200-1793973600@schalmdemeern.nl
SUMMARY:Haak & Brei Café
DESCRIPTION:
URL:https://schalmdemeern.nl/event/haak-brei-cafe/2026-11-06/
LOCATION:Barzaal
ORGANIZER;CN="De Schalm":MAILTO:info@schalmdemeern.nl
END:VEVENT
BEGIN:VEVENT
DTSTART;TZID=UTC:20261111T100000
DTEND;TZID=UTC:20261111T120000
DTSTAMP:20260422T233122
CREATED:20260105T120323Z
LAST-MODIFIED:20260105T120323Z
UID:10001049-1794391200-1794398400@schalmdemeern.nl
SUMMARY:Huiskamer van de Wijk
DESCRIPTION:Neem je buren of vrienden mee en kom gezellig langs voor een potje rummikub\, kaarten of een ander spelletje.
URL:https://schalmdemeern.nl/event/huiskamer-van-de-wijk-3/2026-11-11/
LOCATION:Barzaal
ATTACH;FMTTYPE=image/jpeg:https://schalmdemeern.nl/wp-content/uploads/2026/01/huiskamer-van-de-wijk.jpg
ORGANIZER;CN="De Schalm":MAILTO:info@schalmdemeern.nl
END:VEVENT
BEGIN:VEVENT
DTSTART;TZID=UTC:20261113T100000
DTEND;TZID=UTC:20261113T140000
DTSTAMP:20260422T233122
CREATED:20251230T131152Z
LAST-MODIFIED:20260309T131703Z
UID:10000789-1794564000-1794578400@schalmdemeern.nl
SUMMARY:Haak & Brei Café
DESCRIPTION:
URL:https://schalmdemeern.nl/event/haak-brei-cafe/2026-11-13/
LOCATION:Barzaal
ORGANIZER;CN="De Schalm":MAILTO:info@schalmdemeern.nl
END:VEVENT
BEGIN:VEVENT
DTSTART;TZID=UTC:20261118T100000
DTEND;TZID=UTC:20261118T120000
DTSTAMP:20260422T233122
CREATED:20260105T120323Z
LAST-MODIFIED:20260105T120323Z
UID:10001050-1794996000-1795003200@schalmdemeern.nl
SUMMARY:Huiskamer van de Wijk
DESCRIPTION:Neem je buren of vrienden mee en kom gezellig langs voor een potje rummikub\, kaarten of een ander spelletje.
URL:https://schalmdemeern.nl/event/huiskamer-van-de-wijk-3/2026-11-18/
LOCATION:Barzaal
ATTACH;FMTTYPE=image/jpeg:https://schalmdemeern.nl/wp-content/uploads/2026/01/huiskamer-van-de-wijk.jpg
ORGANIZER;CN="De Schalm":MAILTO:info@schalmdemeern.nl
END:VEVENT
BEGIN:VEVENT
DTSTART;TZID=UTC:20261120T100000
DTEND;TZID=UTC:20261120T140000
DTSTAMP:20260422T233122
CREATED:20251230T131152Z
LAST-MODIFIED:20260309T131703Z
UID:10000790-1795168800-1795183200@schalmdemeern.nl
SUMMARY:Haak & Brei Café
DESCRIPTION:
URL:https://schalmdemeern.nl/event/haak-brei-cafe/2026-11-20/
LOCATION:Barzaal
ORGANIZER;CN="De Schalm":MAILTO:info@schalmdemeern.nl
END:VEVENT
BEGIN:VEVENT
DTSTART;TZID=UTC:20261125T100000
DTEND;TZID=UTC:20261125T120000
DTSTAMP:20260422T233122
CREATED:20260105T120323Z
LAST-MODIFIED:20260105T120323Z
UID:10001051-1795600800-1795608000@schalmdemeern.nl
SUMMARY:Huiskamer van de Wijk
DESCRIPTION:Neem je buren of vrienden mee en kom gezellig langs voor een potje rummikub\, kaarten of een ander spelletje.
URL:https://schalmdemeern.nl/event/huiskamer-van-de-wijk-3/2026-11-25/
LOCATION:Barzaal
ATTACH;FMTTYPE=image/jpeg:https://schalmdemeern.nl/wp-content/uploads/2026/01/huiskamer-van-de-wijk.jpg
ORGANIZER;CN="De Schalm":MAILTO:info@schalmdemeern.nl
END:VEVENT
BEGIN:VEVENT
DTSTART;TZID=UTC:20261127T100000
DTEND;TZID=UTC:20261127T140000
DTSTAMP:20260422T233122
CREATED:20251230T131152Z
LAST-MODIFIED:20260309T131703Z
UID:10000791-1795773600-1795788000@schalmdemeern.nl
SUMMARY:Haak & Brei Café
DESCRIPTION:
URL:https://schalmdemeern.nl/event/haak-brei-cafe/2026-11-27/
LOCATION:Barzaal
ORGANIZER;CN="De Schalm":MAILTO:info@schalmdemeern.nl
END:VEVENT
BEGIN:VEVENT
DTSTART;TZID=UTC:20261202T100000
DTEND;TZID=UTC:20261202T120000
DTSTAMP:20260422T233122
CREATED:20260105T120323Z
LAST-MODIFIED:20260105T120323Z
UID:10001052-1796205600-1796212800@schalmdemeern.nl
SUMMARY:Huiskamer van de Wijk
DESCRIPTION:Neem je buren of vrienden mee en kom gezellig langs voor een potje rummikub\, kaarten of een ander spelletje.
URL:https://schalmdemeern.nl/event/huiskamer-van-de-wijk-3/2026-12-02/
LOCATION:Barzaal
ATTACH;FMTTYPE=image/jpeg:https://schalmdemeern.nl/wp-content/uploads/2026/01/huiskamer-van-de-wijk.jpg
ORGANIZER;CN="De Schalm":MAILTO:info@schalmdemeern.nl
END:VEVENT
BEGIN:VEVENT
DTSTART;TZID=UTC:20261204T100000
DTEND;TZID=UTC:20261204T140000
DTSTAMP:20260422T233122
CREATED:20251230T131152Z
LAST-MODIFIED:20260309T131703Z
UID:10000792-1796378400-1796392800@schalmdemeern.nl
SUMMARY:Haak & Brei Café
DESCRIPTION:
URL:https://schalmdemeern.nl/event/haak-brei-cafe/2026-12-04/
LOCATION:Barzaal
ORGANIZER;CN="De Schalm":MAILTO:info@schalmdemeern.nl
END:VEVENT
BEGIN:VEVENT
DTSTART;TZID=UTC:20261209T100000
DTEND;TZID=UTC:20261209T120000
DTSTAMP:20260422T233122
CREATED:20260105T120323Z
LAST-MODIFIED:20260105T120323Z
UID:10001053-1796810400-1796817600@schalmdemeern.nl
SUMMARY:Huiskamer van de Wijk
DESCRIPTION:Neem je buren of vrienden mee en kom gezellig langs voor een potje rummikub\, kaarten of een ander spelletje.
URL:https://schalmdemeern.nl/event/huiskamer-van-de-wijk-3/2026-12-09/
LOCATION:Barzaal
ATTACH;FMTTYPE=image/jpeg:https://schalmdemeern.nl/wp-content/uploads/2026/01/huiskamer-van-de-wijk.jpg
ORGANIZER;CN="De Schalm":MAILTO:info@schalmdemeern.nl
END:VEVENT
BEGIN:VEVENT
DTSTART;TZID=UTC:20261211T100000
DTEND;TZID=UTC:20261211T140000
DTSTAMP:20260422T233122
CREATED:20251230T131152Z
LAST-MODIFIED:20260309T131703Z
UID:10000793-1796983200-1796997600@schalmdemeern.nl
SUMMARY:Haak & Brei Café
DESCRIPTION:
URL:https://schalmdemeern.nl/event/haak-brei-cafe/2026-12-11/
LOCATION:Barzaal
ORGANIZER;CN="De Schalm":MAILTO:info@schalmdemeern.nl
END:VEVENT
BEGIN:VEVENT
DTSTART;TZID=UTC:20261216T100000
DTEND;TZID=UTC:20261216T120000
DTSTAMP:20260422T233122
CREATED:20260105T120323Z
LAST-MODIFIED:20260105T120323Z
UID:10001054-1797415200-1797422400@schalmdemeern.nl
SUMMARY:Huiskamer van de Wijk
DESCRIPTION:Neem je buren of vrienden mee en kom gezellig langs voor een potje rummikub\, kaarten of een ander spelletje.
URL:https://schalmdemeern.nl/event/huiskamer-van-de-wijk-3/2026-12-16/
LOCATION:Barzaal
ATTACH;FMTTYPE=image/jpeg:https://schalmdemeern.nl/wp-content/uploads/2026/01/huiskamer-van-de-wijk.jpg
ORGANIZER;CN="De Schalm":MAILTO:info@schalmdemeern.nl
END:VEVENT
BEGIN:VEVENT
DTSTART;TZID=UTC:20261218T100000
DTEND;TZID=UTC:20261218T140000
DTSTAMP:20260422T233122
CREATED:20251230T131152Z
LAST-MODIFIED:20260309T131703Z
UID:10000794-1797588000-1797602400@schalmdemeern.nl
SUMMARY:Haak & Brei Café
DESCRIPTION:
URL:https://schalmdemeern.nl/event/haak-brei-cafe/2026-12-18/
LOCATION:Barzaal
ORGANIZER;CN="De Schalm":MAILTO:info@schalmdemeern.nl
END:VEVENT
BEGIN:VEVENT
DTSTART;TZID=UTC:20261223T100000
DTEND;TZID=UTC:20261223T120000
DTSTAMP:20260422T233122
CREATED:20260105T120323Z
LAST-MODIFIED:20260105T120323Z
UID:10001055-1798020000-1798027200@schalmdemeern.nl
SUMMARY:Huiskamer van de Wijk
DESCRIPTION:Neem je buren of vrienden mee en kom gezellig langs voor een potje rummikub\, kaarten of een ander spelletje.
URL:https://schalmdemeern.nl/event/huiskamer-van-de-wijk-3/2026-12-23/
LOCATION:Barzaal
ATTACH;FMTTYPE=image/jpeg:https://schalmdemeern.nl/wp-content/uploads/2026/01/huiskamer-van-de-wijk.jpg
ORGANIZER;CN="De Schalm":MAILTO:info@schalmdemeern.nl
END:VEVENT
BEGIN:VEVENT
DTSTART;TZID=UTC:20261225T100000
DTEND;TZID=UTC:20261225T140000
DTSTAMP:20260422T233122
CREATED:20251230T131152Z
LAST-MODIFIED:20260309T131703Z
UID:10000795-1798192800-1798207200@schalmdemeern.nl
SUMMARY:Haak & Brei Café
DESCRIPTION:
URL:https://schalmdemeern.nl/event/haak-brei-cafe/2026-12-25/
LOCATION:Barzaal
ORGANIZER;CN="De Schalm":MAILTO:info@schalmdemeern.nl
END:VEVENT
BEGIN:VEVENT
DTSTART;TZID=UTC:20261230T100000
DTEND;TZID=UTC:20261230T120000
DTSTAMP:20260422T233122
CREATED:20260105T120323Z
LAST-MODIFIED:20260105T120323Z
UID:10001056-1798624800-1798632000@schalmdemeern.nl
SUMMARY:Huiskamer van de Wijk
DESCRIPTION:Neem je buren of vrienden mee en kom gezellig langs voor een potje rummikub\, kaarten of een ander spelletje.
URL:https://schalmdemeern.nl/event/huiskamer-van-de-wijk-3/2026-12-30/
LOCATION:Barzaal
ATTACH;FMTTYPE=image/jpeg:https://schalmdemeern.nl/wp-content/uploads/2026/01/huiskamer-van-de-wijk.jpg
ORGANIZER;CN="De Schalm":MAILTO:info@schalmdemeern.nl
END:VEVENT
BEGIN:VEVENT
DTSTART;TZID=UTC:20270101T100000
DTEND;TZID=UTC:20270101T140000
DTSTAMP:20260422T233122
CREATED:20251230T131152Z
LAST-MODIFIED:20260309T131703Z
UID:10000796-1798797600-1798812000@schalmdemeern.nl
SUMMARY:Haak & Brei Café
DESCRIPTION:
URL:https://schalmdemeern.nl/event/haak-brei-cafe/2027-01-01/
LOCATION:Barzaal
ORGANIZER;CN="De Schalm":MAILTO:info@schalmdemeern.nl
END:VEVENT
BEGIN:VEVENT
DTSTART;TZID=UTC:20270106T100000
DTEND;TZID=UTC:20270106T120000
DTSTAMP:20260422T233122
CREATED:20260105T120323Z
LAST-MODIFIED:20260105T120323Z
UID:10001057-1799229600-1799236800@schalmdemeern.nl
SUMMARY:Huiskamer van de Wijk
DESCRIPTION:Neem je buren of vrienden mee en kom gezellig langs voor een potje rummikub\, kaarten of een ander spelletje.
URL:https://schalmdemeern.nl/event/huiskamer-van-de-wijk-3/2027-01-06/
LOCATION:Barzaal
ATTACH;FMTTYPE=image/jpeg:https://schalmdemeern.nl/wp-content/uploads/2026/01/huiskamer-van-de-wijk.jpg
ORGANIZER;CN="De Schalm":MAILTO:info@schalmdemeern.nl
END:VEVENT
BEGIN:VEVENT
DTSTART;TZID=UTC:20270108T100000
DTEND;TZID=UTC:20270108T140000
DTSTAMP:20260422T233122
CREATED:20251230T131152Z
LAST-MODIFIED:20260309T131703Z
UID:10000797-1799402400-1799416800@schalmdemeern.nl
SUMMARY:Haak & Brei Café
DESCRIPTION:
URL:https://schalmdemeern.nl/event/haak-brei-cafe/2027-01-08/
LOCATION:Barzaal
ORGANIZER;CN="De Schalm":MAILTO:info@schalmdemeern.nl
END:VEVENT
BEGIN:VEVENT
DTSTART;TZID=UTC:20270113T100000
DTEND;TZID=UTC:20270113T120000
DTSTAMP:20260422T233122
CREATED:20260105T120323Z
LAST-MODIFIED:20260105T120323Z
UID:10001058-1799834400-1799841600@schalmdemeern.nl
SUMMARY:Huiskamer van de Wijk
DESCRIPTION:Neem je buren of vrienden mee en kom gezellig langs voor een potje rummikub\, kaarten of een ander spelletje.
URL:https://schalmdemeern.nl/event/huiskamer-van-de-wijk-3/2027-01-13/
LOCATION:Barzaal
ATTACH;FMTTYPE=image/jpeg:https://schalmdemeern.nl/wp-content/uploads/2026/01/huiskamer-van-de-wijk.jpg
ORGANIZER;CN="De Schalm":MAILTO:info@schalmdemeern.nl
END:VEVENT
BEGIN:VEVENT
DTSTART;TZID=UTC:20270115T100000
DTEND;TZID=UTC:20270115T140000
DTSTAMP:20260422T233122
CREATED:20251230T131152Z
LAST-MODIFIED:20260309T131703Z
UID:10000798-1800007200-1800021600@schalmdemeern.nl
SUMMARY:Haak & Brei Café
DESCRIPTION:
URL:https://schalmdemeern.nl/event/haak-brei-cafe/2027-01-15/
LOCATION:Barzaal
ORGANIZER;CN="De Schalm":MAILTO:info@schalmdemeern.nl
END:VEVENT
BEGIN:VEVENT
DTSTART;TZID=UTC:20270120T100000
DTEND;TZID=UTC:20270120T120000
DTSTAMP:20260422T233122
CREATED:20260105T120323Z
LAST-MODIFIED:20260105T120323Z
UID:10001059-1800439200-1800446400@schalmdemeern.nl
SUMMARY:Huiskamer van de Wijk
DESCRIPTION:Neem je buren of vrienden mee en kom gezellig langs voor een potje rummikub\, kaarten of een ander spelletje.
URL:https://schalmdemeern.nl/event/huiskamer-van-de-wijk-3/2027-01-20/
LOCATION:Barzaal
ATTACH;FMTTYPE=image/jpeg:https://schalmdemeern.nl/wp-content/uploads/2026/01/huiskamer-van-de-wijk.jpg
ORGANIZER;CN="De Schalm":MAILTO:info@schalmdemeern.nl
END:VEVENT
END:VCALENDAR