BEGIN:VCALENDAR
VERSION:2.0
PRODID:-//De Schalm - ECPv6.15.18//NONSGML v1.0//EN
CALSCALE:GREGORIAN
METHOD:PUBLISH
X-WR-CALNAME:De Schalm
X-ORIGINAL-URL:https://schalmdemeern.nl
X-WR-CALDESC:Evenementen voor De Schalm
REFRESH-INTERVAL;VALUE=DURATION:PT1H
X-Robots-Tag:noindex
X-PUBLISHED-TTL:PT1H
BEGIN:VTIMEZONE
TZID:UTC
BEGIN:STANDARD
TZOFFSETFROM:+0000
TZOFFSETTO:+0000
TZNAME:UTC
DTSTART:20240101T000000
END:STANDARD
END:VTIMEZONE
BEGIN:VEVENT
DTSTART;TZID=UTC:20251129T100000
DTEND;TZID=UTC:20251129T120000
DTSTAMP:20260423T041106
CREATED:20251119T091101Z
LAST-MODIFIED:20251119T091101Z
UID:10000050-1764410400-1764417600@schalmdemeern.nl
SUMMARY:Inzameling spullen snuffelmarkt
DESCRIPTION:Inbreng spullen rommelmarkt: iedere zaterdag tot en met 17 januari 2026 van 10.00-12.00 in De Schalm. \nLet op: alleen kleine\, handzame spullen van goede kwaliteit.
URL:https://schalmdemeern.nl/event/inzameling-spullen-snuffelmarkt-2/
LOCATION:Barzaal
ORGANIZER;CN="De Schalm":MAILTO:info@schalmdemeern.nl
END:VEVENT
BEGIN:VEVENT
DTSTART;TZID=UTC:20251126T100000
DTEND;TZID=UTC:20251126T120000
DTSTAMP:20260423T041106
CREATED:20251023T104553Z
LAST-MODIFIED:20251112T110322Z
UID:10000026-1764151200-1764158400@schalmdemeern.nl
SUMMARY:Huiskamer van de Wijk
DESCRIPTION:De Huiskamer is er elke woensdagochtend in De Schalm voor álle buurtbewoners. \nIedereen kan gewoon binnenlopen om een kop koffie te drinken\, maar ook deelnemen aan allerlei activiteiten die vanuit de Huiskamer worden georganiseerd. Zoals biljarten\, wandelclub\, jeu des boules en dergelijke. Een aantal dagdelen per week zijn beroepskrachten aanwezig. Mensen uit de buurt worden gestimuleerd zo veel mogelijk activiteiten zelf te organiseren\, als het nodig is met professionele ondersteuning. Zo wordt het echt hún Huiskamer. Iedere buurtbewoner kan\, binnen zijn of haar eigen mogelijkheden\, op een vanzelfsprekende manier deelnemen!
URL:https://schalmdemeern.nl/event/huiskamer-van-de-wijk/
LOCATION:Barzaal
CATEGORIES:Bijeenkomst
ORGANIZER;CN="De Schalm":MAILTO:info@schalmdemeern.nl
END:VEVENT
BEGIN:VEVENT
DTSTART;TZID=UTC:20251122T100000
DTEND;TZID=UTC:20251122T120000
DTSTAMP:20260423T041106
CREATED:20251118T112929Z
LAST-MODIFIED:20251119T090506Z
UID:10000049-1763805600-1763812800@schalmdemeern.nl
SUMMARY:Inzameling spullen snuffelmarkt
DESCRIPTION:Inbreng spullen rommelmarkt: iedere zaterdag tot en met 17 januari 2026 van 10.00-12.00 in De Schalm. \nLet op: alleen kleine\, handzame spullen van goede kwaliteit.
URL:https://schalmdemeern.nl/event/inzameling-spullen-snuffelmarkt/
LOCATION:Barzaal
ORGANIZER;CN="De Schalm":MAILTO:info@schalmdemeern.nl
END:VEVENT
BEGIN:VEVENT
DTSTART;TZID=UTC:20251119T100000
DTEND;TZID=UTC:20251119T120000
DTSTAMP:20260423T041106
CREATED:20251023T113340Z
LAST-MODIFIED:20251112T110309Z
UID:10000040-1763546400-1763553600@schalmdemeern.nl
SUMMARY:Huiskamer van de Wijk
DESCRIPTION:De Huiskamer is er elke woensdagochtend in De Schalm voor álle buurtbewoners. \nIedereen kan gewoon binnenlopen om een kop koffie te drinken\, maar ook deelnemen aan allerlei activiteiten die vanuit de Huiskamer worden georganiseerd. Zoals biljarten\, wandelclub\, jeu des boules en dergelijke. Een aantal dagdelen per week zijn beroepskrachten aanwezig. Mensen uit de buurt worden gestimuleerd zo veel mogelijk activiteiten zelf te organiseren\, als het nodig is met professionele ondersteuning. Zo wordt het echt hún Huiskamer. Iedere buurtbewoner kan\, binnen zijn of haar eigen mogelijkheden\, op een vanzelfsprekende manier deelnemen!
URL:https://schalmdemeern.nl/event/huiskamer-van-de-wijk-2/
LOCATION:Barzaal
CATEGORIES:Bijeenkomst
ORGANIZER;CN="De Schalm":MAILTO:info@schalmdemeern.nl
END:VEVENT
BEGIN:VEVENT
DTSTART;TZID=UTC:20251117T170000
DTEND;TZID=UTC:20251117T190000
DTSTAMP:20260423T041106
CREATED:20251112T111655Z
LAST-MODIFIED:20251112T111655Z
UID:10000047-1763398800-1763406000@schalmdemeern.nl
SUMMARY:Buurthap
DESCRIPTION:
URL:https://schalmdemeern.nl/event/buurthap/
LOCATION:Barzaal
ATTACH;FMTTYPE=image/jpeg:https://schalmdemeern.nl/wp-content/uploads/2025/11/november.jpg
ORGANIZER;CN="De Schalm":MAILTO:info@schalmdemeern.nl
END:VEVENT
BEGIN:VEVENT
DTSTART;TZID=UTC:20251114T100000
DTEND;TZID=UTC:20251114T120000
DTSTAMP:20260423T041106
CREATED:20251023T113507Z
LAST-MODIFIED:20251023T113507Z
UID:10000043-1763114400-1763121600@schalmdemeern.nl
SUMMARY:Haak en brei café
DESCRIPTION:Gezellig onder het genot van een bakje koffie samen allerlei vormen van handwerk maken! \nElke vrijdag vanaf 10:00 tot 12:00.
URL:https://schalmdemeern.nl/event/haak-en-brei-cafe-2/
LOCATION:Barzaal
CATEGORIES:Bijeenkomst
ORGANIZER;CN="De Schalm":MAILTO:info@schalmdemeern.nl
END:VEVENT
END:VCALENDAR