BEGIN:VCALENDAR
VERSION:2.0
PRODID:-//De Schalm - ECPv6.15.18//NONSGML v1.0//EN
CALSCALE:GREGORIAN
METHOD:PUBLISH
X-ORIGINAL-URL:https://schalmdemeern.nl
X-WR-CALDESC:Evenementen voor De Schalm
REFRESH-INTERVAL;VALUE=DURATION:PT1H
X-Robots-Tag:noindex
X-PUBLISHED-TTL:PT1H
BEGIN:VTIMEZONE
TZID:UTC
BEGIN:STANDARD
TZOFFSETFROM:+0000
TZOFFSETTO:+0000
TZNAME:UTC
DTSTART:20240101T000000
END:STANDARD
END:VTIMEZONE
BEGIN:VEVENT
DTSTART;TZID=UTC:20260130T100000
DTEND;TZID=UTC:20260130T140000
DTSTAMP:20260423T012505
CREATED:20251230T131152Z
LAST-MODIFIED:20260309T131703Z
UID:10000748-1769767200-1769781600@schalmdemeern.nl
SUMMARY:Haak & Brei Café
DESCRIPTION:
URL:https://schalmdemeern.nl/event/haak-brei-cafe/2026-01-30/
LOCATION:Barzaal
ORGANIZER;CN="De Schalm":MAILTO:info@schalmdemeern.nl
END:VEVENT
BEGIN:VEVENT
DTSTART;TZID=UTC:20260128T100000
DTEND;TZID=UTC:20260128T120000
DTSTAMP:20260423T012505
CREATED:20260105T120323Z
LAST-MODIFIED:20260105T120323Z
UID:10001008-1769594400-1769601600@schalmdemeern.nl
SUMMARY:Huiskamer van de Wijk
DESCRIPTION:Neem je buren of vrienden mee en kom gezellig langs voor een potje rummikub\, kaarten of een ander spelletje.
URL:https://schalmdemeern.nl/event/huiskamer-van-de-wijk-3/2026-01-28/
LOCATION:Barzaal
ATTACH;FMTTYPE=image/jpeg:https://schalmdemeern.nl/wp-content/uploads/2026/01/huiskamer-van-de-wijk.jpg
ORGANIZER;CN="De Schalm":MAILTO:info@schalmdemeern.nl
END:VEVENT
BEGIN:VEVENT
DTSTART;TZID=UTC:20260123T100000
DTEND;TZID=UTC:20260123T140000
DTSTAMP:20260423T012505
CREATED:20251230T131152Z
LAST-MODIFIED:20260309T131703Z
UID:10000747-1769162400-1769176800@schalmdemeern.nl
SUMMARY:Haak & Brei Café
DESCRIPTION:
URL:https://schalmdemeern.nl/event/haak-brei-cafe/2026-01-23/
LOCATION:Barzaal
ORGANIZER;CN="De Schalm":MAILTO:info@schalmdemeern.nl
END:VEVENT
BEGIN:VEVENT
DTSTART;TZID=UTC:20260121T100000
DTEND;TZID=UTC:20260121T120000
DTSTAMP:20260423T012505
CREATED:20260105T120323Z
LAST-MODIFIED:20260105T120323Z
UID:10001007-1768989600-1768996800@schalmdemeern.nl
SUMMARY:Huiskamer van de Wijk
DESCRIPTION:Neem je buren of vrienden mee en kom gezellig langs voor een potje rummikub\, kaarten of een ander spelletje.
URL:https://schalmdemeern.nl/event/huiskamer-van-de-wijk-3/2026-01-21/
LOCATION:Barzaal
ATTACH;FMTTYPE=image/jpeg:https://schalmdemeern.nl/wp-content/uploads/2026/01/huiskamer-van-de-wijk.jpg
ORGANIZER;CN="De Schalm":MAILTO:info@schalmdemeern.nl
END:VEVENT
BEGIN:VEVENT
DTSTART;TZID=UTC:20260119T170000
DTEND;TZID=UTC:20260119T190000
DTSTAMP:20260423T012505
CREATED:20251219T135833Z
LAST-MODIFIED:20251219T135833Z
UID:10000053-1768842000-1768849200@schalmdemeern.nl
SUMMARY:Buurthap! 🥣🥖
DESCRIPTION:Vandaag heerlijke erwtensoep met worst en stokbrood.
URL:https://schalmdemeern.nl/event/buurthap-%f0%9f%a5%a3%f0%9f%a5%96/
LOCATION:Barzaal
ATTACH;FMTTYPE=image/jpeg:https://schalmdemeern.nl/wp-content/uploads/2025/12/buurthapjan26.jpg
ORGANIZER;CN="De Schalm":MAILTO:info@schalmdemeern.nl
END:VEVENT
BEGIN:VEVENT
DTSTART;TZID=UTC:20260116T100000
DTEND;TZID=UTC:20260116T140000
DTSTAMP:20260423T012505
CREATED:20251230T131152Z
LAST-MODIFIED:20260309T131703Z
UID:10000746-1768557600-1768572000@schalmdemeern.nl
SUMMARY:Haak & Brei Café
DESCRIPTION:
URL:https://schalmdemeern.nl/event/haak-brei-cafe/2026-01-16/
LOCATION:Barzaal
ORGANIZER;CN="De Schalm":MAILTO:info@schalmdemeern.nl
END:VEVENT
BEGIN:VEVENT
DTSTART;TZID=UTC:20260114T100000
DTEND;TZID=UTC:20260114T120000
DTSTAMP:20260423T012505
CREATED:20260105T120323Z
LAST-MODIFIED:20260105T120323Z
UID:10001006-1768384800-1768392000@schalmdemeern.nl
SUMMARY:Huiskamer van de Wijk
DESCRIPTION:Neem je buren of vrienden mee en kom gezellig langs voor een potje rummikub\, kaarten of een ander spelletje.
URL:https://schalmdemeern.nl/event/huiskamer-van-de-wijk-3/2026-01-14/
LOCATION:Barzaal
ATTACH;FMTTYPE=image/jpeg:https://schalmdemeern.nl/wp-content/uploads/2026/01/huiskamer-van-de-wijk.jpg
ORGANIZER;CN="De Schalm":MAILTO:info@schalmdemeern.nl
END:VEVENT
BEGIN:VEVENT
DTSTART;TZID=UTC:20260109T100000
DTEND;TZID=UTC:20260109T140000
DTSTAMP:20260423T012505
CREATED:20251230T131152Z
LAST-MODIFIED:20260309T131703Z
UID:10000745-1767952800-1767967200@schalmdemeern.nl
SUMMARY:Haak & Brei Café
DESCRIPTION:
URL:https://schalmdemeern.nl/event/haak-brei-cafe/2026-01-09/
LOCATION:Barzaal
ORGANIZER;CN="De Schalm":MAILTO:info@schalmdemeern.nl
END:VEVENT
BEGIN:VEVENT
DTSTART;TZID=UTC:20260107T100000
DTEND;TZID=UTC:20260107T120000
DTSTAMP:20260423T012505
CREATED:20260105T120323Z
LAST-MODIFIED:20260105T120323Z
UID:10001005-1767780000-1767787200@schalmdemeern.nl
SUMMARY:Huiskamer van de Wijk
DESCRIPTION:Neem je buren of vrienden mee en kom gezellig langs voor een potje rummikub\, kaarten of een ander spelletje.
URL:https://schalmdemeern.nl/event/huiskamer-van-de-wijk-3/2026-01-07/
LOCATION:Barzaal
ATTACH;FMTTYPE=image/jpeg:https://schalmdemeern.nl/wp-content/uploads/2026/01/huiskamer-van-de-wijk.jpg
ORGANIZER;CN="De Schalm":MAILTO:info@schalmdemeern.nl
END:VEVENT
BEGIN:VEVENT
DTSTART;TZID=UTC:20260105T170000
DTEND;TZID=UTC:20260105T190000
DTSTAMP:20260423T012505
CREATED:20251219T135123Z
LAST-MODIFIED:20260105T092438Z
UID:10000052-1767632400-1767639600@schalmdemeern.nl
SUMMARY:Buurthap GEANNULEERD 🥂
DESCRIPTION:Buurthap is helaas geannuleerd door weersomstandigheden.
URL:https://schalmdemeern.nl/event/buurthap%f0%9f%a5%82/
LOCATION:Barzaal
ATTACH;FMTTYPE=image/jpeg:https://schalmdemeern.nl/wp-content/uploads/2025/12/buurthapjan26.jpg
ORGANIZER;CN="De Schalm":MAILTO:info@schalmdemeern.nl
END:VEVENT
BEGIN:VEVENT
DTSTART;TZID=UTC:20251231T100000
DTEND;TZID=UTC:20251231T130000
DTSTAMP:20260423T012505
CREATED:20251229T124945Z
LAST-MODIFIED:20251229T124945Z
UID:10000736-1767175200-1767186000@schalmdemeern.nl
SUMMARY:31-12-2025 zijn wij open! Van 10:00 tot 13:00 uur.
DESCRIPTION:Beste bewoners\, \nIedereen is van harte welkom om binnen te lopen!
URL:https://schalmdemeern.nl/event/31-12-2025-zijn-wij-open-van-1000-tot-1300-uur/
LOCATION:Barzaal
ATTACH;FMTTYPE=image/jpeg:https://schalmdemeern.nl/wp-content/uploads/2025/12/31-december-open.jpg
ORGANIZER;CN="De Schalm":MAILTO:info@schalmdemeern.nl
END:VEVENT
BEGIN:VEVENT
DTSTART;TZID=UTC:20251201T170000
DTEND;TZID=UTC:20251201T190000
DTSTAMP:20260423T012505
CREATED:20251112T111921Z
LAST-MODIFIED:20251112T131409Z
UID:10000048-1764608400-1764615600@schalmdemeern.nl
SUMMARY:Buurthap
DESCRIPTION:
URL:https://schalmdemeern.nl/event/buurthap-2/
LOCATION:Barzaal
ATTACH;FMTTYPE=image/jpeg:https://schalmdemeern.nl/wp-content/uploads/2025/11/aanpassing3buurthapnov25.jpg
ORGANIZER;CN="De Schalm":MAILTO:info@schalmdemeern.nl
END:VEVENT
BEGIN:VEVENT
DTSTART;TZID=UTC:20251129T100000
DTEND;TZID=UTC:20251129T120000
DTSTAMP:20260423T012505
CREATED:20251119T091101Z
LAST-MODIFIED:20251119T091101Z
UID:10000050-1764410400-1764417600@schalmdemeern.nl
SUMMARY:Inzameling spullen snuffelmarkt
DESCRIPTION:Inbreng spullen rommelmarkt: iedere zaterdag tot en met 17 januari 2026 van 10.00-12.00 in De Schalm. \nLet op: alleen kleine\, handzame spullen van goede kwaliteit.
URL:https://schalmdemeern.nl/event/inzameling-spullen-snuffelmarkt-2/
LOCATION:Barzaal
ORGANIZER;CN="De Schalm":MAILTO:info@schalmdemeern.nl
END:VEVENT
BEGIN:VEVENT
DTSTART;TZID=UTC:20251126T100000
DTEND;TZID=UTC:20251126T120000
DTSTAMP:20260423T012505
CREATED:20251023T104553Z
LAST-MODIFIED:20251112T110322Z
UID:10000026-1764151200-1764158400@schalmdemeern.nl
SUMMARY:Huiskamer van de Wijk
DESCRIPTION:De Huiskamer is er elke woensdagochtend in De Schalm voor álle buurtbewoners. \nIedereen kan gewoon binnenlopen om een kop koffie te drinken\, maar ook deelnemen aan allerlei activiteiten die vanuit de Huiskamer worden georganiseerd. Zoals biljarten\, wandelclub\, jeu des boules en dergelijke. Een aantal dagdelen per week zijn beroepskrachten aanwezig. Mensen uit de buurt worden gestimuleerd zo veel mogelijk activiteiten zelf te organiseren\, als het nodig is met professionele ondersteuning. Zo wordt het echt hún Huiskamer. Iedere buurtbewoner kan\, binnen zijn of haar eigen mogelijkheden\, op een vanzelfsprekende manier deelnemen!
URL:https://schalmdemeern.nl/event/huiskamer-van-de-wijk/
LOCATION:Barzaal
CATEGORIES:Bijeenkomst
ORGANIZER;CN="De Schalm":MAILTO:info@schalmdemeern.nl
END:VEVENT
BEGIN:VEVENT
DTSTART;TZID=UTC:20251122T100000
DTEND;TZID=UTC:20251122T120000
DTSTAMP:20260423T012505
CREATED:20251118T112929Z
LAST-MODIFIED:20251119T090506Z
UID:10000049-1763805600-1763812800@schalmdemeern.nl
SUMMARY:Inzameling spullen snuffelmarkt
DESCRIPTION:Inbreng spullen rommelmarkt: iedere zaterdag tot en met 17 januari 2026 van 10.00-12.00 in De Schalm. \nLet op: alleen kleine\, handzame spullen van goede kwaliteit.
URL:https://schalmdemeern.nl/event/inzameling-spullen-snuffelmarkt/
LOCATION:Barzaal
ORGANIZER;CN="De Schalm":MAILTO:info@schalmdemeern.nl
END:VEVENT
BEGIN:VEVENT
DTSTART;TZID=UTC:20251119T100000
DTEND;TZID=UTC:20251119T120000
DTSTAMP:20260423T012505
CREATED:20251023T113340Z
LAST-MODIFIED:20251112T110309Z
UID:10000040-1763546400-1763553600@schalmdemeern.nl
SUMMARY:Huiskamer van de Wijk
DESCRIPTION:De Huiskamer is er elke woensdagochtend in De Schalm voor álle buurtbewoners. \nIedereen kan gewoon binnenlopen om een kop koffie te drinken\, maar ook deelnemen aan allerlei activiteiten die vanuit de Huiskamer worden georganiseerd. Zoals biljarten\, wandelclub\, jeu des boules en dergelijke. Een aantal dagdelen per week zijn beroepskrachten aanwezig. Mensen uit de buurt worden gestimuleerd zo veel mogelijk activiteiten zelf te organiseren\, als het nodig is met professionele ondersteuning. Zo wordt het echt hún Huiskamer. Iedere buurtbewoner kan\, binnen zijn of haar eigen mogelijkheden\, op een vanzelfsprekende manier deelnemen!
URL:https://schalmdemeern.nl/event/huiskamer-van-de-wijk-2/
LOCATION:Barzaal
CATEGORIES:Bijeenkomst
ORGANIZER;CN="De Schalm":MAILTO:info@schalmdemeern.nl
END:VEVENT
BEGIN:VEVENT
DTSTART;TZID=UTC:20251117T170000
DTEND;TZID=UTC:20251117T190000
DTSTAMP:20260423T012505
CREATED:20251112T111655Z
LAST-MODIFIED:20251112T111655Z
UID:10000047-1763398800-1763406000@schalmdemeern.nl
SUMMARY:Buurthap
DESCRIPTION:
URL:https://schalmdemeern.nl/event/buurthap/
LOCATION:Barzaal
ATTACH;FMTTYPE=image/jpeg:https://schalmdemeern.nl/wp-content/uploads/2025/11/november.jpg
ORGANIZER;CN="De Schalm":MAILTO:info@schalmdemeern.nl
END:VEVENT
BEGIN:VEVENT
DTSTART;TZID=UTC:20251114T100000
DTEND;TZID=UTC:20251114T120000
DTSTAMP:20260423T012505
CREATED:20251023T113507Z
LAST-MODIFIED:20251023T113507Z
UID:10000043-1763114400-1763121600@schalmdemeern.nl
SUMMARY:Haak en brei café
DESCRIPTION:Gezellig onder het genot van een bakje koffie samen allerlei vormen van handwerk maken! \nElke vrijdag vanaf 10:00 tot 12:00.
URL:https://schalmdemeern.nl/event/haak-en-brei-cafe-2/
LOCATION:Barzaal
CATEGORIES:Bijeenkomst
ORGANIZER;CN="De Schalm":MAILTO:info@schalmdemeern.nl
END:VEVENT
END:VCALENDAR