BEGIN:VCALENDAR
VERSION:2.0
PRODID:-//De Schalm - ECPv6.15.18//NONSGML v1.0//EN
CALSCALE:GREGORIAN
METHOD:PUBLISH
X-ORIGINAL-URL:https://schalmdemeern.nl
X-WR-CALDESC:Evenementen voor De Schalm
REFRESH-INTERVAL;VALUE=DURATION:PT1H
X-Robots-Tag:noindex
X-PUBLISHED-TTL:PT1H
BEGIN:VTIMEZONE
TZID:UTC
BEGIN:STANDARD
TZOFFSETFROM:+0000
TZOFFSETTO:+0000
TZNAME:UTC
DTSTART:20260101T000000
END:STANDARD
END:VTIMEZONE
BEGIN:VEVENT
DTSTART;TZID=UTC:20271022T100000
DTEND;TZID=UTC:20271022T140000
DTSTAMP:20260424T125536
CREATED:20251230T131152Z
LAST-MODIFIED:20260309T131703Z
UID:10000838-1824199200-1824213600@schalmdemeern.nl
SUMMARY:Haak & Brei Café
DESCRIPTION:
URL:https://schalmdemeern.nl/event/haak-brei-cafe/2027-10-22/
LOCATION:Barzaal
ORGANIZER;CN="De Schalm":MAILTO:info@schalmdemeern.nl
END:VEVENT
BEGIN:VEVENT
DTSTART;TZID=UTC:20271027T100000
DTEND;TZID=UTC:20271027T120000
DTSTAMP:20260424T125536
CREATED:20260105T120323Z
LAST-MODIFIED:20260105T120323Z
UID:10001099-1824631200-1824638400@schalmdemeern.nl
SUMMARY:Huiskamer van de Wijk
DESCRIPTION:Neem je buren of vrienden mee en kom gezellig langs voor een potje rummikub\, kaarten of een ander spelletje.
URL:https://schalmdemeern.nl/event/huiskamer-van-de-wijk-3/2027-10-27/
LOCATION:Barzaal
ATTACH;FMTTYPE=image/jpeg:https://schalmdemeern.nl/wp-content/uploads/2026/01/huiskamer-van-de-wijk.jpg
ORGANIZER;CN="De Schalm":MAILTO:info@schalmdemeern.nl
END:VEVENT
BEGIN:VEVENT
DTSTART;TZID=UTC:20271029T100000
DTEND;TZID=UTC:20271029T140000
DTSTAMP:20260424T125536
CREATED:20251230T131152Z
LAST-MODIFIED:20260309T131703Z
UID:10000839-1824804000-1824818400@schalmdemeern.nl
SUMMARY:Haak & Brei Café
DESCRIPTION:
URL:https://schalmdemeern.nl/event/haak-brei-cafe/2027-10-29/
LOCATION:Barzaal
ORGANIZER;CN="De Schalm":MAILTO:info@schalmdemeern.nl
END:VEVENT
BEGIN:VEVENT
DTSTART;TZID=UTC:20271103T100000
DTEND;TZID=UTC:20271103T120000
DTSTAMP:20260424T125536
CREATED:20260105T120323Z
LAST-MODIFIED:20260105T120323Z
UID:10001100-1825236000-1825243200@schalmdemeern.nl
SUMMARY:Huiskamer van de Wijk
DESCRIPTION:Neem je buren of vrienden mee en kom gezellig langs voor een potje rummikub\, kaarten of een ander spelletje.
URL:https://schalmdemeern.nl/event/huiskamer-van-de-wijk-3/2027-11-03/
LOCATION:Barzaal
ATTACH;FMTTYPE=image/jpeg:https://schalmdemeern.nl/wp-content/uploads/2026/01/huiskamer-van-de-wijk.jpg
ORGANIZER;CN="De Schalm":MAILTO:info@schalmdemeern.nl
END:VEVENT
BEGIN:VEVENT
DTSTART;TZID=UTC:20271105T100000
DTEND;TZID=UTC:20271105T140000
DTSTAMP:20260424T125536
CREATED:20251230T131152Z
LAST-MODIFIED:20260309T131703Z
UID:10000840-1825408800-1825423200@schalmdemeern.nl
SUMMARY:Haak & Brei Café
DESCRIPTION:
URL:https://schalmdemeern.nl/event/haak-brei-cafe/2027-11-05/
LOCATION:Barzaal
ORGANIZER;CN="De Schalm":MAILTO:info@schalmdemeern.nl
END:VEVENT
BEGIN:VEVENT
DTSTART;TZID=UTC:20271110T100000
DTEND;TZID=UTC:20271110T120000
DTSTAMP:20260424T125536
CREATED:20260105T120323Z
LAST-MODIFIED:20260105T120323Z
UID:10001101-1825840800-1825848000@schalmdemeern.nl
SUMMARY:Huiskamer van de Wijk
DESCRIPTION:Neem je buren of vrienden mee en kom gezellig langs voor een potje rummikub\, kaarten of een ander spelletje.
URL:https://schalmdemeern.nl/event/huiskamer-van-de-wijk-3/2027-11-10/
LOCATION:Barzaal
ATTACH;FMTTYPE=image/jpeg:https://schalmdemeern.nl/wp-content/uploads/2026/01/huiskamer-van-de-wijk.jpg
ORGANIZER;CN="De Schalm":MAILTO:info@schalmdemeern.nl
END:VEVENT
BEGIN:VEVENT
DTSTART;TZID=UTC:20271112T100000
DTEND;TZID=UTC:20271112T140000
DTSTAMP:20260424T125536
CREATED:20251230T131152Z
LAST-MODIFIED:20260309T131703Z
UID:10000841-1826013600-1826028000@schalmdemeern.nl
SUMMARY:Haak & Brei Café
DESCRIPTION:
URL:https://schalmdemeern.nl/event/haak-brei-cafe/2027-11-12/
LOCATION:Barzaal
ORGANIZER;CN="De Schalm":MAILTO:info@schalmdemeern.nl
END:VEVENT
BEGIN:VEVENT
DTSTART;TZID=UTC:20271117T100000
DTEND;TZID=UTC:20271117T120000
DTSTAMP:20260424T125536
CREATED:20260105T120323Z
LAST-MODIFIED:20260105T120323Z
UID:10001102-1826445600-1826452800@schalmdemeern.nl
SUMMARY:Huiskamer van de Wijk
DESCRIPTION:Neem je buren of vrienden mee en kom gezellig langs voor een potje rummikub\, kaarten of een ander spelletje.
URL:https://schalmdemeern.nl/event/huiskamer-van-de-wijk-3/2027-11-17/
LOCATION:Barzaal
ATTACH;FMTTYPE=image/jpeg:https://schalmdemeern.nl/wp-content/uploads/2026/01/huiskamer-van-de-wijk.jpg
ORGANIZER;CN="De Schalm":MAILTO:info@schalmdemeern.nl
END:VEVENT
BEGIN:VEVENT
DTSTART;TZID=UTC:20271119T100000
DTEND;TZID=UTC:20271119T140000
DTSTAMP:20260424T125536
CREATED:20251230T131152Z
LAST-MODIFIED:20260309T131703Z
UID:10000842-1826618400-1826632800@schalmdemeern.nl
SUMMARY:Haak & Brei Café
DESCRIPTION:
URL:https://schalmdemeern.nl/event/haak-brei-cafe/2027-11-19/
LOCATION:Barzaal
ORGANIZER;CN="De Schalm":MAILTO:info@schalmdemeern.nl
END:VEVENT
BEGIN:VEVENT
DTSTART;TZID=UTC:20271124T100000
DTEND;TZID=UTC:20271124T120000
DTSTAMP:20260424T125536
CREATED:20260105T120323Z
LAST-MODIFIED:20260105T120323Z
UID:10001103-1827050400-1827057600@schalmdemeern.nl
SUMMARY:Huiskamer van de Wijk
DESCRIPTION:Neem je buren of vrienden mee en kom gezellig langs voor een potje rummikub\, kaarten of een ander spelletje.
URL:https://schalmdemeern.nl/event/huiskamer-van-de-wijk-3/2027-11-24/
LOCATION:Barzaal
ATTACH;FMTTYPE=image/jpeg:https://schalmdemeern.nl/wp-content/uploads/2026/01/huiskamer-van-de-wijk.jpg
ORGANIZER;CN="De Schalm":MAILTO:info@schalmdemeern.nl
END:VEVENT
BEGIN:VEVENT
DTSTART;TZID=UTC:20271126T100000
DTEND;TZID=UTC:20271126T140000
DTSTAMP:20260424T125536
CREATED:20251230T131152Z
LAST-MODIFIED:20260309T131703Z
UID:10000843-1827223200-1827237600@schalmdemeern.nl
SUMMARY:Haak & Brei Café
DESCRIPTION:
URL:https://schalmdemeern.nl/event/haak-brei-cafe/2027-11-26/
LOCATION:Barzaal
ORGANIZER;CN="De Schalm":MAILTO:info@schalmdemeern.nl
END:VEVENT
BEGIN:VEVENT
DTSTART;TZID=UTC:20271201T100000
DTEND;TZID=UTC:20271201T120000
DTSTAMP:20260424T125536
CREATED:20260105T120323Z
LAST-MODIFIED:20260105T120323Z
UID:10001104-1827655200-1827662400@schalmdemeern.nl
SUMMARY:Huiskamer van de Wijk
DESCRIPTION:Neem je buren of vrienden mee en kom gezellig langs voor een potje rummikub\, kaarten of een ander spelletje.
URL:https://schalmdemeern.nl/event/huiskamer-van-de-wijk-3/2027-12-01/
LOCATION:Barzaal
ATTACH;FMTTYPE=image/jpeg:https://schalmdemeern.nl/wp-content/uploads/2026/01/huiskamer-van-de-wijk.jpg
ORGANIZER;CN="De Schalm":MAILTO:info@schalmdemeern.nl
END:VEVENT
BEGIN:VEVENT
DTSTART;TZID=UTC:20271203T100000
DTEND;TZID=UTC:20271203T140000
DTSTAMP:20260424T125536
CREATED:20251230T131152Z
LAST-MODIFIED:20260309T131703Z
UID:10000844-1827828000-1827842400@schalmdemeern.nl
SUMMARY:Haak & Brei Café
DESCRIPTION:
URL:https://schalmdemeern.nl/event/haak-brei-cafe/2027-12-03/
LOCATION:Barzaal
ORGANIZER;CN="De Schalm":MAILTO:info@schalmdemeern.nl
END:VEVENT
BEGIN:VEVENT
DTSTART;TZID=UTC:20271208T100000
DTEND;TZID=UTC:20271208T120000
DTSTAMP:20260424T125536
CREATED:20260105T120323Z
LAST-MODIFIED:20260105T120323Z
UID:10001105-1828260000-1828267200@schalmdemeern.nl
SUMMARY:Huiskamer van de Wijk
DESCRIPTION:Neem je buren of vrienden mee en kom gezellig langs voor een potje rummikub\, kaarten of een ander spelletje.
URL:https://schalmdemeern.nl/event/huiskamer-van-de-wijk-3/2027-12-08/
LOCATION:Barzaal
ATTACH;FMTTYPE=image/jpeg:https://schalmdemeern.nl/wp-content/uploads/2026/01/huiskamer-van-de-wijk.jpg
ORGANIZER;CN="De Schalm":MAILTO:info@schalmdemeern.nl
END:VEVENT
BEGIN:VEVENT
DTSTART;TZID=UTC:20271210T100000
DTEND;TZID=UTC:20271210T140000
DTSTAMP:20260424T125536
CREATED:20251230T131152Z
LAST-MODIFIED:20260309T131703Z
UID:10000845-1828432800-1828447200@schalmdemeern.nl
SUMMARY:Haak & Brei Café
DESCRIPTION:
URL:https://schalmdemeern.nl/event/haak-brei-cafe/2027-12-10/
LOCATION:Barzaal
ORGANIZER;CN="De Schalm":MAILTO:info@schalmdemeern.nl
END:VEVENT
BEGIN:VEVENT
DTSTART;TZID=UTC:20271215T100000
DTEND;TZID=UTC:20271215T120000
DTSTAMP:20260424T125536
CREATED:20260105T120323Z
LAST-MODIFIED:20260105T120323Z
UID:10001106-1828864800-1828872000@schalmdemeern.nl
SUMMARY:Huiskamer van de Wijk
DESCRIPTION:Neem je buren of vrienden mee en kom gezellig langs voor een potje rummikub\, kaarten of een ander spelletje.
URL:https://schalmdemeern.nl/event/huiskamer-van-de-wijk-3/2027-12-15/
LOCATION:Barzaal
ATTACH;FMTTYPE=image/jpeg:https://schalmdemeern.nl/wp-content/uploads/2026/01/huiskamer-van-de-wijk.jpg
ORGANIZER;CN="De Schalm":MAILTO:info@schalmdemeern.nl
END:VEVENT
BEGIN:VEVENT
DTSTART;TZID=UTC:20271217T100000
DTEND;TZID=UTC:20271217T140000
DTSTAMP:20260424T125536
CREATED:20251230T131152Z
LAST-MODIFIED:20260309T131703Z
UID:10000846-1829037600-1829052000@schalmdemeern.nl
SUMMARY:Haak & Brei Café
DESCRIPTION:
URL:https://schalmdemeern.nl/event/haak-brei-cafe/2027-12-17/
LOCATION:Barzaal
ORGANIZER;CN="De Schalm":MAILTO:info@schalmdemeern.nl
END:VEVENT
BEGIN:VEVENT
DTSTART;TZID=UTC:20271222T100000
DTEND;TZID=UTC:20271222T120000
DTSTAMP:20260424T125536
CREATED:20260105T120323Z
LAST-MODIFIED:20260105T120323Z
UID:10001107-1829469600-1829476800@schalmdemeern.nl
SUMMARY:Huiskamer van de Wijk
DESCRIPTION:Neem je buren of vrienden mee en kom gezellig langs voor een potje rummikub\, kaarten of een ander spelletje.
URL:https://schalmdemeern.nl/event/huiskamer-van-de-wijk-3/2027-12-22/
LOCATION:Barzaal
ATTACH;FMTTYPE=image/jpeg:https://schalmdemeern.nl/wp-content/uploads/2026/01/huiskamer-van-de-wijk.jpg
ORGANIZER;CN="De Schalm":MAILTO:info@schalmdemeern.nl
END:VEVENT
BEGIN:VEVENT
DTSTART;TZID=UTC:20271224T100000
DTEND;TZID=UTC:20271224T140000
DTSTAMP:20260424T125536
CREATED:20251230T131152Z
LAST-MODIFIED:20260309T131703Z
UID:10000847-1829642400-1829656800@schalmdemeern.nl
SUMMARY:Haak & Brei Café
DESCRIPTION:
URL:https://schalmdemeern.nl/event/haak-brei-cafe/2027-12-24/
LOCATION:Barzaal
ORGANIZER;CN="De Schalm":MAILTO:info@schalmdemeern.nl
END:VEVENT
BEGIN:VEVENT
DTSTART;TZID=UTC:20271229T100000
DTEND;TZID=UTC:20271229T120000
DTSTAMP:20260424T125536
CREATED:20260105T120323Z
LAST-MODIFIED:20260105T120323Z
UID:10001108-1830074400-1830081600@schalmdemeern.nl
SUMMARY:Huiskamer van de Wijk
DESCRIPTION:Neem je buren of vrienden mee en kom gezellig langs voor een potje rummikub\, kaarten of een ander spelletje.
URL:https://schalmdemeern.nl/event/huiskamer-van-de-wijk-3/2027-12-29/
LOCATION:Barzaal
ATTACH;FMTTYPE=image/jpeg:https://schalmdemeern.nl/wp-content/uploads/2026/01/huiskamer-van-de-wijk.jpg
ORGANIZER;CN="De Schalm":MAILTO:info@schalmdemeern.nl
END:VEVENT
BEGIN:VEVENT
DTSTART;TZID=UTC:20271231T100000
DTEND;TZID=UTC:20271231T140000
DTSTAMP:20260424T125536
CREATED:20251230T131152Z
LAST-MODIFIED:20260309T131703Z
UID:10000848-1830247200-1830261600@schalmdemeern.nl
SUMMARY:Haak & Brei Café
DESCRIPTION:
URL:https://schalmdemeern.nl/event/haak-brei-cafe/2027-12-31/
LOCATION:Barzaal
ORGANIZER;CN="De Schalm":MAILTO:info@schalmdemeern.nl
END:VEVENT
BEGIN:VEVENT
DTSTART;TZID=UTC:20280105T100000
DTEND;TZID=UTC:20280105T120000
DTSTAMP:20260424T125536
CREATED:20260105T120323Z
LAST-MODIFIED:20260105T120323Z
UID:10001109-1830679200-1830686400@schalmdemeern.nl
SUMMARY:Huiskamer van de Wijk
DESCRIPTION:Neem je buren of vrienden mee en kom gezellig langs voor een potje rummikub\, kaarten of een ander spelletje.
URL:https://schalmdemeern.nl/event/huiskamer-van-de-wijk-3/2028-01-05/
LOCATION:Barzaal
ATTACH;FMTTYPE=image/jpeg:https://schalmdemeern.nl/wp-content/uploads/2026/01/huiskamer-van-de-wijk.jpg
ORGANIZER;CN="De Schalm":MAILTO:info@schalmdemeern.nl
END:VEVENT
BEGIN:VEVENT
DTSTART;TZID=UTC:20280107T100000
DTEND;TZID=UTC:20280107T140000
DTSTAMP:20260424T125536
CREATED:20251230T131152Z
LAST-MODIFIED:20260309T131703Z
UID:10000849-1830852000-1830866400@schalmdemeern.nl
SUMMARY:Haak & Brei Café
DESCRIPTION:
URL:https://schalmdemeern.nl/event/haak-brei-cafe/2028-01-07/
LOCATION:Barzaal
ORGANIZER;CN="De Schalm":MAILTO:info@schalmdemeern.nl
END:VEVENT
BEGIN:VEVENT
DTSTART;TZID=UTC:20280112T100000
DTEND;TZID=UTC:20280112T120000
DTSTAMP:20260424T125536
CREATED:20260105T120323Z
LAST-MODIFIED:20260105T120323Z
UID:10001110-1831284000-1831291200@schalmdemeern.nl
SUMMARY:Huiskamer van de Wijk
DESCRIPTION:Neem je buren of vrienden mee en kom gezellig langs voor een potje rummikub\, kaarten of een ander spelletje.
URL:https://schalmdemeern.nl/event/huiskamer-van-de-wijk-3/2028-01-12/
LOCATION:Barzaal
ATTACH;FMTTYPE=image/jpeg:https://schalmdemeern.nl/wp-content/uploads/2026/01/huiskamer-van-de-wijk.jpg
ORGANIZER;CN="De Schalm":MAILTO:info@schalmdemeern.nl
END:VEVENT
BEGIN:VEVENT
DTSTART;TZID=UTC:20280114T100000
DTEND;TZID=UTC:20280114T140000
DTSTAMP:20260424T125536
CREATED:20251230T131152Z
LAST-MODIFIED:20260309T131703Z
UID:10000850-1831456800-1831471200@schalmdemeern.nl
SUMMARY:Haak & Brei Café
DESCRIPTION:
URL:https://schalmdemeern.nl/event/haak-brei-cafe/2028-01-14/
LOCATION:Barzaal
ORGANIZER;CN="De Schalm":MAILTO:info@schalmdemeern.nl
END:VEVENT
BEGIN:VEVENT
DTSTART;TZID=UTC:20280119T100000
DTEND;TZID=UTC:20280119T120000
DTSTAMP:20260424T125536
CREATED:20260105T120323Z
LAST-MODIFIED:20260105T120323Z
UID:10001111-1831888800-1831896000@schalmdemeern.nl
SUMMARY:Huiskamer van de Wijk
DESCRIPTION:Neem je buren of vrienden mee en kom gezellig langs voor een potje rummikub\, kaarten of een ander spelletje.
URL:https://schalmdemeern.nl/event/huiskamer-van-de-wijk-3/2028-01-19/
LOCATION:Barzaal
ATTACH;FMTTYPE=image/jpeg:https://schalmdemeern.nl/wp-content/uploads/2026/01/huiskamer-van-de-wijk.jpg
ORGANIZER;CN="De Schalm":MAILTO:info@schalmdemeern.nl
END:VEVENT
BEGIN:VEVENT
DTSTART;TZID=UTC:20280121T100000
DTEND;TZID=UTC:20280121T140000
DTSTAMP:20260424T125536
CREATED:20251230T131152Z
LAST-MODIFIED:20260309T131703Z
UID:10000851-1832061600-1832076000@schalmdemeern.nl
SUMMARY:Haak & Brei Café
DESCRIPTION:
URL:https://schalmdemeern.nl/event/haak-brei-cafe/2028-01-21/
LOCATION:Barzaal
ORGANIZER;CN="De Schalm":MAILTO:info@schalmdemeern.nl
END:VEVENT
BEGIN:VEVENT
DTSTART;TZID=UTC:20280126T100000
DTEND;TZID=UTC:20280126T120000
DTSTAMP:20260424T125536
CREATED:20260105T120323Z
LAST-MODIFIED:20260105T120323Z
UID:10001112-1832493600-1832500800@schalmdemeern.nl
SUMMARY:Huiskamer van de Wijk
DESCRIPTION:Neem je buren of vrienden mee en kom gezellig langs voor een potje rummikub\, kaarten of een ander spelletje.
URL:https://schalmdemeern.nl/event/huiskamer-van-de-wijk-3/2028-01-26/
LOCATION:Barzaal
ATTACH;FMTTYPE=image/jpeg:https://schalmdemeern.nl/wp-content/uploads/2026/01/huiskamer-van-de-wijk.jpg
ORGANIZER;CN="De Schalm":MAILTO:info@schalmdemeern.nl
END:VEVENT
BEGIN:VEVENT
DTSTART;TZID=UTC:20280128T100000
DTEND;TZID=UTC:20280128T140000
DTSTAMP:20260424T125536
CREATED:20251230T131152Z
LAST-MODIFIED:20260309T131703Z
UID:10000852-1832666400-1832680800@schalmdemeern.nl
SUMMARY:Haak & Brei Café
DESCRIPTION:
URL:https://schalmdemeern.nl/event/haak-brei-cafe/2028-01-28/
LOCATION:Barzaal
ORGANIZER;CN="De Schalm":MAILTO:info@schalmdemeern.nl
END:VEVENT
BEGIN:VEVENT
DTSTART;TZID=UTC:20280202T100000
DTEND;TZID=UTC:20280202T120000
DTSTAMP:20260424T125536
CREATED:20260105T120323Z
LAST-MODIFIED:20260105T120323Z
UID:10001113-1833098400-1833105600@schalmdemeern.nl
SUMMARY:Huiskamer van de Wijk
DESCRIPTION:Neem je buren of vrienden mee en kom gezellig langs voor een potje rummikub\, kaarten of een ander spelletje.
URL:https://schalmdemeern.nl/event/huiskamer-van-de-wijk-3/2028-02-02/
LOCATION:Barzaal
ATTACH;FMTTYPE=image/jpeg:https://schalmdemeern.nl/wp-content/uploads/2026/01/huiskamer-van-de-wijk.jpg
ORGANIZER;CN="De Schalm":MAILTO:info@schalmdemeern.nl
END:VEVENT
END:VCALENDAR