BEGIN:VCALENDAR
VERSION:2.0
PRODID:-//De Schalm - ECPv6.15.18//NONSGML v1.0//EN
CALSCALE:GREGORIAN
METHOD:PUBLISH
X-WR-CALNAME:De Schalm
X-ORIGINAL-URL:https://schalmdemeern.nl
X-WR-CALDESC:Evenementen voor De Schalm
REFRESH-INTERVAL;VALUE=DURATION:PT1H
X-Robots-Tag:noindex
X-PUBLISHED-TTL:PT1H
BEGIN:VTIMEZONE
TZID:UTC
BEGIN:STANDARD
TZOFFSETFROM:+0000
TZOFFSETTO:+0000
TZNAME:UTC
DTSTART:20260101T000000
END:STANDARD
END:VTIMEZONE
BEGIN:VEVENT
DTSTART;TZID=UTC:20270507T100000
DTEND;TZID=UTC:20270507T140000
DTSTAMP:20260424T023148
CREATED:20251230T131152Z
LAST-MODIFIED:20260309T131703Z
UID:10000814-1809684000-1809698400@schalmdemeern.nl
SUMMARY:Haak & Brei Café
DESCRIPTION:
URL:https://schalmdemeern.nl/event/haak-brei-cafe/2027-05-07/
LOCATION:Barzaal
ORGANIZER;CN="De Schalm":MAILTO:info@schalmdemeern.nl
END:VEVENT
BEGIN:VEVENT
DTSTART;TZID=UTC:20270512T100000
DTEND;TZID=UTC:20270512T120000
DTSTAMP:20260424T023148
CREATED:20260105T120323Z
LAST-MODIFIED:20260105T120323Z
UID:10001075-1810116000-1810123200@schalmdemeern.nl
SUMMARY:Huiskamer van de Wijk
DESCRIPTION:Neem je buren of vrienden mee en kom gezellig langs voor een potje rummikub\, kaarten of een ander spelletje.
URL:https://schalmdemeern.nl/event/huiskamer-van-de-wijk-3/2027-05-12/
LOCATION:Barzaal
ATTACH;FMTTYPE=image/jpeg:https://schalmdemeern.nl/wp-content/uploads/2026/01/huiskamer-van-de-wijk.jpg
ORGANIZER;CN="De Schalm":MAILTO:info@schalmdemeern.nl
END:VEVENT
BEGIN:VEVENT
DTSTART;TZID=UTC:20270514T100000
DTEND;TZID=UTC:20270514T140000
DTSTAMP:20260424T023148
CREATED:20251230T131152Z
LAST-MODIFIED:20260309T131703Z
UID:10000815-1810288800-1810303200@schalmdemeern.nl
SUMMARY:Haak & Brei Café
DESCRIPTION:
URL:https://schalmdemeern.nl/event/haak-brei-cafe/2027-05-14/
LOCATION:Barzaal
ORGANIZER;CN="De Schalm":MAILTO:info@schalmdemeern.nl
END:VEVENT
BEGIN:VEVENT
DTSTART;TZID=UTC:20270519T100000
DTEND;TZID=UTC:20270519T120000
DTSTAMP:20260424T023148
CREATED:20260105T120323Z
LAST-MODIFIED:20260105T120323Z
UID:10001076-1810720800-1810728000@schalmdemeern.nl
SUMMARY:Huiskamer van de Wijk
DESCRIPTION:Neem je buren of vrienden mee en kom gezellig langs voor een potje rummikub\, kaarten of een ander spelletje.
URL:https://schalmdemeern.nl/event/huiskamer-van-de-wijk-3/2027-05-19/
LOCATION:Barzaal
ATTACH;FMTTYPE=image/jpeg:https://schalmdemeern.nl/wp-content/uploads/2026/01/huiskamer-van-de-wijk.jpg
ORGANIZER;CN="De Schalm":MAILTO:info@schalmdemeern.nl
END:VEVENT
BEGIN:VEVENT
DTSTART;TZID=UTC:20270521T100000
DTEND;TZID=UTC:20270521T140000
DTSTAMP:20260424T023148
CREATED:20251230T131152Z
LAST-MODIFIED:20260309T131703Z
UID:10000816-1810893600-1810908000@schalmdemeern.nl
SUMMARY:Haak & Brei Café
DESCRIPTION:
URL:https://schalmdemeern.nl/event/haak-brei-cafe/2027-05-21/
LOCATION:Barzaal
ORGANIZER;CN="De Schalm":MAILTO:info@schalmdemeern.nl
END:VEVENT
BEGIN:VEVENT
DTSTART;TZID=UTC:20270526T100000
DTEND;TZID=UTC:20270526T120000
DTSTAMP:20260424T023148
CREATED:20260105T120323Z
LAST-MODIFIED:20260105T120323Z
UID:10001077-1811325600-1811332800@schalmdemeern.nl
SUMMARY:Huiskamer van de Wijk
DESCRIPTION:Neem je buren of vrienden mee en kom gezellig langs voor een potje rummikub\, kaarten of een ander spelletje.
URL:https://schalmdemeern.nl/event/huiskamer-van-de-wijk-3/2027-05-26/
LOCATION:Barzaal
ATTACH;FMTTYPE=image/jpeg:https://schalmdemeern.nl/wp-content/uploads/2026/01/huiskamer-van-de-wijk.jpg
ORGANIZER;CN="De Schalm":MAILTO:info@schalmdemeern.nl
END:VEVENT
BEGIN:VEVENT
DTSTART;TZID=UTC:20270528T100000
DTEND;TZID=UTC:20270528T140000
DTSTAMP:20260424T023148
CREATED:20251230T131152Z
LAST-MODIFIED:20260309T131703Z
UID:10000817-1811498400-1811512800@schalmdemeern.nl
SUMMARY:Haak & Brei Café
DESCRIPTION:
URL:https://schalmdemeern.nl/event/haak-brei-cafe/2027-05-28/
LOCATION:Barzaal
ORGANIZER;CN="De Schalm":MAILTO:info@schalmdemeern.nl
END:VEVENT
BEGIN:VEVENT
DTSTART;TZID=UTC:20270602T100000
DTEND;TZID=UTC:20270602T120000
DTSTAMP:20260424T023148
CREATED:20260105T120323Z
LAST-MODIFIED:20260105T120323Z
UID:10001078-1811930400-1811937600@schalmdemeern.nl
SUMMARY:Huiskamer van de Wijk
DESCRIPTION:Neem je buren of vrienden mee en kom gezellig langs voor een potje rummikub\, kaarten of een ander spelletje.
URL:https://schalmdemeern.nl/event/huiskamer-van-de-wijk-3/2027-06-02/
LOCATION:Barzaal
ATTACH;FMTTYPE=image/jpeg:https://schalmdemeern.nl/wp-content/uploads/2026/01/huiskamer-van-de-wijk.jpg
ORGANIZER;CN="De Schalm":MAILTO:info@schalmdemeern.nl
END:VEVENT
BEGIN:VEVENT
DTSTART;TZID=UTC:20270604T100000
DTEND;TZID=UTC:20270604T140000
DTSTAMP:20260424T023148
CREATED:20251230T131152Z
LAST-MODIFIED:20260309T131703Z
UID:10000818-1812103200-1812117600@schalmdemeern.nl
SUMMARY:Haak & Brei Café
DESCRIPTION:
URL:https://schalmdemeern.nl/event/haak-brei-cafe/2027-06-04/
LOCATION:Barzaal
ORGANIZER;CN="De Schalm":MAILTO:info@schalmdemeern.nl
END:VEVENT
BEGIN:VEVENT
DTSTART;TZID=UTC:20270609T100000
DTEND;TZID=UTC:20270609T120000
DTSTAMP:20260424T023148
CREATED:20260105T120323Z
LAST-MODIFIED:20260105T120323Z
UID:10001079-1812535200-1812542400@schalmdemeern.nl
SUMMARY:Huiskamer van de Wijk
DESCRIPTION:Neem je buren of vrienden mee en kom gezellig langs voor een potje rummikub\, kaarten of een ander spelletje.
URL:https://schalmdemeern.nl/event/huiskamer-van-de-wijk-3/2027-06-09/
LOCATION:Barzaal
ATTACH;FMTTYPE=image/jpeg:https://schalmdemeern.nl/wp-content/uploads/2026/01/huiskamer-van-de-wijk.jpg
ORGANIZER;CN="De Schalm":MAILTO:info@schalmdemeern.nl
END:VEVENT
BEGIN:VEVENT
DTSTART;TZID=UTC:20270611T100000
DTEND;TZID=UTC:20270611T140000
DTSTAMP:20260424T023148
CREATED:20251230T131152Z
LAST-MODIFIED:20260309T131703Z
UID:10000819-1812708000-1812722400@schalmdemeern.nl
SUMMARY:Haak & Brei Café
DESCRIPTION:
URL:https://schalmdemeern.nl/event/haak-brei-cafe/2027-06-11/
LOCATION:Barzaal
ORGANIZER;CN="De Schalm":MAILTO:info@schalmdemeern.nl
END:VEVENT
BEGIN:VEVENT
DTSTART;TZID=UTC:20270616T100000
DTEND;TZID=UTC:20270616T120000
DTSTAMP:20260424T023148
CREATED:20260105T120323Z
LAST-MODIFIED:20260105T120323Z
UID:10001080-1813140000-1813147200@schalmdemeern.nl
SUMMARY:Huiskamer van de Wijk
DESCRIPTION:Neem je buren of vrienden mee en kom gezellig langs voor een potje rummikub\, kaarten of een ander spelletje.
URL:https://schalmdemeern.nl/event/huiskamer-van-de-wijk-3/2027-06-16/
LOCATION:Barzaal
ATTACH;FMTTYPE=image/jpeg:https://schalmdemeern.nl/wp-content/uploads/2026/01/huiskamer-van-de-wijk.jpg
ORGANIZER;CN="De Schalm":MAILTO:info@schalmdemeern.nl
END:VEVENT
BEGIN:VEVENT
DTSTART;TZID=UTC:20270618T100000
DTEND;TZID=UTC:20270618T140000
DTSTAMP:20260424T023148
CREATED:20251230T131152Z
LAST-MODIFIED:20260309T131703Z
UID:10000820-1813312800-1813327200@schalmdemeern.nl
SUMMARY:Haak & Brei Café
DESCRIPTION:
URL:https://schalmdemeern.nl/event/haak-brei-cafe/2027-06-18/
LOCATION:Barzaal
ORGANIZER;CN="De Schalm":MAILTO:info@schalmdemeern.nl
END:VEVENT
BEGIN:VEVENT
DTSTART;TZID=UTC:20270623T100000
DTEND;TZID=UTC:20270623T120000
DTSTAMP:20260424T023148
CREATED:20260105T120323Z
LAST-MODIFIED:20260105T120323Z
UID:10001081-1813744800-1813752000@schalmdemeern.nl
SUMMARY:Huiskamer van de Wijk
DESCRIPTION:Neem je buren of vrienden mee en kom gezellig langs voor een potje rummikub\, kaarten of een ander spelletje.
URL:https://schalmdemeern.nl/event/huiskamer-van-de-wijk-3/2027-06-23/
LOCATION:Barzaal
ATTACH;FMTTYPE=image/jpeg:https://schalmdemeern.nl/wp-content/uploads/2026/01/huiskamer-van-de-wijk.jpg
ORGANIZER;CN="De Schalm":MAILTO:info@schalmdemeern.nl
END:VEVENT
BEGIN:VEVENT
DTSTART;TZID=UTC:20270625T100000
DTEND;TZID=UTC:20270625T140000
DTSTAMP:20260424T023148
CREATED:20251230T131152Z
LAST-MODIFIED:20260309T131703Z
UID:10000821-1813917600-1813932000@schalmdemeern.nl
SUMMARY:Haak & Brei Café
DESCRIPTION:
URL:https://schalmdemeern.nl/event/haak-brei-cafe/2027-06-25/
LOCATION:Barzaal
ORGANIZER;CN="De Schalm":MAILTO:info@schalmdemeern.nl
END:VEVENT
BEGIN:VEVENT
DTSTART;TZID=UTC:20270630T100000
DTEND;TZID=UTC:20270630T120000
DTSTAMP:20260424T023148
CREATED:20260105T120323Z
LAST-MODIFIED:20260105T120323Z
UID:10001082-1814349600-1814356800@schalmdemeern.nl
SUMMARY:Huiskamer van de Wijk
DESCRIPTION:Neem je buren of vrienden mee en kom gezellig langs voor een potje rummikub\, kaarten of een ander spelletje.
URL:https://schalmdemeern.nl/event/huiskamer-van-de-wijk-3/2027-06-30/
LOCATION:Barzaal
ATTACH;FMTTYPE=image/jpeg:https://schalmdemeern.nl/wp-content/uploads/2026/01/huiskamer-van-de-wijk.jpg
ORGANIZER;CN="De Schalm":MAILTO:info@schalmdemeern.nl
END:VEVENT
BEGIN:VEVENT
DTSTART;TZID=UTC:20270702T100000
DTEND;TZID=UTC:20270702T140000
DTSTAMP:20260424T023148
CREATED:20251230T131152Z
LAST-MODIFIED:20260309T131703Z
UID:10000822-1814522400-1814536800@schalmdemeern.nl
SUMMARY:Haak & Brei Café
DESCRIPTION:
URL:https://schalmdemeern.nl/event/haak-brei-cafe/2027-07-02/
LOCATION:Barzaal
ORGANIZER;CN="De Schalm":MAILTO:info@schalmdemeern.nl
END:VEVENT
BEGIN:VEVENT
DTSTART;TZID=UTC:20270707T100000
DTEND;TZID=UTC:20270707T120000
DTSTAMP:20260424T023148
CREATED:20260105T120323Z
LAST-MODIFIED:20260105T120323Z
UID:10001083-1814954400-1814961600@schalmdemeern.nl
SUMMARY:Huiskamer van de Wijk
DESCRIPTION:Neem je buren of vrienden mee en kom gezellig langs voor een potje rummikub\, kaarten of een ander spelletje.
URL:https://schalmdemeern.nl/event/huiskamer-van-de-wijk-3/2027-07-07/
LOCATION:Barzaal
ATTACH;FMTTYPE=image/jpeg:https://schalmdemeern.nl/wp-content/uploads/2026/01/huiskamer-van-de-wijk.jpg
ORGANIZER;CN="De Schalm":MAILTO:info@schalmdemeern.nl
END:VEVENT
BEGIN:VEVENT
DTSTART;TZID=UTC:20270709T100000
DTEND;TZID=UTC:20270709T140000
DTSTAMP:20260424T023148
CREATED:20251230T131152Z
LAST-MODIFIED:20260309T131703Z
UID:10000823-1815127200-1815141600@schalmdemeern.nl
SUMMARY:Haak & Brei Café
DESCRIPTION:
URL:https://schalmdemeern.nl/event/haak-brei-cafe/2027-07-09/
LOCATION:Barzaal
ORGANIZER;CN="De Schalm":MAILTO:info@schalmdemeern.nl
END:VEVENT
BEGIN:VEVENT
DTSTART;TZID=UTC:20270714T100000
DTEND;TZID=UTC:20270714T120000
DTSTAMP:20260424T023148
CREATED:20260105T120323Z
LAST-MODIFIED:20260105T120323Z
UID:10001084-1815559200-1815566400@schalmdemeern.nl
SUMMARY:Huiskamer van de Wijk
DESCRIPTION:Neem je buren of vrienden mee en kom gezellig langs voor een potje rummikub\, kaarten of een ander spelletje.
URL:https://schalmdemeern.nl/event/huiskamer-van-de-wijk-3/2027-07-14/
LOCATION:Barzaal
ATTACH;FMTTYPE=image/jpeg:https://schalmdemeern.nl/wp-content/uploads/2026/01/huiskamer-van-de-wijk.jpg
ORGANIZER;CN="De Schalm":MAILTO:info@schalmdemeern.nl
END:VEVENT
BEGIN:VEVENT
DTSTART;TZID=UTC:20270716T100000
DTEND;TZID=UTC:20270716T140000
DTSTAMP:20260424T023148
CREATED:20251230T131152Z
LAST-MODIFIED:20260309T131703Z
UID:10000824-1815732000-1815746400@schalmdemeern.nl
SUMMARY:Haak & Brei Café
DESCRIPTION:
URL:https://schalmdemeern.nl/event/haak-brei-cafe/2027-07-16/
LOCATION:Barzaal
ORGANIZER;CN="De Schalm":MAILTO:info@schalmdemeern.nl
END:VEVENT
BEGIN:VEVENT
DTSTART;TZID=UTC:20270721T100000
DTEND;TZID=UTC:20270721T120000
DTSTAMP:20260424T023148
CREATED:20260105T120323Z
LAST-MODIFIED:20260105T120323Z
UID:10001085-1816164000-1816171200@schalmdemeern.nl
SUMMARY:Huiskamer van de Wijk
DESCRIPTION:Neem je buren of vrienden mee en kom gezellig langs voor een potje rummikub\, kaarten of een ander spelletje.
URL:https://schalmdemeern.nl/event/huiskamer-van-de-wijk-3/2027-07-21/
LOCATION:Barzaal
ATTACH;FMTTYPE=image/jpeg:https://schalmdemeern.nl/wp-content/uploads/2026/01/huiskamer-van-de-wijk.jpg
ORGANIZER;CN="De Schalm":MAILTO:info@schalmdemeern.nl
END:VEVENT
BEGIN:VEVENT
DTSTART;TZID=UTC:20270723T100000
DTEND;TZID=UTC:20270723T140000
DTSTAMP:20260424T023148
CREATED:20251230T131152Z
LAST-MODIFIED:20260309T131703Z
UID:10000825-1816336800-1816351200@schalmdemeern.nl
SUMMARY:Haak & Brei Café
DESCRIPTION:
URL:https://schalmdemeern.nl/event/haak-brei-cafe/2027-07-23/
LOCATION:Barzaal
ORGANIZER;CN="De Schalm":MAILTO:info@schalmdemeern.nl
END:VEVENT
BEGIN:VEVENT
DTSTART;TZID=UTC:20270728T100000
DTEND;TZID=UTC:20270728T120000
DTSTAMP:20260424T023148
CREATED:20260105T120323Z
LAST-MODIFIED:20260105T120323Z
UID:10001086-1816768800-1816776000@schalmdemeern.nl
SUMMARY:Huiskamer van de Wijk
DESCRIPTION:Neem je buren of vrienden mee en kom gezellig langs voor een potje rummikub\, kaarten of een ander spelletje.
URL:https://schalmdemeern.nl/event/huiskamer-van-de-wijk-3/2027-07-28/
LOCATION:Barzaal
ATTACH;FMTTYPE=image/jpeg:https://schalmdemeern.nl/wp-content/uploads/2026/01/huiskamer-van-de-wijk.jpg
ORGANIZER;CN="De Schalm":MAILTO:info@schalmdemeern.nl
END:VEVENT
BEGIN:VEVENT
DTSTART;TZID=UTC:20270730T100000
DTEND;TZID=UTC:20270730T140000
DTSTAMP:20260424T023148
CREATED:20251230T131152Z
LAST-MODIFIED:20260309T131703Z
UID:10000826-1816941600-1816956000@schalmdemeern.nl
SUMMARY:Haak & Brei Café
DESCRIPTION:
URL:https://schalmdemeern.nl/event/haak-brei-cafe/2027-07-30/
LOCATION:Barzaal
ORGANIZER;CN="De Schalm":MAILTO:info@schalmdemeern.nl
END:VEVENT
BEGIN:VEVENT
DTSTART;TZID=UTC:20270804T100000
DTEND;TZID=UTC:20270804T120000
DTSTAMP:20260424T023148
CREATED:20260105T120323Z
LAST-MODIFIED:20260105T120323Z
UID:10001087-1817373600-1817380800@schalmdemeern.nl
SUMMARY:Huiskamer van de Wijk
DESCRIPTION:Neem je buren of vrienden mee en kom gezellig langs voor een potje rummikub\, kaarten of een ander spelletje.
URL:https://schalmdemeern.nl/event/huiskamer-van-de-wijk-3/2027-08-04/
LOCATION:Barzaal
ATTACH;FMTTYPE=image/jpeg:https://schalmdemeern.nl/wp-content/uploads/2026/01/huiskamer-van-de-wijk.jpg
ORGANIZER;CN="De Schalm":MAILTO:info@schalmdemeern.nl
END:VEVENT
BEGIN:VEVENT
DTSTART;TZID=UTC:20270806T100000
DTEND;TZID=UTC:20270806T140000
DTSTAMP:20260424T023148
CREATED:20251230T131152Z
LAST-MODIFIED:20260309T131703Z
UID:10000827-1817546400-1817560800@schalmdemeern.nl
SUMMARY:Haak & Brei Café
DESCRIPTION:
URL:https://schalmdemeern.nl/event/haak-brei-cafe/2027-08-06/
LOCATION:Barzaal
ORGANIZER;CN="De Schalm":MAILTO:info@schalmdemeern.nl
END:VEVENT
BEGIN:VEVENT
DTSTART;TZID=UTC:20270811T100000
DTEND;TZID=UTC:20270811T120000
DTSTAMP:20260424T023148
CREATED:20260105T120323Z
LAST-MODIFIED:20260105T120323Z
UID:10001088-1817978400-1817985600@schalmdemeern.nl
SUMMARY:Huiskamer van de Wijk
DESCRIPTION:Neem je buren of vrienden mee en kom gezellig langs voor een potje rummikub\, kaarten of een ander spelletje.
URL:https://schalmdemeern.nl/event/huiskamer-van-de-wijk-3/2027-08-11/
LOCATION:Barzaal
ATTACH;FMTTYPE=image/jpeg:https://schalmdemeern.nl/wp-content/uploads/2026/01/huiskamer-van-de-wijk.jpg
ORGANIZER;CN="De Schalm":MAILTO:info@schalmdemeern.nl
END:VEVENT
BEGIN:VEVENT
DTSTART;TZID=UTC:20270813T100000
DTEND;TZID=UTC:20270813T140000
DTSTAMP:20260424T023148
CREATED:20251230T131152Z
LAST-MODIFIED:20260309T131703Z
UID:10000828-1818151200-1818165600@schalmdemeern.nl
SUMMARY:Haak & Brei Café
DESCRIPTION:
URL:https://schalmdemeern.nl/event/haak-brei-cafe/2027-08-13/
LOCATION:Barzaal
ORGANIZER;CN="De Schalm":MAILTO:info@schalmdemeern.nl
END:VEVENT
BEGIN:VEVENT
DTSTART;TZID=UTC:20270818T100000
DTEND;TZID=UTC:20270818T120000
DTSTAMP:20260424T023148
CREATED:20260105T120323Z
LAST-MODIFIED:20260105T120323Z
UID:10001089-1818583200-1818590400@schalmdemeern.nl
SUMMARY:Huiskamer van de Wijk
DESCRIPTION:Neem je buren of vrienden mee en kom gezellig langs voor een potje rummikub\, kaarten of een ander spelletje.
URL:https://schalmdemeern.nl/event/huiskamer-van-de-wijk-3/2027-08-18/
LOCATION:Barzaal
ATTACH;FMTTYPE=image/jpeg:https://schalmdemeern.nl/wp-content/uploads/2026/01/huiskamer-van-de-wijk.jpg
ORGANIZER;CN="De Schalm":MAILTO:info@schalmdemeern.nl
END:VEVENT
END:VCALENDAR